{"text_format":"1","workbook":"xlsx","n_sheets":6,"sheets":["はじめに出場選手の入力","男子","女子","男女リレー","申込書","混成の申込"],"not_rendered":{"charts":0,"images":0,"macros":1,"external_links":0,"defined_names":8,"comments":0,"pivot_tables":0},"unopened":[],"bounds":{"document_bytes":16777216,"sheet_cells":100000,"rows_first":2000,"rows_last":500,"rows_between":2000,"halvings":0,"cell_chars":16384,"cell_head_chars":4096},"cells_cut":0,"cells_raw":0,"read":"whole","date_system":"1900"}

{"sheet":"はじめに出場選手の入力","index":0,"n_rows":44,"n_cols":26,"rows_kept":44,"cut":false,"hidden":false,"merged":[[6,8,6,9],[6,10,6,12],[8,11,8,14],[7,10,7,11],[11,10,11,11]]}
["第",7,"回七尾城山記録会",null,null,null,null,"平成",30,"年度",null,null,null,null,null,null,null,null,null,null,null,null,null,{"$f":"+C1","v":"回七尾城山記録会"}]
[null,"一般　・　大学　・　小学生用申込用"]
[null,null,"所属名"]
[null,null,"県名","市町名","校名等","校種等"]
[null,null,null,null,null,null,null,null,null,null,"のセルに入力してください。"]
[null,null,"記入例",null,null,null,null,null,null,"※記入例は削除してから入力してください。"]
[null,null,"石川県","七尾市立","●●●","小学校",null,null,"団体名（学校名）",null,{"$f":"+D5&E5&F5","v":""}]
[null,null,"富山県",null,"■■■","大学",null,null,"電話番号"]
[null,null,"石川県",null,"▲▲AC","一般",null,null,"団体住所",null,"〒"]
[null,null,"富山県",null,"会社名等","一般",null,null,"所属長"]
[null,null,null,null,null,null,null,null,"責任者氏名"]
[null,null,null,null,null,null,null,null,"責任者TEL"]
[null,null,"男子","　　※胸ナンバーは若い順で入力してください。",null,null,null,null,null,"女子","　　※胸ナンバーは若い順で入力してください。"]
[null,"県名","№","選　手　名","所属","学年","難しい読み方の選手の読みがな",null,"県名","№","選　手　名","所属","学年","難しい読み方の選手の読みがな",null,null,null,null,null,null,null,null,null,{"$f":"IF(D14=\"\",\"\",IF(OR($F$5=\"一般\",$F$5=\"大学\",AND($F$5=\"小学校\",F14=3)),D14&\"■\",D14))","v":"選　手　名"},null,{"$f":"IF(K14=\"\",\"\",IF(OR($F$5=\"一般\",$F$5=\"大学\",AND($F$5=\"高等学校\",M14=3)),K14&\"■\",K14))","v":"選　手　名"}]
[1,{"$f":"IF(COUNT(C15:F15)<2,\"\",$C$5)","v":""},null,null,{"$f":"IF(COUNT(C15:D15)=0,\"\",$E$5&(LEFT($F$5,1)))","v":""},null,null,1,{"$f":"IF(COUNT(J15:M15)<2,\"\",$C$5)","v":""},null,"",{"$f":"IF(COUNT(J15:K15)=0,\"\",$E$5&(LEFT($F$5,1)))","v":""}]
[2,{"$f":"IF(COUNT(C16:F16)<2,\"\",$C$5)","v":""},null,"",{"$f":"IF(COUNT(C16:D16)=0,\"\",$E$5&(LEFT($F$5,1)))","v":""},null,null,2,{"$f":"IF(COUNT(J16:M16)<2,\"\",$C$5)","v":""},null,"",{"$f":"IF(COUNT(J16:K16)=0,\"\",$E$5&(LEFT($F$5,1)))","v":""}]
[3,"",null,"","",null,null,3,"",null,"",""]
[4,"",null,"","",null,null,4,"",null,"","",null,null,{"$f":"IF(COUNT(J18:K18)=0,\"\",1)","v":""}]
[5,"",null,"","",null,null,5,"",null,"",""]
[6,"",null,"","",null,null,6,"",null,"",""]
[7,"",null,"","",null,null,7,"",null,null,""]
[8,"",null,"","",null,null,8,"",null,"",""]
[9,"",null,"","",null,null,9,"",null,"",""]
[10,"",null,"","",null,null,10,"",null,"",""]
[11,"",null,"","",null,null,11,"",null,"",""]
[12,"",null,"","",null,null,12,"",null,"",""]
[13,"",null,"","",null,null,13,"",null,"",""]
[14,"",null,"","",null,null,14,"",null,"",""]
[15,"",null,"","",null,null,15,"",null,"",""]
[16,"",null,"","",null,null,16,"",null,"",""]
[17,"",null,"","",null,null,17,"",null,"",""]
[18,"",null,"","",null,null,18,"",null,"",""]
[19,"",null,"","",null,null,19,"",null,"",""]
[20,"",null,"","",null,null,20,"",null,"",""]
[21,"",null,"","",null,null,21,"",null,"",""]
[22,"",null,"","",null,null,22,"",null,"",""]
[23,"",null,"","",null,null,23,"",null,"",""]
[24,"",null,"","",null,null,24,"",null,"",""]
[25,"",null,"","",null,null,25,"",null,"",""]
[26,"",null,"","",null,null,26,"",null,"",""]
[27,"",null,"","",null,null,27,"",null,"",""]
[28,"",null,"","",null,null,28,"",null,"",""]
[29,"",null,"","",null,null,29,"",null,"",""]
[30,"",null,"","",null,null,30,"",null,"",""]

{"sheet":"男子","index":1,"n_rows":67,"n_cols":23,"rows_kept":67,"cut":false,"hidden":false,"merged":[[0,2,1,2],[37,17,38,19],[41,17,42,19],[2,6,2,18],[12,22,14,22],[18,22,22,22],[1,22,3,22]]}
[null,null,"男子",null,null,null,"※自己記録または　「なし」　を入力しないとエントリーできません。"]
[null,null,null,null,null,null,null,null,null,null,null,null,null,null,null,null,null,null,null,null,null,null,"関数の入っているセルは\n入力しないでください。"]
[null,null,"トラック申し込み",null,null,null,"記入例を削除して、出場種目の欄に自己記録を入力。記録がない場合は　「なし」　を入力。"]
["no.","県名","ﾅﾝﾊﾞｰ","選　手　名","所属","学年","100m","200m","400m","800m","1500m","3000m","5000m","110mH","400mH","3000W","5000W","80mH","110JH",null,"エントリー数"]
[1,{"$f":"IF(はじめに出場選手の入力!B15=\"\",\"\",はじめに出場選手の入力!B15)","v":""},{"$f":"IF(はじめに出場選手の入力!C15=\"\",\"\",はじめに出場選手の入力!C15)","v":""},{"$f":"IF(はじめに出場選手の入力!D15=\"\",\"\",はじめに出場選手の入力!D15)","v":""},{"$f":"IF(はじめに出場選手の入力!E15=\"\",\"\",はじめに出場選手の入力!E15)","v":""},{"$f":"IF(はじめに出場選手の入力!F15=\"\",\"\",はじめに出場選手の入力!F15)","v":""},null,null,null,null,null,null,null,null,null,null,null,null,null,null,{"$f":"COUNTA(G5:S5)","v":0}]
[2,{"$f":"IF(はじめに出場選手の入力!B16=\"\",\"\",はじめに出場選手の入力!B16)","v":""},{"$f":"IF(はじめに出場選手の入力!C16=\"\",\"\",はじめに出場選手の入力!C16)","v":""},{"$f":"IF(はじめに出場選手の入力!D16=\"\",\"\",はじめに出場選手の入力!D16)","v":""},{"$f":"IF(はじめに出場選手の入力!E16=\"\",\"\",はじめに出場選手の入力!E16)","v":""},{"$f":"IF(はじめに出場選手の入力!F16=\"\",\"\",はじめに出場選手の入力!F16)","v":""},null,null,null,null,null,null,null,null,null,null,null,null,null,null,{"$f":"COUNTA(G6:S6)","v":0}]
[3,{"$f":"IF(はじめに出場選手の入力!B17=\"\",\"\",はじめに出場選手の入力!B17)","v":""},{"$f":"IF(はじめに出場選手の入力!C17=\"\",\"\",はじめに出場選手の入力!C17)","v":""},{"$f":"IF(はじめに出場選手の入力!D17=\"\",\"\",はじめに出場選手の入力!D17)","v":""},{"$f":"IF(はじめに出場選手の入力!E17=\"\",\"\",はじめに出場選手の入力!E17)","v":""},{"$f":"IF(はじめに出場選手の入力!F17=\"\",\"\",はじめに出場選手の入力!F17)","v":""},null,null,null,null,null,null,null,null,null,null,null,null,null,null,0]
[4,{"$f":"IF(はじめに出場選手の入力!B18=\"\",\"\",はじめに出場選手の入力!B18)","v":""},{"$f":"IF(はじめに出場選手の入力!C18=\"\",\"\",はじめに出場選手の入力!C18)","v":""},{"$f":"IF(はじめに出場選手の入力!D18=\"\",\"\",はじめに出場選手の入力!D18)","v":""},{"$f":"IF(はじめに出場選手の入力!E18=\"\",\"\",はじめに出場選手の入力!E18)","v":""},{"$f":"IF(はじめに出場選手の入力!F18=\"\",\"\",はじめに出場選手の入力!F18)","v":""},null,null,null,null,null,null,null,null,null,null,null,null,null,null,0]
[5,{"$f":"IF(はじめに出場選手の入力!B19=\"\",\"\",はじめに出場選手の入力!B19)","v":""},{"$f":"IF(はじめに出場選手の入力!C19=\"\",\"\",はじめに出場選手の入力!C19)","v":""},{"$f":"IF(はじめに出場選手の入力!D19=\"\",\"\",はじめに出場選手の入力!D19)","v":""},{"$f":"IF(はじめに出場選手の入力!E19=\"\",\"\",はじめに出場選手の入力!E19)","v":""},{"$f":"IF(はじめに出場選手の入力!F19=\"\",\"\",はじめに出場選手の入力!F19)","v":""},null,null,null,null,null,null,null,null,null,null,null,null,null,null,0,null,"自己記録の入力方法"]
[6,{"$f":"IF(はじめに出場選手の入力!B20=\"\",\"\",はじめに出場選手の入力!B20)","v":""},{"$f":"IF(はじめに出場選手の入力!C20=\"\",\"\",はじめに出場選手の入力!C20)","v":""},{"$f":"IF(はじめに出場選手の入力!D20=\"\",\"\",はじめに出場選手の入力!D20)","v":""},{"$f":"IF(はじめに出場選手の入力!E20=\"\",\"\",はじめに出場選手の入力!E20)","v":""},{"$f":"IF(はじめに出場選手の入力!F20=\"\",\"\",はじめに出場選手の入力!F20)","v":""},null,null,null,null,null,null,null,null,null,null,null,null,null,null,0,null,"記入例"]
[7,{"$f":"IF(はじめに出場選手の入力!B21=\"\",\"\",はじめに出場選手の入力!B21)","v":""},{"$f":"IF(はじめに出場選手の入力!C21=\"\",\"\",はじめに出場選手の入力!C21)","v":""},{"$f":"IF(はじめに出場選手の入力!D21=\"\",\"\",はじめに出場選手の入力!D21)","v":""},{"$f":"IF(はじめに出場選手の入力!E21=\"\",\"\",はじめに出場選手の入力!E21)","v":""},{"$f":"IF(はじめに出場選手の入力!F21=\"\",\"\",はじめに出場選手の入力!F21)","v":""},null,null,null,null,null,null,null,null,null,null,null,null,null,null,0,null,"１２秒３０　→　1230"]
[8,{"$f":"IF(はじめに出場選手の入力!B22=\"\",\"\",はじめに出場選手の入力!B22)","v":""},{"$f":"IF(はじめに出場選手の入力!C22=\"\",\"\",はじめに出場選手の入力!C22)","v":""},{"$f":"IF(はじめに出場選手の入力!D22=\"\",\"\",はじめに出場選手の入力!D22)","v":""},{"$f":"IF(はじめに出場選手の入力!E22=\"\",\"\",はじめに出場選手の入力!E22)","v":""},{"$f":"IF(はじめに出場選手の入力!F22=\"\",\"\",はじめに出場選手の入力!F22)","v":""},null,null,null,null,null,null,null,null,null,null,null,null,null,null,0,null,"１分２秒３４　→　10234"]
[9,{"$f":"IF(はじめに出場選手の入力!B23=\"\",\"\",はじめに出場選手の入力!B23)","v":""},{"$f":"IF(はじめに出場選手の入力!C23=\"\",\"\",はじめに出場選手の入力!C23)","v":""},{"$f":"IF(はじめに出場選手の入力!D23=\"\",\"\",はじめに出場選手の入力!D23)","v":""},{"$f":"IF(はじめに出場選手の入力!E23=\"\",\"\",はじめに出場選手の入力!E23)","v":""},{"$f":"IF(はじめに出場選手の入力!F23=\"\",\"\",はじめに出場選手の入力!F23)","v":""},null,null,null,null,null,null,null,null,null,null,null,null,null,null,0,null,"注意：手動記録しかない場合も１００分の１秒まで記入する。"]
[10,{"$f":"IF(はじめに出場選手の入力!B24=\"\",\"\",はじめに出場選手の入力!B24)","v":""},{"$f":"IF(はじめに出場選手の入力!C24=\"\",\"\",はじめに出場選手の入力!C24)","v":""},{"$f":"IF(はじめに出場選手の入力!D24=\"\",\"\",はじめに出場選手の入力!D24)","v":""},{"$f":"IF(はじめに出場選手の入力!E24=\"\",\"\",はじめに出場選手の入力!E24)","v":""},{"$f":"IF(はじめに出場選手の入力!F24=\"\",\"\",はじめに出場選手の入力!F24)","v":""},null,null,null,null,null,null,null,null,null,null,null,null,null,null,0]
[11,{"$f":"IF(はじめに出場選手の入力!B25=\"\",\"\",はじめに出場選手の入力!B25)","v":""},{"$f":"IF(はじめに出場選手の入力!C25=\"\",\"\",はじめに出場選手の入力!C25)","v":""},{"$f":"IF(はじめに出場選手の入力!D25=\"\",\"\",はじめに出場選手の入力!D25)","v":""},{"$f":"IF(はじめに出場選手の入力!E25=\"\",\"\",はじめに出場選手の入力!E25)","v":""},{"$f":"IF(はじめに出場選手の入力!F25=\"\",\"\",はじめに出場選手の入力!F25)","v":""},null,null,null,null,null,null,null,null,null,null,null,null,null,null,0]
[12,{"$f":"IF(はじめに出場選手の入力!B26=\"\",\"\",はじめに出場選手の入力!B26)","v":""},{"$f":"IF(はじめに出場選手の入力!C26=\"\",\"\",はじめに出場選手の入力!C26)","v":""},{"$f":"IF(はじめに出場選手の入力!D26=\"\",\"\",はじめに出場選手の入力!D26)","v":""},{"$f":"IF(はじめに出場選手の入力!E26=\"\",\"\",はじめに出場選手の入力!E26)","v":""},{"$f":"IF(はじめに出場選手の入力!F26=\"\",\"\",はじめに出場選手の入力!F26)","v":""},null,null,null,null,null,null,null,null,null,null,null,null,null,null,0,null,"１ｍ７５　→　175"]
[13,{"$f":"IF(はじめに出場選手の入力!B27=\"\",\"\",はじめに出場選手の入力!B27)","v":""},{"$f":"IF(はじめに出場選手の入力!C27=\"\",\"\",はじめに出場選手の入力!C27)","v":""},{"$f":"IF(はじめに出場選手の入力!D27=\"\",\"\",はじめに出場選手の入力!D27)","v":""},{"$f":"IF(はじめに出場選手の入力!E27=\"\",\"\",はじめに出場選手の入力!E27)","v":""},{"$f":"IF(はじめに出場選手の入力!F27=\"\",\"\",はじめに出場選手の入力!F27)","v":""},null,null,null,null,null,null,null,null,null,null,null,null,null,null,0,null,"３４ｍ５６　→　3456"]
[14,{"$f":"IF(はじめに出場選手の入力!B28=\"\",\"\",はじめに出場選手の入力!B28)","v":""},{"$f":"IF(はじめに出場選手の入力!C28=\"\",\"\",はじめに出場選手の入力!C28)","v":""},{"$f":"IF(はじめに出場選手の入力!D28=\"\",\"\",はじめに出場選手の入力!D28)","v":""},{"$f":"IF(はじめに出場選手の入力!E28=\"\",\"\",はじめに出場選手の入力!E28)","v":""},{"$f":"IF(はじめに出場選手の入力!F28=\"\",\"\",はじめに出場選手の入力!F28)","v":""},null,null,null,null,null,null,null,null,null,null,null,null,null,null,0]
[15,{"$f":"IF(はじめに出場選手の入力!B29=\"\",\"\",はじめに出場選手の入力!B29)","v":""},{"$f":"IF(はじめに出場選手の入力!C29=\"\",\"\",はじめに出場選手の入力!C29)","v":""},{"$f":"IF(はじめに出場選手の入力!D29=\"\",\"\",はじめに出場選手の入力!D29)","v":""},{"$f":"IF(はじめに出場選手の入力!E29=\"\",\"\",はじめに出場選手の入力!E29)","v":""},{"$f":"IF(はじめに出場選手の入力!F29=\"\",\"\",はじめに出場選手の入力!F29)","v":""},null,null,null,null,null,null,null,null,null,null,null,null,null,null,0,null,"※入力は半角数字で入力する。記録がない場合は　「なし」　または　目標記録を入力する。"]
[16,{"$f":"IF(はじめに出場選手の入力!B30=\"\",\"\",はじめに出場選手の入力!B30)","v":""},{"$f":"IF(はじめに出場選手の入力!C30=\"\",\"\",はじめに出場選手の入力!C30)","v":""},{"$f":"IF(はじめに出場選手の入力!D30=\"\",\"\",はじめに出場選手の入力!D30)","v":""},{"$f":"IF(はじめに出場選手の入力!E30=\"\",\"\",はじめに出場選手の入力!E30)","v":""},{"$f":"IF(はじめに出場選手の入力!F30=\"\",\"\",はじめに出場選手の入力!F30)","v":""},null,null,null,null,null,null,null,null,null,null,null,null,null,null,0]
[17,{"$f":"IF(はじめに出場選手の入力!B31=\"\",\"\",はじめに出場選手の入力!B31)","v":""},{"$f":"IF(はじめに出場選手の入力!C31=\"\",\"\",はじめに出場選手の入力!C31)","v":""},{"$f":"IF(はじめに出場選手の入力!D31=\"\",\"\",はじめに出場選手の入力!D31)","v":""},{"$f":"IF(はじめに出場選手の入力!E31=\"\",\"\",はじめに出場選手の入力!E31)","v":""},{"$f":"IF(はじめに出場選手の入力!F31=\"\",\"\",はじめに出場選手の入力!F31)","v":""},null,null,null,null,null,null,null,null,null,null,null,null,null,null,0]
[18,{"$f":"IF(はじめに出場選手の入力!B32=\"\",\"\",はじめに出場選手の入力!B32)","v":""},{"$f":"IF(はじめに出場選手の入力!C32=\"\",\"\",はじめに出場選手の入力!C32)","v":""},{"$f":"IF(はじめに出場選手の入力!D32=\"\",\"\",はじめに出場選手の入力!D32)","v":""},{"$f":"IF(はじめに出場選手の入力!E32=\"\",\"\",はじめに出場選手の入力!E32)","v":""},{"$f":"IF(はじめに出場選手の入力!F32=\"\",\"\",はじめに出場選手の入力!F32)","v":""},null,null,null,null,null,null,null,null,null,null,null,null,null,null,0]
[19,{"$f":"IF(はじめに出場選手の入力!B33=\"\",\"\",はじめに出場選手の入力!B33)","v":""},{"$f":"IF(はじめに出場選手の入力!C33=\"\",\"\",はじめに出場選手の入力!C33)","v":""},{"$f":"IF(はじめに出場選手の入力!D33=\"\",\"\",はじめに出場選手の入力!D33)","v":""},{"$f":"IF(はじめに出場選手の入力!E33=\"\",\"\",はじめに出場選手の入力!E33)","v":""},{"$f":"IF(はじめに出場選手の入力!F33=\"\",\"\",はじめに出場選手の入力!F33)","v":""},null,null,null,null,null,null,null,null,null,null,null,null,null,null,0]
[20,{"$f":"IF(はじめに出場選手の入力!B34=\"\",\"\",はじめに出場選手の入力!B34)","v":""},{"$f":"IF(はじめに出場選手の入力!C34=\"\",\"\",はじめに出場選手の入力!C34)","v":""},{"$f":"IF(はじめに出場選手の入力!D34=\"\",\"\",はじめに出場選手の入力!D34)","v":""},{"$f":"IF(はじめに出場選手の入力!E34=\"\",\"\",はじめに出場選手の入力!E34)","v":""},{"$f":"IF(はじめに出場選手の入力!F34=\"\",\"\",はじめに出場選手の入力!F34)","v":""},null,null,null,null,null,null,null,null,null,null,null,null,null,null,0]
[21,{"$f":"IF(はじめに出場選手の入力!B35=\"\",\"\",はじめに出場選手の入力!B35)","v":""},{"$f":"IF(はじめに出場選手の入力!C35=\"\",\"\",はじめに出場選手の入力!C35)","v":""},{"$f":"IF(はじめに出場選手の入力!D35=\"\",\"\",はじめに出場選手の入力!D35)","v":""},{"$f":"IF(はじめに出場選手の入力!E35=\"\",\"\",はじめに出場選手の入力!E35)","v":""},{"$f":"IF(はじめに出場選手の入力!F35=\"\",\"\",はじめに出場選手の入力!F35)","v":""},null,null,null,null,null,null,null,null,null,null,null,null,null,null,0]
[22,{"$f":"IF(はじめに出場選手の入力!B36=\"\",\"\",はじめに出場選手の入力!B36)","v":""},{"$f":"IF(はじめに出場選手の入力!C36=\"\",\"\",はじめに出場選手の入力!C36)","v":""},{"$f":"IF(はじめに出場選手の入力!D36=\"\",\"\",はじめに出場選手の入力!D36)","v":""},{"$f":"IF(はじめに出場選手の入力!E36=\"\",\"\",はじめに出場選手の入力!E36)","v":""},{"$f":"IF(はじめに出場選手の入力!F36=\"\",\"\",はじめに出場選手の入力!F36)","v":""},null,null,null,null,null,null,null,null,null,null,null,null,null,null,0]
[23,{"$f":"IF(はじめに出場選手の入力!B37=\"\",\"\",はじめに出場選手の入力!B37)","v":""},{"$f":"IF(はじめに出場選手の入力!C37=\"\",\"\",はじめに出場選手の入力!C37)","v":""},{"$f":"IF(はじめに出場選手の入力!D37=\"\",\"\",はじめに出場選手の入力!D37)","v":""},{"$f":"IF(はじめに出場選手の入力!E37=\"\",\"\",はじめに出場選手の入力!E37)","v":""},{"$f":"IF(はじめに出場選手の入力!F37=\"\",\"\",はじめに出場選手の入力!F37)","v":""},null,null,null,null,null,null,null,null,null,null,null,null,null,null,0]
[24,{"$f":"IF(はじめに出場選手の入力!B38=\"\",\"\",はじめに出場選手の入力!B38)","v":""},{"$f":"IF(はじめに出場選手の入力!C38=\"\",\"\",はじめに出場選手の入力!C38)","v":""},{"$f":"IF(はじめに出場選手の入力!D38=\"\",\"\",はじめに出場選手の入力!D38)","v":""},{"$f":"IF(はじめに出場選手の入力!E38=\"\",\"\",はじめに出場選手の入力!E38)","v":""},{"$f":"IF(はじめに出場選手の入力!F38=\"\",\"\",はじめに出場選手の入力!F38)","v":""},null,null,null,null,null,null,null,null,null,null,null,null,null,null,0]
[25,{"$f":"IF(はじめに出場選手の入力!B39=\"\",\"\",はじめに出場選手の入力!B39)","v":""},{"$f":"IF(はじめに出場選手の入力!C39=\"\",\"\",はじめに出場選手の入力!C39)","v":""},{"$f":"IF(はじめに出場選手の入力!D39=\"\",\"\",はじめに出場選手の入力!D39)","v":""},{"$f":"IF(はじめに出場選手の入力!E39=\"\",\"\",はじめに出場選手の入力!E39)","v":""},{"$f":"IF(はじめに出場選手の入力!F39=\"\",\"\",はじめに出場選手の入力!F39)","v":""},null,null,null,null,null,null,null,null,null,null,null,null,null,null,0]
[26,{"$f":"IF(はじめに出場選手の入力!B40=\"\",\"\",はじめに出場選手の入力!B40)","v":""},{"$f":"IF(はじめに出場選手の入力!C40=\"\",\"\",はじめに出場選手の入力!C40)","v":""},{"$f":"IF(はじめに出場選手の入力!D40=\"\",\"\",はじめに出場選手の入力!D40)","v":""},{"$f":"IF(はじめに出場選手の入力!E40=\"\",\"\",はじめに出場選手の入力!E40)","v":""},{"$f":"IF(はじめに出場選手の入力!F40=\"\",\"\",はじめに出場選手の入力!F40)","v":""},null,null,null,null,null,null,null,null,null,null,null,null,null,null,0]
[27,{"$f":"IF(はじめに出場選手の入力!B41=\"\",\"\",はじめに出場選手の入力!B41)","v":""},{"$f":"IF(はじめに出場選手の入力!C41=\"\",\"\",はじめに出場選手の入力!C41)","v":""},{"$f":"IF(はじめに出場選手の入力!D41=\"\",\"\",はじめに出場選手の入力!D41)","v":""},{"$f":"IF(はじめに出場選手の入力!E41=\"\",\"\",はじめに出場選手の入力!E41)","v":""},{"$f":"IF(はじめに出場選手の入力!F41=\"\",\"\",はじめに出場選手の入力!F41)","v":""},null,null,null,null,null,null,null,null,null,null,null,null,null,null,0]
[28,{"$f":"IF(はじめに出場選手の入力!B42=\"\",\"\",はじめに出場選手の入力!B42)","v":""},{"$f":"IF(はじめに出場選手の入力!C42=\"\",\"\",はじめに出場選手の入力!C42)","v":""},{"$f":"IF(はじめに出場選手の入力!D42=\"\",\"\",はじめに出場選手の入力!D42)","v":""},{"$f":"IF(はじめに出場選手の入力!E42=\"\",\"\",はじめに出場選手の入力!E42)","v":""},{"$f":"IF(はじめに出場選手の入力!F42=\"\",\"\",はじめに出場選手の入力!F42)","v":""},null,null,null,null,null,null,null,null,null,null,null,null,null,null,0]
[29,{"$f":"IF(はじめに出場選手の入力!B43=\"\",\"\",はじめに出場選手の入力!B43)","v":""},{"$f":"IF(はじめに出場選手の入力!C43=\"\",\"\",はじめに出場選手の入力!C43)","v":""},{"$f":"IF(はじめに出場選手の入力!D43=\"\",\"\",はじめに出場選手の入力!D43)","v":""},{"$f":"IF(はじめに出場選手の入力!E43=\"\",\"\",はじめに出場選手の入力!E43)","v":""},{"$f":"IF(はじめに出場選手の入力!F43=\"\",\"\",はじめに出場選手の入力!F43)","v":""},null,null,null,null,null,null,null,null,null,null,null,null,null,null,0]
[30,{"$f":"IF(はじめに出場選手の入力!B44=\"\",\"\",はじめに出場選手の入力!B44)","v":""},{"$f":"IF(はじめに出場選手の入力!C44=\"\",\"\",はじめに出場選手の入力!C44)","v":""},{"$f":"IF(はじめに出場選手の入力!D44=\"\",\"\",はじめに出場選手の入力!D44)","v":""},{"$f":"IF(はじめに出場選手の入力!E44=\"\",\"\",はじめに出場選手の入力!E44)","v":""},{"$f":"IF(はじめに出場選手の入力!F44=\"\",\"\",はじめに出場選手の入力!F44)","v":""},null,null,null,null,null,null,null,null,null,null,null,null,null,null,0]
[]
[null,null,"フィールド申し込み",null,null,null,"記入例を削除して、出場種目の欄に自己記録を入力。記録がない場合は　「なし」　を入力。"]
["no.","県名","ﾅﾝﾊﾞｰ","選　手　名","所属","学年","走高跳","棒高跳","走幅跳","三段跳","砲丸投","円盤投","ﾊﾝﾏｰ投","槍投・ジャ",null,"エントリー数",null,"男子トラック種目エントリー数"]
[1,{"$f":"IF(はじめに出場選手の入力!B15=\"\",\"\",はじめに出場選手の入力!B15)","v":""},{"$f":"IF(はじめに出場選手の入力!C15=\"\",\"\",はじめに出場選手の入力!C15)","v":""},{"$f":"IF(はじめに出場選手の入力!D15=\"\",\"\",はじめに出場選手の入力!D15)","v":""},{"$f":"IF(はじめに出場選手の入力!E15=\"\",\"\",はじめに出場選手の入力!E15)","v":""},{"$f":"IF(はじめに出場選手の入力!F15=\"\",\"\",はじめに出場選手の入力!F15)","v":""},null,null,null,null,null,null,null,null,null,{"$f":"COUNTA(G38:N38)","v":0},null,{"$f":"SUM(U5:U34)","v":0}]
[2,{"$f":"IF(はじめに出場選手の入力!B16=\"\",\"\",はじめに出場選手の入力!B16)","v":""},{"$f":"IF(はじめに出場選手の入力!C16=\"\",\"\",はじめに出場選手の入力!C16)","v":""},{"$f":"IF(はじめに出場選手の入力!D16=\"\",\"\",はじめに出場選手の入力!D16)","v":""},{"$f":"IF(はじめに出場選手の入力!E16=\"\",\"\",はじめに出場選手の入力!E16)","v":""},{"$f":"IF(はじめに出場選手の入力!F16=\"\",\"\",はじめに出場選手の入力!F16)","v":""},null,null,null,null,null,null,null,null,null,0]
[3,{"$f":"IF(はじめに出場選手の入力!B17=\"\",\"\",はじめに出場選手の入力!B17)","v":""},{"$f":"IF(はじめに出場選手の入力!C17=\"\",\"\",はじめに出場選手の入力!C17)","v":""},{"$f":"IF(はじめに出場選手の入力!D17=\"\",\"\",はじめに出場選手の入力!D17)","v":""},{"$f":"IF(はじめに出場選手の入力!E17=\"\",\"\",はじめに出場選手の入力!E17)","v":""},{"$f":"IF(はじめに出場選手の入力!F17=\"\",\"\",はじめに出場選手の入力!F17)","v":""},null,null,null,null,null,null,null,null,null,0]
[4,{"$f":"IF(はじめに出場選手の入力!B18=\"\",\"\",はじめに出場選手の入力!B18)","v":""},{"$f":"IF(はじめに出場選手の入力!C18=\"\",\"\",はじめに出場選手の入力!C18)","v":""},{"$f":"IF(はじめに出場選手の入力!D18=\"\",\"\",はじめに出場選手の入力!D18)","v":""},{"$f":"IF(はじめに出場選手の入力!E18=\"\",\"\",はじめに出場選手の入力!E18)","v":""},{"$f":"IF(はじめに出場選手の入力!F18=\"\",\"\",はじめに出場選手の入力!F18)","v":""},null,null,null,null,null,null,null,null,null,0,null,"男子フィールド種目エントリー数"]
[5,{"$f":"IF(はじめに出場選手の入力!B19=\"\",\"\",はじめに出場選手の入力!B19)","v":""},{"$f":"IF(はじめに出場選手の入力!C19=\"\",\"\",はじめに出場選手の入力!C19)","v":""},{"$f":"IF(はじめに出場選手の入力!D19=\"\",\"\",はじめに出場選手の入力!D19)","v":""},{"$f":"IF(はじめに出場選手の入力!E19=\"\",\"\",はじめに出場選手の入力!E19)","v":""},{"$f":"IF(はじめに出場選手の入力!F19=\"\",\"\",はじめに出場選手の入力!F19)","v":""},null,null,null,null,null,null,null,null,null,0,null,{"$f":"SUM(P38:P67)","v":0}]
[6,{"$f":"IF(はじめに出場選手の入力!B20=\"\",\"\",はじめに出場選手の入力!B20)","v":""},{"$f":"IF(はじめに出場選手の入力!C20=\"\",\"\",はじめに出場選手の入力!C20)","v":""},{"$f":"IF(はじめに出場選手の入力!D20=\"\",\"\",はじめに出場選手の入力!D20)","v":""},{"$f":"IF(はじめに出場選手の入力!E20=\"\",\"\",はじめに出場選手の入力!E20)","v":""},{"$f":"IF(はじめに出場選手の入力!F20=\"\",\"\",はじめに出場選手の入力!F20)","v":""},null,null,null,null,null,null,null,null,null,0]
[7,{"$f":"IF(はじめに出場選手の入力!B21=\"\",\"\",はじめに出場選手の入力!B21)","v":""},{"$f":"IF(はじめに出場選手の入力!C21=\"\",\"\",はじめに出場選手の入力!C21)","v":""},{"$f":"IF(はじめに出場選手の入力!D21=\"\",\"\",はじめに出場選手の入力!D21)","v":""},{"$f":"IF(はじめに出場選手の入力!E21=\"\",\"\",はじめに出場選手の入力!E21)","v":""},{"$f":"IF(はじめに出場選手の入力!F21=\"\",\"\",はじめに出場選手の入力!F21)","v":""},null,null,null,null,null,null,null,null,null,0]
[8,{"$f":"IF(はじめに出場選手の入力!B22=\"\",\"\",はじめに出場選手の入力!B22)","v":""},{"$f":"IF(はじめに出場選手の入力!C22=\"\",\"\",はじめに出場選手の入力!C22)","v":""},{"$f":"IF(はじめに出場選手の入力!D22=\"\",\"\",はじめに出場選手の入力!D22)","v":""},{"$f":"IF(はじめに出場選手の入力!E22=\"\",\"\",はじめに出場選手の入力!E22)","v":""},{"$f":"IF(はじめに出場選手の入力!F22=\"\",\"\",はじめに出場選手の入力!F22)","v":""},null,null,null,null,null,null,null,null,null,0]
[9,{"$f":"IF(はじめに出場選手の入力!B23=\"\",\"\",はじめに出場選手の入力!B23)","v":""},{"$f":"IF(はじめに出場選手の入力!C23=\"\",\"\",はじめに出場選手の入力!C23)","v":""},{"$f":"IF(はじめに出場選手の入力!D23=\"\",\"\",はじめに出場選手の入力!D23)","v":""},{"$f":"IF(はじめに出場選手の入力!E23=\"\",\"\",はじめに出場選手の入力!E23)","v":""},{"$f":"IF(はじめに出場選手の入力!F23=\"\",\"\",はじめに出場選手の入力!F23)","v":""},null,null,null,null,null,null,null,null,null,0]
[10,{"$f":"IF(はじめに出場選手の入力!B24=\"\",\"\",はじめに出場選手の入力!B24)","v":""},{"$f":"IF(はじめに出場選手の入力!C24=\"\",\"\",はじめに出場選手の入力!C24)","v":""},{"$f":"IF(はじめに出場選手の入力!D24=\"\",\"\",はじめに出場選手の入力!D24)","v":""},{"$f":"IF(はじめに出場選手の入力!E24=\"\",\"\",はじめに出場選手の入力!E24)","v":""},{"$f":"IF(はじめに出場選手の入力!F24=\"\",\"\",はじめに出場選手の入力!F24)","v":""},null,null,null,null,null,null,null,null,null,0]
[11,{"$f":"IF(はじめに出場選手の入力!B25=\"\",\"\",はじめに出場選手の入力!B25)","v":""},{"$f":"IF(はじめに出場選手の入力!C25=\"\",\"\",はじめに出場選手の入力!C25)","v":""},{"$f":"IF(はじめに出場選手の入力!D25=\"\",\"\",はじめに出場選手の入力!D25)","v":""},{"$f":"IF(はじめに出場選手の入力!E25=\"\",\"\",はじめに出場選手の入力!E25)","v":""},{"$f":"IF(はじめに出場選手の入力!F25=\"\",\"\",はじめに出場選手の入力!F25)","v":""},null,null,null,null,null,null,null,null,null,0]
[12,{"$f":"IF(はじめに出場選手の入力!B26=\"\",\"\",はじめに出場選手の入力!B26)","v":""},{"$f":"IF(はじめに出場選手の入力!C26=\"\",\"\",はじめに出場選手の入力!C26)","v":""},{"$f":"IF(はじめに出場選手の入力!D26=\"\",\"\",はじめに出場選手の入力!D26)","v":""},{"$f":"IF(はじめに出場選手の入力!E26=\"\",\"\",はじめに出場選手の入力!E26)","v":""},{"$f":"IF(はじめに出場選手の入力!F26=\"\",\"\",はじめに出場選手の入力!F26)","v":""},null,null,null,null,null,null,null,null,null,0]
[13,{"$f":"IF(はじめに出場選手の入力!B27=\"\",\"\",はじめに出場選手の入力!B27)","v":""},{"$f":"IF(はじめに出場選手の入力!C27=\"\",\"\",はじめに出場選手の入力!C27)","v":""},{"$f":"IF(はじめに出場選手の入力!D27=\"\",\"\",はじめに出場選手の入力!D27)","v":""},{"$f":"IF(はじめに出場選手の入力!E27=\"\",\"\",はじめに出場選手の入力!E27)","v":""},{"$f":"IF(はじめに出場選手の入力!F27=\"\",\"\",はじめに出場選手の入力!F27)","v":""},null,null,null,null,null,null,null,null,null,0]
[14,{"$f":"IF(はじめに出場選手の入力!B28=\"\",\"\",はじめに出場選手の入力!B28)","v":""},{"$f":"IF(はじめに出場選手の入力!C28=\"\",\"\",はじめに出場選手の入力!C28)","v":""},{"$f":"IF(はじめに出場選手の入力!D28=\"\",\"\",はじめに出場選手の入力!D28)","v":""},{"$f":"IF(はじめに出場選手の入力!E28=\"\",\"\",はじめに出場選手の入力!E28)","v":""},{"$f":"IF(はじめに出場選手の入力!F28=\"\",\"\",はじめに出場選手の入力!F28)","v":""},null,null,null,null,null,null,null,null,null,0]
[15,{"$f":"IF(はじめに出場選手の入力!B29=\"\",\"\",はじめに出場選手の入力!B29)","v":""},{"$f":"IF(はじめに出場選手の入力!C29=\"\",\"\",はじめに出場選手の入力!C29)","v":""},{"$f":"IF(はじめに出場選手の入力!D29=\"\",\"\",はじめに出場選手の入力!D29)","v":""},{"$f":"IF(はじめに出場選手の入力!E29=\"\",\"\",はじめに出場選手の入力!E29)","v":""},{"$f":"IF(はじめに出場選手の入力!F29=\"\",\"\",はじめに出場選手の入力!F29)","v":""},null,null,null,null,null,null,null,null,null,0]
[16,{"$f":"IF(はじめに出場選手の入力!B30=\"\",\"\",はじめに出場選手の入力!B30)","v":""},{"$f":"IF(はじめに出場選手の入力!C30=\"\",\"\",はじめに出場選手の入力!C30)","v":""},{"$f":"IF(はじめに出場選手の入力!D30=\"\",\"\",はじめに出場選手の入力!D30)","v":""},{"$f":"IF(はじめに出場選手の入力!E30=\"\",\"\",はじめに出場選手の入力!E30)","v":""},{"$f":"IF(はじめに出場選手の入力!F30=\"\",\"\",はじめに出場選手の入力!F30)","v":""},null,null,null,null,null,null,null,null,null,0]
[17,{"$f":"IF(はじめに出場選手の入力!B31=\"\",\"\",はじめに出場選手の入力!B31)","v":""},{"$f":"IF(はじめに出場選手の入力!C31=\"\",\"\",はじめに出場選手の入力!C31)","v":""},{"$f":"IF(はじめに出場選手の入力!D31=\"\",\"\",はじめに出場選手の入力!D31)","v":""},{"$f":"IF(はじめに出場選手の入力!E31=\"\",\"\",はじめに出場選手の入力!E31)","v":""},{"$f":"IF(はじめに出場選手の入力!F31=\"\",\"\",はじめに出場選手の入力!F31)","v":""},null,null,null,null,null,null,null,null,null,0]
[18,{"$f":"IF(はじめに出場選手の入力!B32=\"\",\"\",はじめに出場選手の入力!B32)","v":""},{"$f":"IF(はじめに出場選手の入力!C32=\"\",\"\",はじめに出場選手の入力!C32)","v":""},{"$f":"IF(はじめに出場選手の入力!D32=\"\",\"\",はじめに出場選手の入力!D32)","v":""},{"$f":"IF(はじめに出場選手の入力!E32=\"\",\"\",はじめに出場選手の入力!E32)","v":""},{"$f":"IF(はじめに出場選手の入力!F32=\"\",\"\",はじめに出場選手の入力!F32)","v":""},null,null,null,null,null,null,null,null,null,0]
[19,{"$f":"IF(はじめに出場選手の入力!B33=\"\",\"\",はじめに出場選手の入力!B33)","v":""},{"$f":"IF(はじめに出場選手の入力!C33=\"\",\"\",はじめに出場選手の入力!C33)","v":""},{"$f":"IF(はじめに出場選手の入力!D33=\"\",\"\",はじめに出場選手の入力!D33)","v":""},{"$f":"IF(はじめに出場選手の入力!E33=\"\",\"\",はじめに出場選手の入力!E33)","v":""},{"$f":"IF(はじめに出場選手の入力!F33=\"\",\"\",はじめに出場選手の入力!F33)","v":""},null,null,null,null,null,null,null,null,null,0]
[20,{"$f":"IF(はじめに出場選手の入力!B34=\"\",\"\",はじめに出場選手の入力!B34)","v":""},{"$f":"IF(はじめに出場選手の入力!C34=\"\",\"\",はじめに出場選手の入力!C34)","v":""},{"$f":"IF(はじめに出場選手の入力!D34=\"\",\"\",はじめに出場選手の入力!D34)","v":""},{"$f":"IF(はじめに出場選手の入力!E34=\"\",\"\",はじめに出場選手の入力!E34)","v":""},{"$f":"IF(はじめに出場選手の入力!F34=\"\",\"\",はじめに出場選手の入力!F34)","v":""},null,null,null,null,null,null,null,null,null,0]
[21,{"$f":"IF(はじめに出場選手の入力!B35=\"\",\"\",はじめに出場選手の入力!B35)","v":""},{"$f":"IF(はじめに出場選手の入力!C35=\"\",\"\",はじめに出場選手の入力!C35)","v":""},{"$f":"IF(はじめに出場選手の入力!D35=\"\",\"\",はじめに出場選手の入力!D35)","v":""},{"$f":"IF(はじめに出場選手の入力!E35=\"\",\"\",はじめに出場選手の入力!E35)","v":""},{"$f":"IF(はじめに出場選手の入力!F35=\"\",\"\",はじめに出場選手の入力!F35)","v":""},null,null,null,null,null,null,null,null,null,0]
[22,{"$f":"IF(はじめに出場選手の入力!B36=\"\",\"\",はじめに出場選手の入力!B36)","v":""},{"$f":"IF(はじめに出場選手の入力!C36=\"\",\"\",はじめに出場選手の入力!C36)","v":""},{"$f":"IF(はじめに出場選手の入力!D36=\"\",\"\",はじめに出場選手の入力!D36)","v":""},{"$f":"IF(はじめに出場選手の入力!E36=\"\",\"\",はじめに出場選手の入力!E36)","v":""},{"$f":"IF(はじめに出場選手の入力!F36=\"\",\"\",はじめに出場選手の入力!F36)","v":""},null,null,null,null,null,null,null,null,null,0]
[23,{"$f":"IF(はじめに出場選手の入力!B37=\"\",\"\",はじめに出場選手の入力!B37)","v":""},{"$f":"IF(はじめに出場選手の入力!C37=\"\",\"\",はじめに出場選手の入力!C37)","v":""},{"$f":"IF(はじめに出場選手の入力!D37=\"\",\"\",はじめに出場選手の入力!D37)","v":""},{"$f":"IF(はじめに出場選手の入力!E37=\"\",\"\",はじめに出場選手の入力!E37)","v":""},{"$f":"IF(はじめに出場選手の入力!F37=\"\",\"\",はじめに出場選手の入力!F37)","v":""},null,null,null,null,null,null,null,null,null,0]
[24,{"$f":"IF(はじめに出場選手の入力!B38=\"\",\"\",はじめに出場選手の入力!B38)","v":""},{"$f":"IF(はじめに出場選手の入力!C38=\"\",\"\",はじめに出場選手の入力!C38)","v":""},{"$f":"IF(はじめに出場選手の入力!D38=\"\",\"\",はじめに出場選手の入力!D38)","v":""},{"$f":"IF(はじめに出場選手の入力!E38=\"\",\"\",はじめに出場選手の入力!E38)","v":""},{"$f":"IF(はじめに出場選手の入力!F38=\"\",\"\",はじめに出場選手の入力!F38)","v":""},null,null,null,null,null,null,null,null,null,0]
[25,{"$f":"IF(はじめに出場選手の入力!B39=\"\",\"\",はじめに出場選手の入力!B39)","v":""},{"$f":"IF(はじめに出場選手の入力!C39=\"\",\"\",はじめに出場選手の入力!C39)","v":""},{"$f":"IF(はじめに出場選手の入力!D39=\"\",\"\",はじめに出場選手の入力!D39)","v":""},{"$f":"IF(はじめに出場選手の入力!E39=\"\",\"\",はじめに出場選手の入力!E39)","v":""},{"$f":"IF(はじめに出場選手の入力!F39=\"\",\"\",はじめに出場選手の入力!F39)","v":""},null,null,null,null,null,null,null,null,null,0]
[26,{"$f":"IF(はじめに出場選手の入力!B40=\"\",\"\",はじめに出場選手の入力!B40)","v":""},{"$f":"IF(はじめに出場選手の入力!C40=\"\",\"\",はじめに出場選手の入力!C40)","v":""},{"$f":"IF(はじめに出場選手の入力!D40=\"\",\"\",はじめに出場選手の入力!D40)","v":""},{"$f":"IF(はじめに出場選手の入力!E40=\"\",\"\",はじめに出場選手の入力!E40)","v":""},{"$f":"IF(はじめに出場選手の入力!F40=\"\",\"\",はじめに出場選手の入力!F40)","v":""},null,null,null,null,null,null,null,null,null,0]
[27,{"$f":"IF(はじめに出場選手の入力!B41=\"\",\"\",はじめに出場選手の入力!B41)","v":""},{"$f":"IF(はじめに出場選手の入力!C41=\"\",\"\",はじめに出場選手の入力!C41)","v":""},{"$f":"IF(はじめに出場選手の入力!D41=\"\",\"\",はじめに出場選手の入力!D41)","v":""},{"$f":"IF(はじめに出場選手の入力!E41=\"\",\"\",はじめに出場選手の入力!E41)","v":""},{"$f":"IF(はじめに出場選手の入力!F41=\"\",\"\",はじめに出場選手の入力!F41)","v":""},null,null,null,null,null,null,null,null,null,0]
[28,{"$f":"IF(はじめに出場選手の入力!B42=\"\",\"\",はじめに出場選手の入力!B42)","v":""},{"$f":"IF(はじめに出場選手の入力!C42=\"\",\"\",はじめに出場選手の入力!C42)","v":""},{"$f":"IF(はじめに出場選手の入力!D42=\"\",\"\",はじめに出場選手の入力!D42)","v":""},{"$f":"IF(はじめに出場選手の入力!E42=\"\",\"\",はじめに出場選手の入力!E42)","v":""},{"$f":"IF(はじめに出場選手の入力!F42=\"\",\"\",はじめに出場選手の入力!F42)","v":""},null,null,null,null,null,null,null,null,null,0]
[29,{"$f":"IF(はじめに出場選手の入力!B43=\"\",\"\",はじめに出場選手の入力!B43)","v":""},{"$f":"IF(はじめに出場選手の入力!C43=\"\",\"\",はじめに出場選手の入力!C43)","v":""},{"$f":"IF(はじめに出場選手の入力!D43=\"\",\"\",はじめに出場選手の入力!D43)","v":""},{"$f":"IF(はじめに出場選手の入力!E43=\"\",\"\",はじめに出場選手の入力!E43)","v":""},{"$f":"IF(はじめに出場選手の入力!F43=\"\",\"\",はじめに出場選手の入力!F43)","v":""},null,null,null,null,null,null,null,null,null,0]
[30,{"$f":"IF(はじめに出場選手の入力!B44=\"\",\"\",はじめに出場選手の入力!B44)","v":""},{"$f":"IF(はじめに出場選手の入力!C44=\"\",\"\",はじめに出場選手の入力!C44)","v":""},{"$f":"IF(はじめに出場選手の入力!D44=\"\",\"\",はじめに出場選手の入力!D44)","v":""},{"$f":"IF(はじめに出場選手の入力!E44=\"\",\"\",はじめに出場選手の入力!E44)","v":""},{"$f":"IF(はじめに出場選手の入力!F44=\"\",\"\",はじめに出場選手の入力!F44)","v":""},null,null,null,null,null,null,null,null,null,0]

{"sheet":"女子","index":2,"n_rows":67,"n_cols":24,"rows_kept":67,"cut":false,"hidden":false,"merged":[[0,2,1,2],[37,17,38,19],[41,17,42,19],[12,23,14,23],[18,23,22,23],[1,23,3,23],[2,6,2,18]]}
[null,null,"女子",null,null,null,"※自己記録または　「なし」　を入力しないとエントリーできません。"]
[null,null,null,null,null,null,null,null,null,null,null,null,null,null,null,null,null,null,null,null,null,null,null,"関数の入っているセルは\n入力しないでください。"]
[null,null,null,null,null,null,"記入例を削除して、出場種目の欄に自己記録を入力。記録がない場合は　「なし」　を入力。"]
["no.","県名","ﾅﾝﾊﾞｰ","選　手　名","所属","学年","100m","200m","400m","800m","1500m","3000m",null,"100mH","400mH","3000W","5000W","80mH","100mYH",null,"エントリー数"]
[1,{"$f":"IF(はじめに出場選手の入力!I15=\"\",\"\",はじめに出場選手の入力!I15)","v":""},{"$f":"IF(はじめに出場選手の入力!J15=\"\",\"\",はじめに出場選手の入力!J15)","v":""},{"$f":"IF(はじめに出場選手の入力!K15=\"\",\"\",はじめに出場選手の入力!K15)","v":""},{"$f":"IF(はじめに出場選手の入力!L15=\"\",\"\",はじめに出場選手の入力!L15)","v":""},{"$f":"IF(はじめに出場選手の入力!M15=\"\",\"\",はじめに出場選手の入力!M15)","v":""},null,null,null,null,null,null,null,null,null,null,null,null,null,null,{"$f":"COUNTA(G5:S5)","v":0}]
[2,{"$f":"IF(はじめに出場選手の入力!I16=\"\",\"\",はじめに出場選手の入力!I16)","v":""},{"$f":"IF(はじめに出場選手の入力!J16=\"\",\"\",はじめに出場選手の入力!J16)","v":""},{"$f":"IF(はじめに出場選手の入力!K16=\"\",\"\",はじめに出場選手の入力!K16)","v":""},{"$f":"IF(はじめに出場選手の入力!L16=\"\",\"\",はじめに出場選手の入力!L16)","v":""},{"$f":"IF(はじめに出場選手の入力!M16=\"\",\"\",はじめに出場選手の入力!M16)","v":""},null,null,null,null,null,null,null,null,null,null,null,null,null,null,{"$f":"COUNTA(G6:S6)","v":0}]
[3,{"$f":"IF(はじめに出場選手の入力!I17=\"\",\"\",はじめに出場選手の入力!I17)","v":""},{"$f":"IF(はじめに出場選手の入力!J17=\"\",\"\",はじめに出場選手の入力!J17)","v":""},{"$f":"IF(はじめに出場選手の入力!K17=\"\",\"\",はじめに出場選手の入力!K17)","v":""},{"$f":"IF(はじめに出場選手の入力!L17=\"\",\"\",はじめに出場選手の入力!L17)","v":""},{"$f":"IF(はじめに出場選手の入力!M17=\"\",\"\",はじめに出場選手の入力!M17)","v":""},null,null,null,null,null,null,null,null,null,null,null,null,null,null,0]
[4,{"$f":"IF(はじめに出場選手の入力!I18=\"\",\"\",はじめに出場選手の入力!I18)","v":""},{"$f":"IF(はじめに出場選手の入力!J18=\"\",\"\",はじめに出場選手の入力!J18)","v":""},{"$f":"IF(はじめに出場選手の入力!K18=\"\",\"\",はじめに出場選手の入力!K18)","v":""},{"$f":"IF(はじめに出場選手の入力!L18=\"\",\"\",はじめに出場選手の入力!L18)","v":""},{"$f":"IF(はじめに出場選手の入力!M18=\"\",\"\",はじめに出場選手の入力!M18)","v":""},null,null,null,null,null,null,null,null,null,null,null,null,null,null,0]
[5,{"$f":"IF(はじめに出場選手の入力!I19=\"\",\"\",はじめに出場選手の入力!I19)","v":""},{"$f":"IF(はじめに出場選手の入力!J19=\"\",\"\",はじめに出場選手の入力!J19)","v":""},{"$f":"IF(はじめに出場選手の入力!K19=\"\",\"\",はじめに出場選手の入力!K19)","v":""},{"$f":"IF(はじめに出場選手の入力!L19=\"\",\"\",はじめに出場選手の入力!L19)","v":""},{"$f":"IF(はじめに出場選手の入力!M19=\"\",\"\",はじめに出場選手の入力!M19)","v":""},null,null,null,null,null,null,null,null,null,null,null,null,null,null,0,null,null,"自己記録の入力方法"]
[6,{"$f":"IF(はじめに出場選手の入力!I20=\"\",\"\",はじめに出場選手の入力!I20)","v":""},{"$f":"IF(はじめに出場選手の入力!J20=\"\",\"\",はじめに出場選手の入力!J20)","v":""},{"$f":"IF(はじめに出場選手の入力!K20=\"\",\"\",はじめに出場選手の入力!K20)","v":""},{"$f":"IF(はじめに出場選手の入力!L20=\"\",\"\",はじめに出場選手の入力!L20)","v":""},{"$f":"IF(はじめに出場選手の入力!M20=\"\",\"\",はじめに出場選手の入力!M20)","v":""},null,null,null,null,null,null,null,null,null,null,null,null,null,null,0,null,null,"記入例"]
[7,{"$f":"IF(はじめに出場選手の入力!I21=\"\",\"\",はじめに出場選手の入力!I21)","v":""},{"$f":"IF(はじめに出場選手の入力!J21=\"\",\"\",はじめに出場選手の入力!J21)","v":""},{"$f":"IF(はじめに出場選手の入力!K21=\"\",\"\",はじめに出場選手の入力!K21)","v":""},{"$f":"IF(はじめに出場選手の入力!L21=\"\",\"\",はじめに出場選手の入力!L21)","v":""},{"$f":"IF(はじめに出場選手の入力!M21=\"\",\"\",はじめに出場選手の入力!M21)","v":""},null,null,null,null,null,null,null,null,null,null,null,null,null,null,0,null,null,"１２秒３０　→　1230"]
[8,{"$f":"IF(はじめに出場選手の入力!I22=\"\",\"\",はじめに出場選手の入力!I22)","v":""},{"$f":"IF(はじめに出場選手の入力!J22=\"\",\"\",はじめに出場選手の入力!J22)","v":""},{"$f":"IF(はじめに出場選手の入力!K22=\"\",\"\",はじめに出場選手の入力!K22)","v":""},{"$f":"IF(はじめに出場選手の入力!L22=\"\",\"\",はじめに出場選手の入力!L22)","v":""},{"$f":"IF(はじめに出場選手の入力!M22=\"\",\"\",はじめに出場選手の入力!M22)","v":""},null,null,null,null,null,null,null,null,null,null,null,null,null,null,0,null,null,"１分２秒３４　→　10234"]
[9,{"$f":"IF(はじめに出場選手の入力!I23=\"\",\"\",はじめに出場選手の入力!I23)","v":""},{"$f":"IF(はじめに出場選手の入力!J23=\"\",\"\",はじめに出場選手の入力!J23)","v":""},{"$f":"IF(はじめに出場選手の入力!K23=\"\",\"\",はじめに出場選手の入力!K23)","v":""},{"$f":"IF(はじめに出場選手の入力!L23=\"\",\"\",はじめに出場選手の入力!L23)","v":""},{"$f":"IF(はじめに出場選手の入力!M23=\"\",\"\",はじめに出場選手の入力!M23)","v":""},null,null,null,null,null,null,null,null,null,null,null,null,null,null,0,null,null,"注意：手動記録しかない場合も１００分の１秒まで記入する。"]
[10,{"$f":"IF(はじめに出場選手の入力!I24=\"\",\"\",はじめに出場選手の入力!I24)","v":""},{"$f":"IF(はじめに出場選手の入力!J24=\"\",\"\",はじめに出場選手の入力!J24)","v":""},{"$f":"IF(はじめに出場選手の入力!K24=\"\",\"\",はじめに出場選手の入力!K24)","v":""},{"$f":"IF(はじめに出場選手の入力!L24=\"\",\"\",はじめに出場選手の入力!L24)","v":""},{"$f":"IF(はじめに出場選手の入力!M24=\"\",\"\",はじめに出場選手の入力!M24)","v":""},null,null,null,null,null,null,null,null,null,null,null,null,null,null,0]
[11,{"$f":"IF(はじめに出場選手の入力!I25=\"\",\"\",はじめに出場選手の入力!I25)","v":""},{"$f":"IF(はじめに出場選手の入力!J25=\"\",\"\",はじめに出場選手の入力!J25)","v":""},{"$f":"IF(はじめに出場選手の入力!K25=\"\",\"\",はじめに出場選手の入力!K25)","v":""},{"$f":"IF(はじめに出場選手の入力!L25=\"\",\"\",はじめに出場選手の入力!L25)","v":""},{"$f":"IF(はじめに出場選手の入力!M25=\"\",\"\",はじめに出場選手の入力!M25)","v":""},null,null,null,null,null,null,null,null,null,null,null,null,null,null,0]
[12,{"$f":"IF(はじめに出場選手の入力!I26=\"\",\"\",はじめに出場選手の入力!I26)","v":""},{"$f":"IF(はじめに出場選手の入力!J26=\"\",\"\",はじめに出場選手の入力!J26)","v":""},{"$f":"IF(はじめに出場選手の入力!K26=\"\",\"\",はじめに出場選手の入力!K26)","v":""},{"$f":"IF(はじめに出場選手の入力!L26=\"\",\"\",はじめに出場選手の入力!L26)","v":""},{"$f":"IF(はじめに出場選手の入力!M26=\"\",\"\",はじめに出場選手の入力!M26)","v":""},null,null,null,null,null,null,null,null,null,null,null,null,null,null,0,null,null,"１ｍ７５　→　175"]
[13,{"$f":"IF(はじめに出場選手の入力!I27=\"\",\"\",はじめに出場選手の入力!I27)","v":""},{"$f":"IF(はじめに出場選手の入力!J27=\"\",\"\",はじめに出場選手の入力!J27)","v":""},{"$f":"IF(はじめに出場選手の入力!K27=\"\",\"\",はじめに出場選手の入力!K27)","v":""},{"$f":"IF(はじめに出場選手の入力!L27=\"\",\"\",はじめに出場選手の入力!L27)","v":""},{"$f":"IF(はじめに出場選手の入力!M27=\"\",\"\",はじめに出場選手の入力!M27)","v":""},null,null,null,null,null,null,null,null,null,null,null,null,null,null,0,null,null,"３４ｍ５６　→　3456"]
[14,{"$f":"IF(はじめに出場選手の入力!I28=\"\",\"\",はじめに出場選手の入力!I28)","v":""},{"$f":"IF(はじめに出場選手の入力!J28=\"\",\"\",はじめに出場選手の入力!J28)","v":""},{"$f":"IF(はじめに出場選手の入力!K28=\"\",\"\",はじめに出場選手の入力!K28)","v":""},{"$f":"IF(はじめに出場選手の入力!L28=\"\",\"\",はじめに出場選手の入力!L28)","v":""},{"$f":"IF(はじめに出場選手の入力!M28=\"\",\"\",はじめに出場選手の入力!M28)","v":""},null,null,null,null,null,null,null,null,null,null,null,null,null,null,0]
[15,{"$f":"IF(はじめに出場選手の入力!I29=\"\",\"\",はじめに出場選手の入力!I29)","v":""},{"$f":"IF(はじめに出場選手の入力!J29=\"\",\"\",はじめに出場選手の入力!J29)","v":""},{"$f":"IF(はじめに出場選手の入力!K29=\"\",\"\",はじめに出場選手の入力!K29)","v":""},{"$f":"IF(はじめに出場選手の入力!L29=\"\",\"\",はじめに出場選手の入力!L29)","v":""},{"$f":"IF(はじめに出場選手の入力!M29=\"\",\"\",はじめに出場選手の入力!M29)","v":""},null,null,null,null,null,null,null,null,null,null,null,null,null,null,0,null,null,"※入力は半角数字で入力する。記録がない場合は　「なし」　または　目標記録を入力する。"]
[16,{"$f":"IF(はじめに出場選手の入力!I30=\"\",\"\",はじめに出場選手の入力!I30)","v":""},{"$f":"IF(はじめに出場選手の入力!J30=\"\",\"\",はじめに出場選手の入力!J30)","v":""},{"$f":"IF(はじめに出場選手の入力!K30=\"\",\"\",はじめに出場選手の入力!K30)","v":""},{"$f":"IF(はじめに出場選手の入力!L30=\"\",\"\",はじめに出場選手の入力!L30)","v":""},{"$f":"IF(はじめに出場選手の入力!M30=\"\",\"\",はじめに出場選手の入力!M30)","v":""},null,null,null,null,null,null,null,null,null,null,null,null,null,null,0]
[17,{"$f":"IF(はじめに出場選手の入力!I31=\"\",\"\",はじめに出場選手の入力!I31)","v":""},{"$f":"IF(はじめに出場選手の入力!J31=\"\",\"\",はじめに出場選手の入力!J31)","v":""},{"$f":"IF(はじめに出場選手の入力!K31=\"\",\"\",はじめに出場選手の入力!K31)","v":""},{"$f":"IF(はじめに出場選手の入力!L31=\"\",\"\",はじめに出場選手の入力!L31)","v":""},{"$f":"IF(はじめに出場選手の入力!M31=\"\",\"\",はじめに出場選手の入力!M31)","v":""},null,null,null,null,null,null,null,null,null,null,null,null,null,null,0]
[18,{"$f":"IF(はじめに出場選手の入力!I32=\"\",\"\",はじめに出場選手の入力!I32)","v":""},{"$f":"IF(はじめに出場選手の入力!J32=\"\",\"\",はじめに出場選手の入力!J32)","v":""},{"$f":"IF(はじめに出場選手の入力!K32=\"\",\"\",はじめに出場選手の入力!K32)","v":""},{"$f":"IF(はじめに出場選手の入力!L32=\"\",\"\",はじめに出場選手の入力!L32)","v":""},{"$f":"IF(はじめに出場選手の入力!M32=\"\",\"\",はじめに出場選手の入力!M32)","v":""},null,null,null,null,null,null,null,null,null,null,null,null,null,null,0]
[19,{"$f":"IF(はじめに出場選手の入力!I33=\"\",\"\",はじめに出場選手の入力!I33)","v":""},{"$f":"IF(はじめに出場選手の入力!J33=\"\",\"\",はじめに出場選手の入力!J33)","v":""},{"$f":"IF(はじめに出場選手の入力!K33=\"\",\"\",はじめに出場選手の入力!K33)","v":""},{"$f":"IF(はじめに出場選手の入力!L33=\"\",\"\",はじめに出場選手の入力!L33)","v":""},{"$f":"IF(はじめに出場選手の入力!M33=\"\",\"\",はじめに出場選手の入力!M33)","v":""},null,null,null,null,null,null,null,null,null,null,null,null,null,null,0]
[20,{"$f":"IF(はじめに出場選手の入力!I34=\"\",\"\",はじめに出場選手の入力!I34)","v":""},{"$f":"IF(はじめに出場選手の入力!J34=\"\",\"\",はじめに出場選手の入力!J34)","v":""},{"$f":"IF(はじめに出場選手の入力!K34=\"\",\"\",はじめに出場選手の入力!K34)","v":""},{"$f":"IF(はじめに出場選手の入力!L34=\"\",\"\",はじめに出場選手の入力!L34)","v":""},{"$f":"IF(はじめに出場選手の入力!M34=\"\",\"\",はじめに出場選手の入力!M34)","v":""},null,null,null,null,null,null,null,null,null,null,null,null,null,null,0]
[21,{"$f":"IF(はじめに出場選手の入力!I35=\"\",\"\",はじめに出場選手の入力!I35)","v":""},{"$f":"IF(はじめに出場選手の入力!J35=\"\",\"\",はじめに出場選手の入力!J35)","v":""},{"$f":"IF(はじめに出場選手の入力!K35=\"\",\"\",はじめに出場選手の入力!K35)","v":""},{"$f":"IF(はじめに出場選手の入力!L35=\"\",\"\",はじめに出場選手の入力!L35)","v":""},{"$f":"IF(はじめに出場選手の入力!M35=\"\",\"\",はじめに出場選手の入力!M35)","v":""},null,null,null,null,null,null,null,null,null,null,null,null,null,null,0]
[22,{"$f":"IF(はじめに出場選手の入力!I36=\"\",\"\",はじめに出場選手の入力!I36)","v":""},{"$f":"IF(はじめに出場選手の入力!J36=\"\",\"\",はじめに出場選手の入力!J36)","v":""},{"$f":"IF(はじめに出場選手の入力!K36=\"\",\"\",はじめに出場選手の入力!K36)","v":""},{"$f":"IF(はじめに出場選手の入力!L36=\"\",\"\",はじめに出場選手の入力!L36)","v":""},{"$f":"IF(はじめに出場選手の入力!M36=\"\",\"\",はじめに出場選手の入力!M36)","v":""},null,null,null,null,null,null,null,null,null,null,null,null,null,null,0]
[23,{"$f":"IF(はじめに出場選手の入力!I37=\"\",\"\",はじめに出場選手の入力!I37)","v":""},{"$f":"IF(はじめに出場選手の入力!J37=\"\",\"\",はじめに出場選手の入力!J37)","v":""},{"$f":"IF(はじめに出場選手の入力!K37=\"\",\"\",はじめに出場選手の入力!K37)","v":""},{"$f":"IF(はじめに出場選手の入力!L37=\"\",\"\",はじめに出場選手の入力!L37)","v":""},{"$f":"IF(はじめに出場選手の入力!M37=\"\",\"\",はじめに出場選手の入力!M37)","v":""},null,null,null,null,null,null,null,null,null,null,null,null,null,null,0]
[24,{"$f":"IF(はじめに出場選手の入力!I38=\"\",\"\",はじめに出場選手の入力!I38)","v":""},{"$f":"IF(はじめに出場選手の入力!J38=\"\",\"\",はじめに出場選手の入力!J38)","v":""},{"$f":"IF(はじめに出場選手の入力!K38=\"\",\"\",はじめに出場選手の入力!K38)","v":""},{"$f":"IF(はじめに出場選手の入力!L38=\"\",\"\",はじめに出場選手の入力!L38)","v":""},{"$f":"IF(はじめに出場選手の入力!M38=\"\",\"\",はじめに出場選手の入力!M38)","v":""},null,null,null,null,null,null,null,null,null,null,null,null,null,null,0]
[25,{"$f":"IF(はじめに出場選手の入力!I39=\"\",\"\",はじめに出場選手の入力!I39)","v":""},{"$f":"IF(はじめに出場選手の入力!J39=\"\",\"\",はじめに出場選手の入力!J39)","v":""},{"$f":"IF(はじめに出場選手の入力!K39=\"\",\"\",はじめに出場選手の入力!K39)","v":""},{"$f":"IF(はじめに出場選手の入力!L39=\"\",\"\",はじめに出場選手の入力!L39)","v":""},{"$f":"IF(はじめに出場選手の入力!M39=\"\",\"\",はじめに出場選手の入力!M39)","v":""},null,null,null,null,null,null,null,null,null,null,null,null,null,null,0]
[26,{"$f":"IF(はじめに出場選手の入力!I40=\"\",\"\",はじめに出場選手の入力!I40)","v":""},{"$f":"IF(はじめに出場選手の入力!J40=\"\",\"\",はじめに出場選手の入力!J40)","v":""},{"$f":"IF(はじめに出場選手の入力!K40=\"\",\"\",はじめに出場選手の入力!K40)","v":""},{"$f":"IF(はじめに出場選手の入力!L40=\"\",\"\",はじめに出場選手の入力!L40)","v":""},{"$f":"IF(はじめに出場選手の入力!M40=\"\",\"\",はじめに出場選手の入力!M40)","v":""},null,null,null,null,null,null,null,null,null,null,null,null,null,null,0]
[27,{"$f":"IF(はじめに出場選手の入力!I41=\"\",\"\",はじめに出場選手の入力!I41)","v":""},{"$f":"IF(はじめに出場選手の入力!J41=\"\",\"\",はじめに出場選手の入力!J41)","v":""},{"$f":"IF(はじめに出場選手の入力!K41=\"\",\"\",はじめに出場選手の入力!K41)","v":""},{"$f":"IF(はじめに出場選手の入力!L41=\"\",\"\",はじめに出場選手の入力!L41)","v":""},{"$f":"IF(はじめに出場選手の入力!M41=\"\",\"\",はじめに出場選手の入力!M41)","v":""},null,null,null,null,null,null,null,null,null,null,null,null,null,null,0]
[28,{"$f":"IF(はじめに出場選手の入力!I42=\"\",\"\",はじめに出場選手の入力!I42)","v":""},{"$f":"IF(はじめに出場選手の入力!J42=\"\",\"\",はじめに出場選手の入力!J42)","v":""},{"$f":"IF(はじめに出場選手の入力!K42=\"\",\"\",はじめに出場選手の入力!K42)","v":""},{"$f":"IF(はじめに出場選手の入力!L42=\"\",\"\",はじめに出場選手の入力!L42)","v":""},{"$f":"IF(はじめに出場選手の入力!M42=\"\",\"\",はじめに出場選手の入力!M42)","v":""},null,null,null,null,null,null,null,null,null,null,null,null,null,null,0]
[29,{"$f":"IF(はじめに出場選手の入力!I43=\"\",\"\",はじめに出場選手の入力!I43)","v":""},{"$f":"IF(はじめに出場選手の入力!J43=\"\",\"\",はじめに出場選手の入力!J43)","v":""},{"$f":"IF(はじめに出場選手の入力!K43=\"\",\"\",はじめに出場選手の入力!K43)","v":""},{"$f":"IF(はじめに出場選手の入力!L43=\"\",\"\",はじめに出場選手の入力!L43)","v":""},{"$f":"IF(はじめに出場選手の入力!M43=\"\",\"\",はじめに出場選手の入力!M43)","v":""},null,null,null,null,null,null,null,null,null,null,null,null,null,null,0]
[30,{"$f":"IF(はじめに出場選手の入力!I44=\"\",\"\",はじめに出場選手の入力!I44)","v":""},{"$f":"IF(はじめに出場選手の入力!J44=\"\",\"\",はじめに出場選手の入力!J44)","v":""},{"$f":"IF(はじめに出場選手の入力!K44=\"\",\"\",はじめに出場選手の入力!K44)","v":""},{"$f":"IF(はじめに出場選手の入力!L44=\"\",\"\",はじめに出場選手の入力!L44)","v":""},{"$f":"IF(はじめに出場選手の入力!M44=\"\",\"\",はじめに出場選手の入力!M44)","v":""},null,null,null,null,null,null,null,null,null,null,null,null,null,null,0]
[]
[null,null,null,null,null,null,"記入例を削除して、出場種目の欄に自己記録を入力。記録がない場合は　「なし」　を入力。"]
["no.","県名","ﾅﾝﾊﾞｰ","選　手　名","所属","学年","走高跳","棒高跳","走幅跳","三段跳","砲丸投","円盤投","ﾊﾝﾏｰ投","槍投・ジャ",null,"エントリー数",null,"女子トラック種目エントリー数"]
[1,{"$f":"IF(はじめに出場選手の入力!I15=\"\",\"\",はじめに出場選手の入力!I15)","v":""},{"$f":"IF(はじめに出場選手の入力!J15=\"\",\"\",はじめに出場選手の入力!J15)","v":""},{"$f":"IF(はじめに出場選手の入力!K15=\"\",\"\",はじめに出場選手の入力!K15)","v":""},{"$f":"IF(はじめに出場選手の入力!L15=\"\",\"\",はじめに出場選手の入力!L15)","v":""},{"$f":"IF(はじめに出場選手の入力!M15=\"\",\"\",はじめに出場選手の入力!M15)","v":""},null,null,null,null,null,null,null,null,null,{"$f":"COUNTA(G38:N38)","v":0},null,{"$f":"SUM(U5:U34)","v":0}]
[2,{"$f":"IF(はじめに出場選手の入力!I16=\"\",\"\",はじめに出場選手の入力!I16)","v":""},{"$f":"IF(はじめに出場選手の入力!J16=\"\",\"\",はじめに出場選手の入力!J16)","v":""},{"$f":"IF(はじめに出場選手の入力!K16=\"\",\"\",はじめに出場選手の入力!K16)","v":""},{"$f":"IF(はじめに出場選手の入力!L16=\"\",\"\",はじめに出場選手の入力!L16)","v":""},{"$f":"IF(はじめに出場選手の入力!M16=\"\",\"\",はじめに出場選手の入力!M16)","v":""},null,null,null,null,null,null,null,null,null,0]
[3,{"$f":"IF(はじめに出場選手の入力!I17=\"\",\"\",はじめに出場選手の入力!I17)","v":""},{"$f":"IF(はじめに出場選手の入力!J17=\"\",\"\",はじめに出場選手の入力!J17)","v":""},{"$f":"IF(はじめに出場選手の入力!K17=\"\",\"\",はじめに出場選手の入力!K17)","v":""},{"$f":"IF(はじめに出場選手の入力!L17=\"\",\"\",はじめに出場選手の入力!L17)","v":""},{"$f":"IF(はじめに出場選手の入力!M17=\"\",\"\",はじめに出場選手の入力!M17)","v":""},null,null,null,null,null,null,null,null,null,0]
[4,{"$f":"IF(はじめに出場選手の入力!I18=\"\",\"\",はじめに出場選手の入力!I18)","v":""},{"$f":"IF(はじめに出場選手の入力!J18=\"\",\"\",はじめに出場選手の入力!J18)","v":""},{"$f":"IF(はじめに出場選手の入力!K18=\"\",\"\",はじめに出場選手の入力!K18)","v":""},{"$f":"IF(はじめに出場選手の入力!L18=\"\",\"\",はじめに出場選手の入力!L18)","v":""},{"$f":"IF(はじめに出場選手の入力!M18=\"\",\"\",はじめに出場選手の入力!M18)","v":""},null,null,null,null,null,null,null,null,null,0,null,"女子フィールド種目エントリー数"]
[5,{"$f":"IF(はじめに出場選手の入力!I19=\"\",\"\",はじめに出場選手の入力!I19)","v":""},{"$f":"IF(はじめに出場選手の入力!J19=\"\",\"\",はじめに出場選手の入力!J19)","v":""},{"$f":"IF(はじめに出場選手の入力!K19=\"\",\"\",はじめに出場選手の入力!K19)","v":""},{"$f":"IF(はじめに出場選手の入力!L19=\"\",\"\",はじめに出場選手の入力!L19)","v":""},{"$f":"IF(はじめに出場選手の入力!M19=\"\",\"\",はじめに出場選手の入力!M19)","v":""},null,null,null,null,null,null,null,null,null,0,null,{"$f":"SUM(P38:P67)","v":0}]
[6,{"$f":"IF(はじめに出場選手の入力!I20=\"\",\"\",はじめに出場選手の入力!I20)","v":""},{"$f":"IF(はじめに出場選手の入力!J20=\"\",\"\",はじめに出場選手の入力!J20)","v":""},{"$f":"IF(はじめに出場選手の入力!K20=\"\",\"\",はじめに出場選手の入力!K20)","v":""},{"$f":"IF(はじめに出場選手の入力!L20=\"\",\"\",はじめに出場選手の入力!L20)","v":""},{"$f":"IF(はじめに出場選手の入力!M20=\"\",\"\",はじめに出場選手の入力!M20)","v":""},null,null,null,null,null,null,null,null,null,0]
[7,{"$f":"IF(はじめに出場選手の入力!I21=\"\",\"\",はじめに出場選手の入力!I21)","v":""},{"$f":"IF(はじめに出場選手の入力!J21=\"\",\"\",はじめに出場選手の入力!J21)","v":""},{"$f":"IF(はじめに出場選手の入力!K21=\"\",\"\",はじめに出場選手の入力!K21)","v":""},{"$f":"IF(はじめに出場選手の入力!L21=\"\",\"\",はじめに出場選手の入力!L21)","v":""},{"$f":"IF(はじめに出場選手の入力!M21=\"\",\"\",はじめに出場選手の入力!M21)","v":""},null,null,null,null,null,null,null,null,null,0]
[8,{"$f":"IF(はじめに出場選手の入力!I22=\"\",\"\",はじめに出場選手の入力!I22)","v":""},{"$f":"IF(はじめに出場選手の入力!J22=\"\",\"\",はじめに出場選手の入力!J22)","v":""},{"$f":"IF(はじめに出場選手の入力!K22=\"\",\"\",はじめに出場選手の入力!K22)","v":""},{"$f":"IF(はじめに出場選手の入力!L22=\"\",\"\",はじめに出場選手の入力!L22)","v":""},{"$f":"IF(はじめに出場選手の入力!M22=\"\",\"\",はじめに出場選手の入力!M22)","v":""},null,null,null,null,null,null,null,null,null,0]
[9,{"$f":"IF(はじめに出場選手の入力!I23=\"\",\"\",はじめに出場選手の入力!I23)","v":""},{"$f":"IF(はじめに出場選手の入力!J23=\"\",\"\",はじめに出場選手の入力!J23)","v":""},{"$f":"IF(はじめに出場選手の入力!K23=\"\",\"\",はじめに出場選手の入力!K23)","v":""},{"$f":"IF(はじめに出場選手の入力!L23=\"\",\"\",はじめに出場選手の入力!L23)","v":""},{"$f":"IF(はじめに出場選手の入力!M23=\"\",\"\",はじめに出場選手の入力!M23)","v":""},null,null,null,null,null,null,null,null,null,0]
[10,{"$f":"IF(はじめに出場選手の入力!I24=\"\",\"\",はじめに出場選手の入力!I24)","v":""},{"$f":"IF(はじめに出場選手の入力!J24=\"\",\"\",はじめに出場選手の入力!J24)","v":""},{"$f":"IF(はじめに出場選手の入力!K24=\"\",\"\",はじめに出場選手の入力!K24)","v":""},{"$f":"IF(はじめに出場選手の入力!L24=\"\",\"\",はじめに出場選手の入力!L24)","v":""},{"$f":"IF(はじめに出場選手の入力!M24=\"\",\"\",はじめに出場選手の入力!M24)","v":""},null,null,null,null,null,null,null,null,null,0]
[11,{"$f":"IF(はじめに出場選手の入力!I25=\"\",\"\",はじめに出場選手の入力!I25)","v":""},{"$f":"IF(はじめに出場選手の入力!J25=\"\",\"\",はじめに出場選手の入力!J25)","v":""},{"$f":"IF(はじめに出場選手の入力!K25=\"\",\"\",はじめに出場選手の入力!K25)","v":""},{"$f":"IF(はじめに出場選手の入力!L25=\"\",\"\",はじめに出場選手の入力!L25)","v":""},{"$f":"IF(はじめに出場選手の入力!M25=\"\",\"\",はじめに出場選手の入力!M25)","v":""},null,null,null,null,null,null,null,null,null,0]
[12,{"$f":"IF(はじめに出場選手の入力!I26=\"\",\"\",はじめに出場選手の入力!I26)","v":""},{"$f":"IF(はじめに出場選手の入力!J26=\"\",\"\",はじめに出場選手の入力!J26)","v":""},{"$f":"IF(はじめに出場選手の入力!K26=\"\",\"\",はじめに出場選手の入力!K26)","v":""},{"$f":"IF(はじめに出場選手の入力!L26=\"\",\"\",はじめに出場選手の入力!L26)","v":""},{"$f":"IF(はじめに出場選手の入力!M26=\"\",\"\",はじめに出場選手の入力!M26)","v":""},null,null,null,null,null,null,null,null,null,0]
[13,{"$f":"IF(はじめに出場選手の入力!I27=\"\",\"\",はじめに出場選手の入力!I27)","v":""},{"$f":"IF(はじめに出場選手の入力!J27=\"\",\"\",はじめに出場選手の入力!J27)","v":""},{"$f":"IF(はじめに出場選手の入力!K27=\"\",\"\",はじめに出場選手の入力!K27)","v":""},{"$f":"IF(はじめに出場選手の入力!L27=\"\",\"\",はじめに出場選手の入力!L27)","v":""},{"$f":"IF(はじめに出場選手の入力!M27=\"\",\"\",はじめに出場選手の入力!M27)","v":""},null,null,null,null,null,null,null,null,null,0]
[14,{"$f":"IF(はじめに出場選手の入力!I28=\"\",\"\",はじめに出場選手の入力!I28)","v":""},{"$f":"IF(はじめに出場選手の入力!J28=\"\",\"\",はじめに出場選手の入力!J28)","v":""},{"$f":"IF(はじめに出場選手の入力!K28=\"\",\"\",はじめに出場選手の入力!K28)","v":""},{"$f":"IF(はじめに出場選手の入力!L28=\"\",\"\",はじめに出場選手の入力!L28)","v":""},{"$f":"IF(はじめに出場選手の入力!M28=\"\",\"\",はじめに出場選手の入力!M28)","v":""},null,null,null,null,null,null,null,null,null,0]
[15,{"$f":"IF(はじめに出場選手の入力!I29=\"\",\"\",はじめに出場選手の入力!I29)","v":""},{"$f":"IF(はじめに出場選手の入力!J29=\"\",\"\",はじめに出場選手の入力!J29)","v":""},{"$f":"IF(はじめに出場選手の入力!K29=\"\",\"\",はじめに出場選手の入力!K29)","v":""},{"$f":"IF(はじめに出場選手の入力!L29=\"\",\"\",はじめに出場選手の入力!L29)","v":""},{"$f":"IF(はじめに出場選手の入力!M29=\"\",\"\",はじめに出場選手の入力!M29)","v":""},null,null,null,null,null,null,null,null,null,0]
[16,{"$f":"IF(はじめに出場選手の入力!I30=\"\",\"\",はじめに出場選手の入力!I30)","v":""},{"$f":"IF(はじめに出場選手の入力!J30=\"\",\"\",はじめに出場選手の入力!J30)","v":""},{"$f":"IF(はじめに出場選手の入力!K30=\"\",\"\",はじめに出場選手の入力!K30)","v":""},{"$f":"IF(はじめに出場選手の入力!L30=\"\",\"\",はじめに出場選手の入力!L30)","v":""},{"$f":"IF(はじめに出場選手の入力!M30=\"\",\"\",はじめに出場選手の入力!M30)","v":""},null,null,null,null,null,null,null,null,null,0]
[17,{"$f":"IF(はじめに出場選手の入力!I31=\"\",\"\",はじめに出場選手の入力!I31)","v":""},{"$f":"IF(はじめに出場選手の入力!J31=\"\",\"\",はじめに出場選手の入力!J31)","v":""},{"$f":"IF(はじめに出場選手の入力!K31=\"\",\"\",はじめに出場選手の入力!K31)","v":""},{"$f":"IF(はじめに出場選手の入力!L31=\"\",\"\",はじめに出場選手の入力!L31)","v":""},{"$f":"IF(はじめに出場選手の入力!M31=\"\",\"\",はじめに出場選手の入力!M31)","v":""},null,null,null,null,null,null,null,null,null,0]
[18,{"$f":"IF(はじめに出場選手の入力!I32=\"\",\"\",はじめに出場選手の入力!I32)","v":""},{"$f":"IF(はじめに出場選手の入力!J32=\"\",\"\",はじめに出場選手の入力!J32)","v":""},{"$f":"IF(はじめに出場選手の入力!K32=\"\",\"\",はじめに出場選手の入力!K32)","v":""},{"$f":"IF(はじめに出場選手の入力!L32=\"\",\"\",はじめに出場選手の入力!L32)","v":""},{"$f":"IF(はじめに出場選手の入力!M32=\"\",\"\",はじめに出場選手の入力!M32)","v":""},null,null,null,null,null,null,null,null,null,0]
[19,{"$f":"IF(はじめに出場選手の入力!I33=\"\",\"\",はじめに出場選手の入力!I33)","v":""},{"$f":"IF(はじめに出場選手の入力!J33=\"\",\"\",はじめに出場選手の入力!J33)","v":""},{"$f":"IF(はじめに出場選手の入力!K33=\"\",\"\",はじめに出場選手の入力!K33)","v":""},{"$f":"IF(はじめに出場選手の入力!L33=\"\",\"\",はじめに出場選手の入力!L33)","v":""},{"$f":"IF(はじめに出場選手の入力!M33=\"\",\"\",はじめに出場選手の入力!M33)","v":""},null,null,null,null,null,null,null,null,null,0]
[20,{"$f":"IF(はじめに出場選手の入力!I34=\"\",\"\",はじめに出場選手の入力!I34)","v":""},{"$f":"IF(はじめに出場選手の入力!J34=\"\",\"\",はじめに出場選手の入力!J34)","v":""},{"$f":"IF(はじめに出場選手の入力!K34=\"\",\"\",はじめに出場選手の入力!K34)","v":""},{"$f":"IF(はじめに出場選手の入力!L34=\"\",\"\",はじめに出場選手の入力!L34)","v":""},{"$f":"IF(はじめに出場選手の入力!M34=\"\",\"\",はじめに出場選手の入力!M34)","v":""},null,null,null,null,null,null,null,null,null,0]
[21,{"$f":"IF(はじめに出場選手の入力!I35=\"\",\"\",はじめに出場選手の入力!I35)","v":""},{"$f":"IF(はじめに出場選手の入力!J35=\"\",\"\",はじめに出場選手の入力!J35)","v":""},{"$f":"IF(はじめに出場選手の入力!K35=\"\",\"\",はじめに出場選手の入力!K35)","v":""},{"$f":"IF(はじめに出場選手の入力!L35=\"\",\"\",はじめに出場選手の入力!L35)","v":""},{"$f":"IF(はじめに出場選手の入力!M35=\"\",\"\",はじめに出場選手の入力!M35)","v":""},null,null,null,null,null,null,null,null,null,0]
[22,{"$f":"IF(はじめに出場選手の入力!I36=\"\",\"\",はじめに出場選手の入力!I36)","v":""},{"$f":"IF(はじめに出場選手の入力!J36=\"\",\"\",はじめに出場選手の入力!J36)","v":""},{"$f":"IF(はじめに出場選手の入力!K36=\"\",\"\",はじめに出場選手の入力!K36)","v":""},{"$f":"IF(はじめに出場選手の入力!L36=\"\",\"\",はじめに出場選手の入力!L36)","v":""},{"$f":"IF(はじめに出場選手の入力!M36=\"\",\"\",はじめに出場選手の入力!M36)","v":""},null,null,null,null,null,null,null,null,null,0]
[23,{"$f":"IF(はじめに出場選手の入力!I37=\"\",\"\",はじめに出場選手の入力!I37)","v":""},{"$f":"IF(はじめに出場選手の入力!J37=\"\",\"\",はじめに出場選手の入力!J37)","v":""},{"$f":"IF(はじめに出場選手の入力!K37=\"\",\"\",はじめに出場選手の入力!K37)","v":""},{"$f":"IF(はじめに出場選手の入力!L37=\"\",\"\",はじめに出場選手の入力!L37)","v":""},{"$f":"IF(はじめに出場選手の入力!M37=\"\",\"\",はじめに出場選手の入力!M37)","v":""},null,null,null,null,null,null,null,null,null,0]
[24,{"$f":"IF(はじめに出場選手の入力!I38=\"\",\"\",はじめに出場選手の入力!I38)","v":""},{"$f":"IF(はじめに出場選手の入力!J38=\"\",\"\",はじめに出場選手の入力!J38)","v":""},{"$f":"IF(はじめに出場選手の入力!K38=\"\",\"\",はじめに出場選手の入力!K38)","v":""},{"$f":"IF(はじめに出場選手の入力!L38=\"\",\"\",はじめに出場選手の入力!L38)","v":""},{"$f":"IF(はじめに出場選手の入力!M38=\"\",\"\",はじめに出場選手の入力!M38)","v":""},null,null,null,null,null,null,null,null,null,0]
[25,{"$f":"IF(はじめに出場選手の入力!I39=\"\",\"\",はじめに出場選手の入力!I39)","v":""},{"$f":"IF(はじめに出場選手の入力!J39=\"\",\"\",はじめに出場選手の入力!J39)","v":""},{"$f":"IF(はじめに出場選手の入力!K39=\"\",\"\",はじめに出場選手の入力!K39)","v":""},{"$f":"IF(はじめに出場選手の入力!L39=\"\",\"\",はじめに出場選手の入力!L39)","v":""},{"$f":"IF(はじめに出場選手の入力!M39=\"\",\"\",はじめに出場選手の入力!M39)","v":""},null,null,null,null,null,null,null,null,null,0]
[26,{"$f":"IF(はじめに出場選手の入力!I40=\"\",\"\",はじめに出場選手の入力!I40)","v":""},{"$f":"IF(はじめに出場選手の入力!J40=\"\",\"\",はじめに出場選手の入力!J40)","v":""},{"$f":"IF(はじめに出場選手の入力!K40=\"\",\"\",はじめに出場選手の入力!K40)","v":""},{"$f":"IF(はじめに出場選手の入力!L40=\"\",\"\",はじめに出場選手の入力!L40)","v":""},{"$f":"IF(はじめに出場選手の入力!M40=\"\",\"\",はじめに出場選手の入力!M40)","v":""},null,null,null,null,null,null,null,null,null,0]
[27,{"$f":"IF(はじめに出場選手の入力!I41=\"\",\"\",はじめに出場選手の入力!I41)","v":""},{"$f":"IF(はじめに出場選手の入力!J41=\"\",\"\",はじめに出場選手の入力!J41)","v":""},{"$f":"IF(はじめに出場選手の入力!K41=\"\",\"\",はじめに出場選手の入力!K41)","v":""},{"$f":"IF(はじめに出場選手の入力!L41=\"\",\"\",はじめに出場選手の入力!L41)","v":""},{"$f":"IF(はじめに出場選手の入力!M41=\"\",\"\",はじめに出場選手の入力!M41)","v":""},null,null,null,null,null,null,null,null,null,0]
[28,{"$f":"IF(はじめに出場選手の入力!I42=\"\",\"\",はじめに出場選手の入力!I42)","v":""},{"$f":"IF(はじめに出場選手の入力!J42=\"\",\"\",はじめに出場選手の入力!J42)","v":""},{"$f":"IF(はじめに出場選手の入力!K42=\"\",\"\",はじめに出場選手の入力!K42)","v":""},{"$f":"IF(はじめに出場選手の入力!L42=\"\",\"\",はじめに出場選手の入力!L42)","v":""},{"$f":"IF(はじめに出場選手の入力!M42=\"\",\"\",はじめに出場選手の入力!M42)","v":""},null,null,null,null,null,null,null,null,null,0]
[29,{"$f":"IF(はじめに出場選手の入力!I43=\"\",\"\",はじめに出場選手の入力!I43)","v":""},{"$f":"IF(はじめに出場選手の入力!J43=\"\",\"\",はじめに出場選手の入力!J43)","v":""},{"$f":"IF(はじめに出場選手の入力!K43=\"\",\"\",はじめに出場選手の入力!K43)","v":""},{"$f":"IF(はじめに出場選手の入力!L43=\"\",\"\",はじめに出場選手の入力!L43)","v":""},{"$f":"IF(はじめに出場選手の入力!M43=\"\",\"\",はじめに出場選手の入力!M43)","v":""},null,null,null,null,null,null,null,null,null,0]
[30,{"$f":"IF(はじめに出場選手の入力!I44=\"\",\"\",はじめに出場選手の入力!I44)","v":""},{"$f":"IF(はじめに出場選手の入力!J44=\"\",\"\",はじめに出場選手の入力!J44)","v":""},{"$f":"IF(はじめに出場選手の入力!K44=\"\",\"\",はじめに出場選手の入力!K44)","v":""},{"$f":"IF(はじめに出場選手の入力!L44=\"\",\"\",はじめに出場選手の入力!L44)","v":""},{"$f":"IF(はじめに出場選手の入力!M44=\"\",\"\",はじめに出場選手の入力!M44)","v":""},null,null,null,null,null,null,null,null,null,0]

{"sheet":"男女リレー","index":3,"n_rows":69,"n_cols":28,"rows_kept":69,"cut":false,"hidden":false,"merged":[[22,25,23,27],[10,25,11,27],[2,23,4,23],[14,23,16,23],[20,23,25,23],[6,25,7,25],[6,26,7,26],[6,27,7,27],[18,25,19,25],[18,26,19,26],[18,27,19,27]]}
["記入見本","県名","チーム名","記録","№","氏名","学年","№","氏名","学年","№","氏名","学年","№","氏名","学年","№","氏名","学年","№","氏名","学年"]
["(1)","石川県","七尾陸上高校","49.26",781,"風向　育三",1,781,"吹風　逆行",1,94,"大河　流冷",2,96,"翼　開",2,97,"古倉　一造",1,100,"川端　康成",1]
[null,null,null,null,null,null,null,null,null,null,null,null,null,null,null,null,null,null,null,null,null,null,null,"関数の入っているセルは\n入力しないでください。"]
[]
["男　子 ４×１００ｍＲ",null,null,null,null,null,null,null,null,null,null,null,null,null,null,null,null,null,null,null,null,null,null,null,null,"男子リレー種目エントリー数"]
[null,"県名","チーム名","記録","№","氏名","学年","№","氏名","学年","№","氏名","学年","№","氏名","学年","№","氏名","学年","№","氏名","学年",null,null,null,"4×100ｍＲ","4×400ｍＲ","ﾒﾄﾞﾚｰＲ"]
["(1)",{"$f":"はじめに出場選手の入力!$C$5","v":0},{"$f":"+はじめに出場選手の入力!$E$15&\"Ａ\"","v":"Ａ"},null,null,{"$f":"IF(E7=\"\",\"\",VLOOKUP(E7,はじめに出場選手の入力!$C$15:$F$44,2))","v":""},{"$f":"IF(E7=\"\",\"\",VLOOKUP(E7,はじめに出場選手の入力!$C$15:$F$44,4))","v":""},null,{"$f":"IF(H7=\"\",\"\",VLOOKUP(H7,はじめに出場選手の入力!$C$15:$F$44,2))","v":""},{"$f":"IF(H7=\"\",\"\",VLOOKUP(H7,はじめに出場選手の入力!$C$15:$F$44,4))","v":""},null,{"$f":"IF(K7=\"\",\"\",VLOOKUP(K7,はじめに出場選手の入力!$C$15:$F$44,2))","v":""},{"$f":"IF(K7=\"\",\"\",VLOOKUP(K7,はじめに出場選手の入力!$C$15:$F$44,4))","v":""},null,{"$f":"IF(N7=\"\",\"\",VLOOKUP(N7,はじめに出場選手の入力!$C$15:$F$44,2))","v":""},{"$f":"IF(N7=\"\",\"\",VLOOKUP(N7,はじめに出場選手の入力!$C$15:$F$44,4))","v":""},null,{"$f":"IF(Q7=\"\",\"\",VLOOKUP(Q7,はじめに出場選手の入力!$C$15:$F$44,2))","v":""},{"$f":"IF(Q7=\"\",\"\",VLOOKUP(Q7,はじめに出場選手の入力!$C$15:$F$44,4))","v":""},null,{"$f":"IF(T7=\"\",\"\",VLOOKUP(T7,はじめに出場選手の入力!$C$15:$F$44,2))","v":""},{"$f":"IF(T7=\"\",\"\",VLOOKUP(T7,はじめに出場選手の入力!$C$15:$F$44,4))","v":""},null,null,null,{"$f":"+COUNTA(D7:D14)","v":0},{"$f":"+COUNTA(D18:D25)","v":0},{"$f":"+COUNTA(D29:D36)","v":0}]
["(2)",{"$f":"はじめに出場選手の入力!$C$5","v":0},{"$f":"+はじめに出場選手の入力!$E$15&\"Ｂ\"","v":"Ｂ"},null,null,{"$f":"IF(E8=\"\",\"\",VLOOKUP(E8,はじめに出場選手の入力!$C$15:$F$44,2))","v":""},{"$f":"IF(E8=\"\",\"\",VLOOKUP(E8,はじめに出場選手の入力!$C$15:$F$44,4))","v":""},null,{"$f":"IF(H8=\"\",\"\",VLOOKUP(H8,はじめに出場選手の入力!$C$15:$F$44,2))","v":""},{"$f":"IF(H8=\"\",\"\",VLOOKUP(H8,はじめに出場選手の入力!$C$15:$F$44,4))","v":""},null,{"$f":"IF(K8=\"\",\"\",VLOOKUP(K8,はじめに出場選手の入力!$C$15:$F$44,2))","v":""},{"$f":"IF(K8=\"\",\"\",VLOOKUP(K8,はじめに出場選手の入力!$C$15:$F$44,4))","v":""},null,{"$f":"IF(N8=\"\",\"\",VLOOKUP(N8,はじめに出場選手の入力!$C$15:$F$44,2))","v":""},{"$f":"IF(N8=\"\",\"\",VLOOKUP(N8,はじめに出場選手の入力!$C$15:$F$44,4))","v":""},null,{"$f":"IF(Q8=\"\",\"\",VLOOKUP(Q8,はじめに出場選手の入力!$C$15:$F$44,2))","v":""},{"$f":"IF(Q8=\"\",\"\",VLOOKUP(Q8,はじめに出場選手の入力!$C$15:$F$44,4))","v":""},null,{"$f":"IF(T8=\"\",\"\",VLOOKUP(T8,はじめに出場選手の入力!$C$15:$F$44,2))","v":""},{"$f":"IF(T8=\"\",\"\",VLOOKUP(T8,はじめに出場選手の入力!$C$15:$F$44,4))","v":""}]
["(3)",{"$f":"はじめに出場選手の入力!$C$5","v":0},{"$f":"+はじめに出場選手の入力!$E$15&\"Ｃ\"","v":"Ｃ"},null,null,{"$f":"IF(E9=\"\",\"\",VLOOKUP(E9,はじめに出場選手の入力!$C$15:$F$44,2))","v":""},{"$f":"IF(E9=\"\",\"\",VLOOKUP(E9,はじめに出場選手の入力!$C$15:$F$44,4))","v":""},null,{"$f":"IF(H9=\"\",\"\",VLOOKUP(H9,はじめに出場選手の入力!$C$15:$F$44,2))","v":""},{"$f":"IF(H9=\"\",\"\",VLOOKUP(H9,はじめに出場選手の入力!$C$15:$F$44,4))","v":""},null,{"$f":"IF(K9=\"\",\"\",VLOOKUP(K9,はじめに出場選手の入力!$C$15:$F$44,2))","v":""},{"$f":"IF(K9=\"\",\"\",VLOOKUP(K9,はじめに出場選手の入力!$C$15:$F$44,4))","v":""},null,{"$f":"IF(N9=\"\",\"\",VLOOKUP(N9,はじめに出場選手の入力!$C$15:$F$44,2))","v":""},{"$f":"IF(N9=\"\",\"\",VLOOKUP(N9,はじめに出場選手の入力!$C$15:$F$44,4))","v":""},null,{"$f":"IF(Q9=\"\",\"\",VLOOKUP(Q9,はじめに出場選手の入力!$C$15:$F$44,2))","v":""},{"$f":"IF(Q9=\"\",\"\",VLOOKUP(Q9,はじめに出場選手の入力!$C$15:$F$44,4))","v":""},null,{"$f":"IF(T9=\"\",\"\",VLOOKUP(T9,はじめに出場選手の入力!$C$15:$F$44,2))","v":""},{"$f":"IF(T9=\"\",\"\",VLOOKUP(T9,はじめに出場選手の入力!$C$15:$F$44,4))","v":""}]
["(4)",{"$f":"はじめに出場選手の入力!$C$5","v":0},{"$f":"+はじめに出場選手の入力!$E$15&\"Ｄ\"","v":"Ｄ"},null,null,{"$f":"IF(E10=\"\",\"\",VLOOKUP(E10,はじめに出場選手の入力!$C$15:$F$44,2))","v":""},{"$f":"IF(E10=\"\",\"\",VLOOKUP(E10,はじめに出場選手の入力!$C$15:$F$44,4))","v":""},null,{"$f":"IF(H10=\"\",\"\",VLOOKUP(H10,はじめに出場選手の入力!$C$15:$F$44,2))","v":""},{"$f":"IF(H10=\"\",\"\",VLOOKUP(H10,はじめに出場選手の入力!$C$15:$F$44,4))","v":""},null,{"$f":"IF(K10=\"\",\"\",VLOOKUP(K10,はじめに出場選手の入力!$C$15:$F$44,2))","v":""},{"$f":"IF(K10=\"\",\"\",VLOOKUP(K10,はじめに出場選手の入力!$C$15:$F$44,4))","v":""},null,{"$f":"IF(N10=\"\",\"\",VLOOKUP(N10,はじめに出場選手の入力!$C$15:$F$44,2))","v":""},{"$f":"IF(N10=\"\",\"\",VLOOKUP(N10,はじめに出場選手の入力!$C$15:$F$44,4))","v":""},null,{"$f":"IF(Q10=\"\",\"\",VLOOKUP(Q10,はじめに出場選手の入力!$C$15:$F$44,2))","v":""},{"$f":"IF(Q10=\"\",\"\",VLOOKUP(Q10,はじめに出場選手の入力!$C$15:$F$44,4))","v":""},null,{"$f":"IF(T10=\"\",\"\",VLOOKUP(T10,はじめに出場選手の入力!$C$15:$F$44,2))","v":""},{"$f":"IF(T10=\"\",\"\",VLOOKUP(T10,はじめに出場選手の入力!$C$15:$F$44,4))","v":""},null,"自己記録の入力方法",null,"男子","総エントリー数"]
["(5)",{"$f":"はじめに出場選手の入力!$C$5","v":0},{"$f":"+はじめに出場選手の入力!$E$15&\"Ｅ\"","v":"Ｅ"},null,null,{"$f":"IF(E11=\"\",\"\",VLOOKUP(E11,はじめに出場選手の入力!$C$15:$F$44,2))","v":""},{"$f":"IF(E11=\"\",\"\",VLOOKUP(E11,はじめに出場選手の入力!$C$15:$F$44,4))","v":""},null,{"$f":"IF(H11=\"\",\"\",VLOOKUP(H11,はじめに出場選手の入力!$C$15:$F$44,2))","v":""},{"$f":"IF(H11=\"\",\"\",VLOOKUP(H11,はじめに出場選手の入力!$C$15:$F$44,4))","v":""},null,{"$f":"IF(K11=\"\",\"\",VLOOKUP(K11,はじめに出場選手の入力!$C$15:$F$44,2))","v":""},{"$f":"IF(K11=\"\",\"\",VLOOKUP(K11,はじめに出場選手の入力!$C$15:$F$44,4))","v":""},null,{"$f":"IF(N11=\"\",\"\",VLOOKUP(N11,はじめに出場選手の入力!$C$15:$F$44,2))","v":""},{"$f":"IF(N11=\"\",\"\",VLOOKUP(N11,はじめに出場選手の入力!$C$15:$F$44,4))","v":""},null,{"$f":"IF(Q11=\"\",\"\",VLOOKUP(Q11,はじめに出場選手の入力!$C$15:$F$44,2))","v":""},{"$f":"IF(Q11=\"\",\"\",VLOOKUP(Q11,はじめに出場選手の入力!$C$15:$F$44,4))","v":""},null,{"$f":"IF(T11=\"\",\"\",VLOOKUP(T11,はじめに出場選手の入力!$C$15:$F$44,2))","v":""},{"$f":"IF(T11=\"\",\"\",VLOOKUP(T11,はじめに出場選手の入力!$C$15:$F$44,4))","v":""},null,"記入例",null,{"$f":"SUM(Z7:AB8)","v":0}]
["(6)",{"$f":"はじめに出場選手の入力!$C$5","v":0},{"$f":"+はじめに出場選手の入力!$E$15&\"Ｆ\"","v":"Ｆ"},null,null,{"$f":"IF(E12=\"\",\"\",VLOOKUP(E12,はじめに出場選手の入力!$C$15:$F$44,2))","v":""},{"$f":"IF(E12=\"\",\"\",VLOOKUP(E12,はじめに出場選手の入力!$C$15:$F$44,4))","v":""},null,{"$f":"IF(H12=\"\",\"\",VLOOKUP(H12,はじめに出場選手の入力!$C$15:$F$44,2))","v":""},{"$f":"IF(H12=\"\",\"\",VLOOKUP(H12,はじめに出場選手の入力!$C$15:$F$44,4))","v":""},null,{"$f":"IF(K12=\"\",\"\",VLOOKUP(K12,はじめに出場選手の入力!$C$15:$F$44,2))","v":""},{"$f":"IF(K12=\"\",\"\",VLOOKUP(K12,はじめに出場選手の入力!$C$15:$F$44,4))","v":""},null,{"$f":"IF(N12=\"\",\"\",VLOOKUP(N12,はじめに出場選手の入力!$C$15:$F$44,2))","v":""},{"$f":"IF(N12=\"\",\"\",VLOOKUP(N12,はじめに出場選手の入力!$C$15:$F$44,4))","v":""},null,{"$f":"IF(Q12=\"\",\"\",VLOOKUP(Q12,はじめに出場選手の入力!$C$15:$F$44,2))","v":""},{"$f":"IF(Q12=\"\",\"\",VLOOKUP(Q12,はじめに出場選手の入力!$C$15:$F$44,4))","v":""},null,{"$f":"IF(T12=\"\",\"\",VLOOKUP(T12,はじめに出場選手の入力!$C$15:$F$44,2))","v":""},{"$f":"IF(T12=\"\",\"\",VLOOKUP(T12,はじめに出場選手の入力!$C$15:$F$44,4))","v":""},null,"１２秒３０　→　1230"]
["(7)",{"$f":"はじめに出場選手の入力!$C$5","v":0},{"$f":"+はじめに出場選手の入力!$E$15&\"Ｇ\"","v":"Ｇ"},null,null,{"$f":"IF(E13=\"\",\"\",VLOOKUP(E13,はじめに出場選手の入力!$C$15:$F$44,2))","v":""},{"$f":"IF(E13=\"\",\"\",VLOOKUP(E13,はじめに出場選手の入力!$C$15:$F$44,4))","v":""},null,{"$f":"IF(H13=\"\",\"\",VLOOKUP(H13,はじめに出場選手の入力!$C$15:$F$44,2))","v":""},{"$f":"IF(H13=\"\",\"\",VLOOKUP(H13,はじめに出場選手の入力!$C$15:$F$44,4))","v":""},null,{"$f":"IF(K13=\"\",\"\",VLOOKUP(K13,はじめに出場選手の入力!$C$15:$F$44,2))","v":""},{"$f":"IF(K13=\"\",\"\",VLOOKUP(K13,はじめに出場選手の入力!$C$15:$F$44,4))","v":""},null,{"$f":"IF(N13=\"\",\"\",VLOOKUP(N13,はじめに出場選手の入力!$C$15:$F$44,2))","v":""},{"$f":"IF(N13=\"\",\"\",VLOOKUP(N13,はじめに出場選手の入力!$C$15:$F$44,4))","v":""},null,{"$f":"IF(Q13=\"\",\"\",VLOOKUP(Q13,はじめに出場選手の入力!$C$15:$F$44,2))","v":""},{"$f":"IF(Q13=\"\",\"\",VLOOKUP(Q13,はじめに出場選手の入力!$C$15:$F$44,4))","v":""},null,{"$f":"IF(T13=\"\",\"\",VLOOKUP(T13,はじめに出場選手の入力!$C$15:$F$44,2))","v":""},{"$f":"IF(T13=\"\",\"\",VLOOKUP(T13,はじめに出場選手の入力!$C$15:$F$44,4))","v":""},null,"１分２秒３４　→　10234"]
["(8)",{"$f":"はじめに出場選手の入力!$C$5","v":0},{"$f":"+はじめに出場選手の入力!$E$15&\"Ｈ\"","v":"Ｈ"},null,null,{"$f":"IF(E14=\"\",\"\",VLOOKUP(E14,はじめに出場選手の入力!$C$15:$F$44,2))","v":""},{"$f":"IF(E14=\"\",\"\",VLOOKUP(E14,はじめに出場選手の入力!$C$15:$F$44,4))","v":""},null,{"$f":"IF(H14=\"\",\"\",VLOOKUP(H14,はじめに出場選手の入力!$C$15:$F$44,2))","v":""},{"$f":"IF(H14=\"\",\"\",VLOOKUP(H14,はじめに出場選手の入力!$C$15:$F$44,4))","v":""},null,{"$f":"IF(K14=\"\",\"\",VLOOKUP(K14,はじめに出場選手の入力!$C$15:$F$44,2))","v":""},{"$f":"IF(K14=\"\",\"\",VLOOKUP(K14,はじめに出場選手の入力!$C$15:$F$44,4))","v":""},null,{"$f":"IF(N14=\"\",\"\",VLOOKUP(N14,はじめに出場選手の入力!$C$15:$F$44,2))","v":""},{"$f":"IF(N14=\"\",\"\",VLOOKUP(N14,はじめに出場選手の入力!$C$15:$F$44,4))","v":""},null,{"$f":"IF(Q14=\"\",\"\",VLOOKUP(Q14,はじめに出場選手の入力!$C$15:$F$44,2))","v":""},{"$f":"IF(Q14=\"\",\"\",VLOOKUP(Q14,はじめに出場選手の入力!$C$15:$F$44,4))","v":""},null,{"$f":"IF(T14=\"\",\"\",VLOOKUP(T14,はじめに出場選手の入力!$C$15:$F$44,2))","v":""},{"$f":"IF(T14=\"\",\"\",VLOOKUP(T14,はじめに出場選手の入力!$C$15:$F$44,4))","v":""}]
[null,null,null,null,null,null,null,null,null,null,null,null,null,null,null,null,null,null,null,null,null,null,null,"注意：手動記録しかない場合も１００分の１秒まで記入する。"]
["男　子 ４×４００ｍＲ"]
[null,"県名","チーム名","記録","№","氏名","学年","№","氏名","学年","№","氏名","学年","№","氏名","学年","№","氏名","学年","№","氏名","学年",null,null,null,"女子リレー種目エントリー数"]
["(1)",{"$f":"はじめに出場選手の入力!$C$5","v":0},{"$f":"+はじめに出場選手の入力!$E$15&\"Ａ\"","v":"Ａ"},null,null,{"$f":"IF(E18=\"\",\"\",VLOOKUP(E18,はじめに出場選手の入力!$C$15:$F$44,2))","v":""},{"$f":"IF(E18=\"\",\"\",VLOOKUP(E18,はじめに出場選手の入力!$C$15:$F$44,4))","v":""},null,{"$f":"IF(H18=\"\",\"\",VLOOKUP(H18,はじめに出場選手の入力!$C$15:$F$44,2))","v":""},{"$f":"IF(H18=\"\",\"\",VLOOKUP(H18,はじめに出場選手の入力!$C$15:$F$44,4))","v":""},null,{"$f":"IF(K18=\"\",\"\",VLOOKUP(K18,はじめに出場選手の入力!$C$15:$F$44,2))","v":""},{"$f":"IF(K18=\"\",\"\",VLOOKUP(K18,はじめに出場選手の入力!$C$15:$F$44,4))","v":""},null,{"$f":"IF(N18=\"\",\"\",VLOOKUP(N18,はじめに出場選手の入力!$C$15:$F$44,2))","v":""},{"$f":"IF(N18=\"\",\"\",VLOOKUP(N18,はじめに出場選手の入力!$C$15:$F$44,4))","v":""},null,{"$f":"IF(Q18=\"\",\"\",VLOOKUP(Q18,はじめに出場選手の入力!$C$15:$F$44,2))","v":""},{"$f":"IF(Q18=\"\",\"\",VLOOKUP(Q18,はじめに出場選手の入力!$C$15:$F$44,4))","v":""},null,null,null,null,"１ｍ７５　→　175",null,"4×100ｍＲ","4×400ｍＲ","ﾒﾄﾞﾚｰＲ"]
["(2)",{"$f":"はじめに出場選手の入力!$C$5","v":0},{"$f":"+はじめに出場選手の入力!$E$15&\"Ｂ\"","v":"Ｂ"},null,null,{"$f":"IF(E19=\"\",\"\",VLOOKUP(E19,はじめに出場選手の入力!$C$15:$F$44,2))","v":""},{"$f":"IF(E19=\"\",\"\",VLOOKUP(E19,はじめに出場選手の入力!$C$15:$F$44,4))","v":""},null,{"$f":"IF(H19=\"\",\"\",VLOOKUP(H19,はじめに出場選手の入力!$C$15:$F$44,2))","v":""},{"$f":"IF(H19=\"\",\"\",VLOOKUP(H19,はじめに出場選手の入力!$C$15:$F$44,4))","v":""},null,{"$f":"IF(K19=\"\",\"\",VLOOKUP(K19,はじめに出場選手の入力!$C$15:$F$44,2))","v":""},{"$f":"IF(K19=\"\",\"\",VLOOKUP(K19,はじめに出場選手の入力!$C$15:$F$44,4))","v":""},null,{"$f":"IF(N19=\"\",\"\",VLOOKUP(N19,はじめに出場選手の入力!$C$15:$F$44,2))","v":""},{"$f":"IF(N19=\"\",\"\",VLOOKUP(N19,はじめに出場選手の入力!$C$15:$F$44,4))","v":""},null,{"$f":"IF(Q19=\"\",\"\",VLOOKUP(Q19,はじめに出場選手の入力!$C$15:$F$44,2))","v":""},{"$f":"IF(Q19=\"\",\"\",VLOOKUP(Q19,はじめに出場選手の入力!$C$15:$F$44,4))","v":""},null,null,null,null,"３４ｍ５６　→　3456",null,{"$f":"+COUNTA(D40:D47)","v":0},{"$f":"+COUNTA(D51:D58)","v":0},{"$f":"+COUNTA(D62:D69)","v":0}]
["(3)",{"$f":"はじめに出場選手の入力!$C$5","v":0},{"$f":"+はじめに出場選手の入力!$E$15&\"Ｃ\"","v":"Ｃ"},null,null,{"$f":"IF(E20=\"\",\"\",VLOOKUP(E20,はじめに出場選手の入力!$C$15:$F$44,2))","v":""},{"$f":"IF(E20=\"\",\"\",VLOOKUP(E20,はじめに出場選手の入力!$C$15:$F$44,4))","v":""},null,{"$f":"IF(H20=\"\",\"\",VLOOKUP(H20,はじめに出場選手の入力!$C$15:$F$44,2))","v":""},{"$f":"IF(H20=\"\",\"\",VLOOKUP(H20,はじめに出場選手の入力!$C$15:$F$44,4))","v":""},null,{"$f":"IF(K20=\"\",\"\",VLOOKUP(K20,はじめに出場選手の入力!$C$15:$F$44,2))","v":""},{"$f":"IF(K20=\"\",\"\",VLOOKUP(K20,はじめに出場選手の入力!$C$15:$F$44,4))","v":""},null,{"$f":"IF(N20=\"\",\"\",VLOOKUP(N20,はじめに出場選手の入力!$C$15:$F$44,2))","v":""},{"$f":"IF(N20=\"\",\"\",VLOOKUP(N20,はじめに出場選手の入力!$C$15:$F$44,4))","v":""},null,{"$f":"IF(Q20=\"\",\"\",VLOOKUP(Q20,はじめに出場選手の入力!$C$15:$F$44,2))","v":""},{"$f":"IF(Q20=\"\",\"\",VLOOKUP(Q20,はじめに出場選手の入力!$C$15:$F$44,4))","v":""}]
["(4)",{"$f":"はじめに出場選手の入力!$C$5","v":0},{"$f":"+はじめに出場選手の入力!$E$15&\"Ｄ\"","v":"Ｄ"},null,null,{"$f":"IF(E21=\"\",\"\",VLOOKUP(E21,はじめに出場選手の入力!$C$15:$F$44,2))","v":""},{"$f":"IF(E21=\"\",\"\",VLOOKUP(E21,はじめに出場選手の入力!$C$15:$F$44,4))","v":""},null,{"$f":"IF(H21=\"\",\"\",VLOOKUP(H21,はじめに出場選手の入力!$C$15:$F$44,2))","v":""},{"$f":"IF(H21=\"\",\"\",VLOOKUP(H21,はじめに出場選手の入力!$C$15:$F$44,4))","v":""},null,{"$f":"IF(K21=\"\",\"\",VLOOKUP(K21,はじめに出場選手の入力!$C$15:$F$44,2))","v":""},{"$f":"IF(K21=\"\",\"\",VLOOKUP(K21,はじめに出場選手の入力!$C$15:$F$44,4))","v":""},null,{"$f":"IF(N21=\"\",\"\",VLOOKUP(N21,はじめに出場選手の入力!$C$15:$F$44,2))","v":""},{"$f":"IF(N21=\"\",\"\",VLOOKUP(N21,はじめに出場選手の入力!$C$15:$F$44,4))","v":""},null,{"$f":"IF(Q21=\"\",\"\",VLOOKUP(Q21,はじめに出場選手の入力!$C$15:$F$44,2))","v":""},{"$f":"IF(Q21=\"\",\"\",VLOOKUP(Q21,はじめに出場選手の入力!$C$15:$F$44,4))","v":""},null,null,null,null,"※入力は半角数字で入力する。記録がない場合は　「なし」　または　目標記録を入力する。"]
["(5)",{"$f":"はじめに出場選手の入力!$C$5","v":0},{"$f":"+はじめに出場選手の入力!$E$15&\"Ｅ\"","v":"Ｅ"},null,null,{"$f":"IF(E22=\"\",\"\",VLOOKUP(E22,はじめに出場選手の入力!$C$15:$F$44,2))","v":""},{"$f":"IF(E22=\"\",\"\",VLOOKUP(E22,はじめに出場選手の入力!$C$15:$F$44,4))","v":""},null,{"$f":"IF(H22=\"\",\"\",VLOOKUP(H22,はじめに出場選手の入力!$C$15:$F$44,2))","v":""},{"$f":"IF(H22=\"\",\"\",VLOOKUP(H22,はじめに出場選手の入力!$C$15:$F$44,4))","v":""},null,{"$f":"IF(K22=\"\",\"\",VLOOKUP(K22,はじめに出場選手の入力!$C$15:$F$44,2))","v":""},{"$f":"IF(K22=\"\",\"\",VLOOKUP(K22,はじめに出場選手の入力!$C$15:$F$44,4))","v":""},null,{"$f":"IF(N22=\"\",\"\",VLOOKUP(N22,はじめに出場選手の入力!$C$15:$F$44,2))","v":""},{"$f":"IF(N22=\"\",\"\",VLOOKUP(N22,はじめに出場選手の入力!$C$15:$F$44,4))","v":""},null,{"$f":"IF(Q22=\"\",\"\",VLOOKUP(Q22,はじめに出場選手の入力!$C$15:$F$44,2))","v":""},{"$f":"IF(Q22=\"\",\"\",VLOOKUP(Q22,はじめに出場選手の入力!$C$15:$F$44,4))","v":""},null,null,null,null,null,null,"女子","総エントリー数"]
["(6)",{"$f":"はじめに出場選手の入力!$C$5","v":0},{"$f":"+はじめに出場選手の入力!$E$15&\"Ｆ\"","v":"Ｆ"},null,null,{"$f":"IF(E23=\"\",\"\",VLOOKUP(E23,はじめに出場選手の入力!$C$15:$F$44,2))","v":""},{"$f":"IF(E23=\"\",\"\",VLOOKUP(E23,はじめに出場選手の入力!$C$15:$F$44,4))","v":""},null,{"$f":"IF(H23=\"\",\"\",VLOOKUP(H23,はじめに出場選手の入力!$C$15:$F$44,2))","v":""},{"$f":"IF(H23=\"\",\"\",VLOOKUP(H23,はじめに出場選手の入力!$C$15:$F$44,4))","v":""},null,{"$f":"IF(K23=\"\",\"\",VLOOKUP(K23,はじめに出場選手の入力!$C$15:$F$44,2))","v":""},{"$f":"IF(K23=\"\",\"\",VLOOKUP(K23,はじめに出場選手の入力!$C$15:$F$44,4))","v":""},null,{"$f":"IF(N23=\"\",\"\",VLOOKUP(N23,はじめに出場選手の入力!$C$15:$F$44,2))","v":""},{"$f":"IF(N23=\"\",\"\",VLOOKUP(N23,はじめに出場選手の入力!$C$15:$F$44,4))","v":""},null,{"$f":"IF(Q23=\"\",\"\",VLOOKUP(Q23,はじめに出場選手の入力!$C$15:$F$44,2))","v":""},{"$f":"IF(Q23=\"\",\"\",VLOOKUP(Q23,はじめに出場選手の入力!$C$15:$F$44,4))","v":""},null,null,null,null,null,null,{"$f":"SUM(Z19:AB20)","v":0}]
["(7)",{"$f":"はじめに出場選手の入力!$C$5","v":0},{"$f":"+はじめに出場選手の入力!$E$15&\"Ｇ\"","v":"Ｇ"},null,null,{"$f":"IF(E24=\"\",\"\",VLOOKUP(E24,はじめに出場選手の入力!$C$15:$F$44,2))","v":""},{"$f":"IF(E24=\"\",\"\",VLOOKUP(E24,はじめに出場選手の入力!$C$15:$F$44,4))","v":""},null,{"$f":"IF(H24=\"\",\"\",VLOOKUP(H24,はじめに出場選手の入力!$C$15:$F$44,2))","v":""},{"$f":"IF(H24=\"\",\"\",VLOOKUP(H24,はじめに出場選手の入力!$C$15:$F$44,4))","v":""},null,{"$f":"IF(K24=\"\",\"\",VLOOKUP(K24,はじめに出場選手の入力!$C$15:$F$44,2))","v":""},{"$f":"IF(K24=\"\",\"\",VLOOKUP(K24,はじめに出場選手の入力!$C$15:$F$44,4))","v":""},null,{"$f":"IF(N24=\"\",\"\",VLOOKUP(N24,はじめに出場選手の入力!$C$15:$F$44,2))","v":""},{"$f":"IF(N24=\"\",\"\",VLOOKUP(N24,はじめに出場選手の入力!$C$15:$F$44,4))","v":""},null,{"$f":"IF(Q24=\"\",\"\",VLOOKUP(Q24,はじめに出場選手の入力!$C$15:$F$44,2))","v":""},{"$f":"IF(Q24=\"\",\"\",VLOOKUP(Q24,はじめに出場選手の入力!$C$15:$F$44,4))","v":""}]
["(8)",{"$f":"はじめに出場選手の入力!$C$5","v":0},{"$f":"+はじめに出場選手の入力!$E$15&\"Ｈ\"","v":"Ｈ"},null,null,{"$f":"IF(E25=\"\",\"\",VLOOKUP(E25,はじめに出場選手の入力!$C$15:$F$44,2))","v":""},{"$f":"IF(E25=\"\",\"\",VLOOKUP(E25,はじめに出場選手の入力!$C$15:$F$44,4))","v":""},null,{"$f":"IF(H25=\"\",\"\",VLOOKUP(H25,はじめに出場選手の入力!$C$15:$F$44,2))","v":""},{"$f":"IF(H25=\"\",\"\",VLOOKUP(H25,はじめに出場選手の入力!$C$15:$F$44,4))","v":""},null,{"$f":"IF(K25=\"\",\"\",VLOOKUP(K25,はじめに出場選手の入力!$C$15:$F$44,2))","v":""},{"$f":"IF(K25=\"\",\"\",VLOOKUP(K25,はじめに出場選手の入力!$C$15:$F$44,4))","v":""},null,{"$f":"IF(N25=\"\",\"\",VLOOKUP(N25,はじめに出場選手の入力!$C$15:$F$44,2))","v":""},{"$f":"IF(N25=\"\",\"\",VLOOKUP(N25,はじめに出場選手の入力!$C$15:$F$44,4))","v":""},null,{"$f":"IF(Q25=\"\",\"\",VLOOKUP(Q25,はじめに出場選手の入力!$C$15:$F$44,2))","v":""},{"$f":"IF(Q25=\"\",\"\",VLOOKUP(Q25,はじめに出場選手の入力!$C$15:$F$44,4))","v":""}]
[]
["男　子 メドレーＲ"]
[null,"県名","チーム名","記録","№","氏名","学年","№","氏名","学年","№","氏名","学年","№","氏名","学年","№","氏名","学年","№","氏名","学年"]
["(1)",{"$f":"はじめに出場選手の入力!$C$5","v":0},{"$f":"+はじめに出場選手の入力!$E$15&\"Ａ\"","v":"Ａ"},null,null,{"$f":"IF(E29=\"\",\"\",VLOOKUP(E29,はじめに出場選手の入力!$C$15:$F$44,2))","v":""},{"$f":"IF(E29=\"\",\"\",VLOOKUP(E29,はじめに出場選手の入力!$C$15:$F$44,4))","v":""},null,{"$f":"IF(H29=\"\",\"\",VLOOKUP(H29,はじめに出場選手の入力!$C$15:$F$44,2))","v":""},{"$f":"IF(H29=\"\",\"\",VLOOKUP(H29,はじめに出場選手の入力!$C$15:$F$44,4))","v":""},null,{"$f":"IF(K29=\"\",\"\",VLOOKUP(K29,はじめに出場選手の入力!$C$15:$F$44,2))","v":""},{"$f":"IF(K29=\"\",\"\",VLOOKUP(K29,はじめに出場選手の入力!$C$15:$F$44,4))","v":""},null,{"$f":"IF(N29=\"\",\"\",VLOOKUP(N29,はじめに出場選手の入力!$C$15:$F$44,2))","v":""},{"$f":"IF(N29=\"\",\"\",VLOOKUP(N29,はじめに出場選手の入力!$C$15:$F$44,4))","v":""},null,{"$f":"IF(Q29=\"\",\"\",VLOOKUP(Q29,はじめに出場選手の入力!$C$15:$F$44,2))","v":""},{"$f":"IF(Q29=\"\",\"\",VLOOKUP(Q29,はじめに出場選手の入力!$C$15:$F$44,4))","v":""}]
["(2)",{"$f":"はじめに出場選手の入力!$C$5","v":0},{"$f":"+はじめに出場選手の入力!$E$15&\"Ｂ\"","v":"Ｂ"},null,null,{"$f":"IF(E30=\"\",\"\",VLOOKUP(E30,はじめに出場選手の入力!$C$15:$F$44,2))","v":""},{"$f":"IF(E30=\"\",\"\",VLOOKUP(E30,はじめに出場選手の入力!$C$15:$F$44,4))","v":""},null,{"$f":"IF(H30=\"\",\"\",VLOOKUP(H30,はじめに出場選手の入力!$C$15:$F$44,2))","v":""},{"$f":"IF(H30=\"\",\"\",VLOOKUP(H30,はじめに出場選手の入力!$C$15:$F$44,4))","v":""},null,{"$f":"IF(K30=\"\",\"\",VLOOKUP(K30,はじめに出場選手の入力!$C$15:$F$44,2))","v":""},{"$f":"IF(K30=\"\",\"\",VLOOKUP(K30,はじめに出場選手の入力!$C$15:$F$44,4))","v":""},null,{"$f":"IF(N30=\"\",\"\",VLOOKUP(N30,はじめに出場選手の入力!$C$15:$F$44,2))","v":""},{"$f":"IF(N30=\"\",\"\",VLOOKUP(N30,はじめに出場選手の入力!$C$15:$F$44,4))","v":""},null,{"$f":"IF(Q30=\"\",\"\",VLOOKUP(Q30,はじめに出場選手の入力!$C$15:$F$44,2))","v":""},{"$f":"IF(Q30=\"\",\"\",VLOOKUP(Q30,はじめに出場選手の入力!$C$15:$F$44,4))","v":""}]
["(3)",{"$f":"はじめに出場選手の入力!$C$5","v":0},{"$f":"+はじめに出場選手の入力!$E$15&\"Ｃ\"","v":"Ｃ"},null,null,{"$f":"IF(E31=\"\",\"\",VLOOKUP(E31,はじめに出場選手の入力!$C$15:$F$44,2))","v":""},{"$f":"IF(E31=\"\",\"\",VLOOKUP(E31,はじめに出場選手の入力!$C$15:$F$44,4))","v":""},null,{"$f":"IF(H31=\"\",\"\",VLOOKUP(H31,はじめに出場選手の入力!$C$15:$F$44,2))","v":""},{"$f":"IF(H31=\"\",\"\",VLOOKUP(H31,はじめに出場選手の入力!$C$15:$F$44,4))","v":""},null,{"$f":"IF(K31=\"\",\"\",VLOOKUP(K31,はじめに出場選手の入力!$C$15:$F$44,2))","v":""},{"$f":"IF(K31=\"\",\"\",VLOOKUP(K31,はじめに出場選手の入力!$C$15:$F$44,4))","v":""},null,{"$f":"IF(N31=\"\",\"\",VLOOKUP(N31,はじめに出場選手の入力!$C$15:$F$44,2))","v":""},{"$f":"IF(N31=\"\",\"\",VLOOKUP(N31,はじめに出場選手の入力!$C$15:$F$44,4))","v":""},null,{"$f":"IF(Q31=\"\",\"\",VLOOKUP(Q31,はじめに出場選手の入力!$C$15:$F$44,2))","v":""},{"$f":"IF(Q31=\"\",\"\",VLOOKUP(Q31,はじめに出場選手の入力!$C$15:$F$44,4))","v":""}]
["(4)",{"$f":"はじめに出場選手の入力!$C$5","v":0},{"$f":"+はじめに出場選手の入力!$E$15&\"Ｄ\"","v":"Ｄ"},null,null,{"$f":"IF(E32=\"\",\"\",VLOOKUP(E32,はじめに出場選手の入力!$C$15:$F$44,2))","v":""},{"$f":"IF(E32=\"\",\"\",VLOOKUP(E32,はじめに出場選手の入力!$C$15:$F$44,4))","v":""},null,{"$f":"IF(H32=\"\",\"\",VLOOKUP(H32,はじめに出場選手の入力!$C$15:$F$44,2))","v":""},{"$f":"IF(H32=\"\",\"\",VLOOKUP(H32,はじめに出場選手の入力!$C$15:$F$44,4))","v":""},null,{"$f":"IF(K32=\"\",\"\",VLOOKUP(K32,はじめに出場選手の入力!$C$15:$F$44,2))","v":""},{"$f":"IF(K32=\"\",\"\",VLOOKUP(K32,はじめに出場選手の入力!$C$15:$F$44,4))","v":""},null,{"$f":"IF(N32=\"\",\"\",VLOOKUP(N32,はじめに出場選手の入力!$C$15:$F$44,2))","v":""},{"$f":"IF(N32=\"\",\"\",VLOOKUP(N32,はじめに出場選手の入力!$C$15:$F$44,4))","v":""},null,{"$f":"IF(Q32=\"\",\"\",VLOOKUP(Q32,はじめに出場選手の入力!$C$15:$F$44,2))","v":""},{"$f":"IF(Q32=\"\",\"\",VLOOKUP(Q32,はじめに出場選手の入力!$C$15:$F$44,4))","v":""}]
["(5)",{"$f":"はじめに出場選手の入力!$C$5","v":0},{"$f":"+はじめに出場選手の入力!$E$15&\"Ｅ\"","v":"Ｅ"},null,null,{"$f":"IF(E33=\"\",\"\",VLOOKUP(E33,はじめに出場選手の入力!$C$15:$F$44,2))","v":""},{"$f":"IF(E33=\"\",\"\",VLOOKUP(E33,はじめに出場選手の入力!$C$15:$F$44,4))","v":""},null,{"$f":"IF(H33=\"\",\"\",VLOOKUP(H33,はじめに出場選手の入力!$C$15:$F$44,2))","v":""},{"$f":"IF(H33=\"\",\"\",VLOOKUP(H33,はじめに出場選手の入力!$C$15:$F$44,4))","v":""},null,{"$f":"IF(K33=\"\",\"\",VLOOKUP(K33,はじめに出場選手の入力!$C$15:$F$44,2))","v":""},{"$f":"IF(K33=\"\",\"\",VLOOKUP(K33,はじめに出場選手の入力!$C$15:$F$44,4))","v":""},null,{"$f":"IF(N33=\"\",\"\",VLOOKUP(N33,はじめに出場選手の入力!$C$15:$F$44,2))","v":""},{"$f":"IF(N33=\"\",\"\",VLOOKUP(N33,はじめに出場選手の入力!$C$15:$F$44,4))","v":""},null,{"$f":"IF(Q33=\"\",\"\",VLOOKUP(Q33,はじめに出場選手の入力!$C$15:$F$44,2))","v":""},{"$f":"IF(Q33=\"\",\"\",VLOOKUP(Q33,はじめに出場選手の入力!$C$15:$F$44,4))","v":""}]
["(6)",{"$f":"はじめに出場選手の入力!$C$5","v":0},{"$f":"+はじめに出場選手の入力!$E$15&\"Ｆ\"","v":"Ｆ"},null,null,{"$f":"IF(E34=\"\",\"\",VLOOKUP(E34,はじめに出場選手の入力!$C$15:$F$44,2))","v":""},{"$f":"IF(E34=\"\",\"\",VLOOKUP(E34,はじめに出場選手の入力!$C$15:$F$44,4))","v":""},null,{"$f":"IF(H34=\"\",\"\",VLOOKUP(H34,はじめに出場選手の入力!$C$15:$F$44,2))","v":""},{"$f":"IF(H34=\"\",\"\",VLOOKUP(H34,はじめに出場選手の入力!$C$15:$F$44,4))","v":""},null,{"$f":"IF(K34=\"\",\"\",VLOOKUP(K34,はじめに出場選手の入力!$C$15:$F$44,2))","v":""},{"$f":"IF(K34=\"\",\"\",VLOOKUP(K34,はじめに出場選手の入力!$C$15:$F$44,4))","v":""},null,{"$f":"IF(N34=\"\",\"\",VLOOKUP(N34,はじめに出場選手の入力!$C$15:$F$44,2))","v":""},{"$f":"IF(N34=\"\",\"\",VLOOKUP(N34,はじめに出場選手の入力!$C$15:$F$44,4))","v":""},null,{"$f":"IF(Q34=\"\",\"\",VLOOKUP(Q34,はじめに出場選手の入力!$C$15:$F$44,2))","v":""},{"$f":"IF(Q34=\"\",\"\",VLOOKUP(Q34,はじめに出場選手の入力!$C$15:$F$44,4))","v":""}]
["(7)",{"$f":"はじめに出場選手の入力!$C$5","v":0},{"$f":"+はじめに出場選手の入力!$E$15&\"Ｇ\"","v":"Ｇ"},null,null,{"$f":"IF(E35=\"\",\"\",VLOOKUP(E35,はじめに出場選手の入力!$C$15:$F$44,2))","v":""},{"$f":"IF(E35=\"\",\"\",VLOOKUP(E35,はじめに出場選手の入力!$C$15:$F$44,4))","v":""},null,{"$f":"IF(H35=\"\",\"\",VLOOKUP(H35,はじめに出場選手の入力!$C$15:$F$44,2))","v":""},{"$f":"IF(H35=\"\",\"\",VLOOKUP(H35,はじめに出場選手の入力!$C$15:$F$44,4))","v":""},null,{"$f":"IF(K35=\"\",\"\",VLOOKUP(K35,はじめに出場選手の入力!$C$15:$F$44,2))","v":""},{"$f":"IF(K35=\"\",\"\",VLOOKUP(K35,はじめに出場選手の入力!$C$15:$F$44,4))","v":""},null,{"$f":"IF(N35=\"\",\"\",VLOOKUP(N35,はじめに出場選手の入力!$C$15:$F$44,2))","v":""},{"$f":"IF(N35=\"\",\"\",VLOOKUP(N35,はじめに出場選手の入力!$C$15:$F$44,4))","v":""},null,{"$f":"IF(Q35=\"\",\"\",VLOOKUP(Q35,はじめに出場選手の入力!$C$15:$F$44,2))","v":""},{"$f":"IF(Q35=\"\",\"\",VLOOKUP(Q35,はじめに出場選手の入力!$C$15:$F$44,4))","v":""}]
["(8)",{"$f":"はじめに出場選手の入力!$C$5","v":0},{"$f":"+はじめに出場選手の入力!$E$15&\"Ｈ\"","v":"Ｈ"},null,null,{"$f":"IF(E36=\"\",\"\",VLOOKUP(E36,はじめに出場選手の入力!$C$15:$F$44,2))","v":""},{"$f":"IF(E36=\"\",\"\",VLOOKUP(E36,はじめに出場選手の入力!$C$15:$F$44,4))","v":""},null,{"$f":"IF(H36=\"\",\"\",VLOOKUP(H36,はじめに出場選手の入力!$C$15:$F$44,2))","v":""},{"$f":"IF(H36=\"\",\"\",VLOOKUP(H36,はじめに出場選手の入力!$C$15:$F$44,4))","v":""},null,{"$f":"IF(K36=\"\",\"\",VLOOKUP(K36,はじめに出場選手の入力!$C$15:$F$44,2))","v":""},{"$f":"IF(K36=\"\",\"\",VLOOKUP(K36,はじめに出場選手の入力!$C$15:$F$44,4))","v":""},null,{"$f":"IF(N36=\"\",\"\",VLOOKUP(N36,はじめに出場選手の入力!$C$15:$F$44,2))","v":""},{"$f":"IF(N36=\"\",\"\",VLOOKUP(N36,はじめに出場選手の入力!$C$15:$F$44,4))","v":""},null,{"$f":"IF(Q36=\"\",\"\",VLOOKUP(Q36,はじめに出場選手の入力!$C$15:$F$44,2))","v":""},{"$f":"IF(Q36=\"\",\"\",VLOOKUP(Q36,はじめに出場選手の入力!$C$15:$F$44,4))","v":""}]
[]
["女　子 ４×１００ｍＲ"]
[null,"県名","チーム名","記録","№","氏名","学年","№","氏名","学年","№","氏名","学年","№","氏名","学年","№","氏名","学年","№","氏名","学年"]
["(1)",{"$f":"はじめに出場選手の入力!$C$5","v":0},{"$f":"+はじめに出場選手の入力!$L$15&\"Ａ\"","v":"Ａ"},null,null,{"$f":"IF(E40=\"\",\"\",VLOOKUP(E40,はじめに出場選手の入力!$J$15:$M$44,2))","v":""},{"$f":"IF(E40=\"\",\"\",VLOOKUP(E40,はじめに出場選手の入力!$J$15:$M$44,4))","v":""},null,{"$f":"IF(H40=\"\",\"\",VLOOKUP(H40,はじめに出場選手の入力!$J$15:$M$44,2))","v":""},{"$f":"IF(H40=\"\",\"\",VLOOKUP(H40,はじめに出場選手の入力!$J$15:$M$44,4))","v":""},null,{"$f":"IF(K40=\"\",\"\",VLOOKUP(K40,はじめに出場選手の入力!$J$15:$M$44,2))","v":""},{"$f":"IF(K40=\"\",\"\",VLOOKUP(K40,はじめに出場選手の入力!$J$15:$M$44,4))","v":""},null,{"$f":"IF(N40=\"\",\"\",VLOOKUP(N40,はじめに出場選手の入力!$J$15:$M$44,2))","v":""},{"$f":"IF(N40=\"\",\"\",VLOOKUP(N40,はじめに出場選手の入力!$J$15:$M$44,4))","v":""},null,{"$f":"IF(Q40=\"\",\"\",VLOOKUP(Q40,はじめに出場選手の入力!$J$15:$M$44,2))","v":""},{"$f":"IF(Q40=\"\",\"\",VLOOKUP(Q40,はじめに出場選手の入力!$J$15:$M$44,4))","v":""},null,{"$f":"IF(T40=\"\",\"\",VLOOKUP(T40,はじめに出場選手の入力!$J$15:$M$44,2))","v":""},{"$f":"IF(T40=\"\",\"\",VLOOKUP(T40,はじめに出場選手の入力!$J$15:$M$44,4))","v":""}]
["(2)",{"$f":"はじめに出場選手の入力!$C$5","v":0},{"$f":"+はじめに出場選手の入力!$L$15&\"Ｂ\"","v":"Ｂ"},null,null,{"$f":"IF(E41=\"\",\"\",VLOOKUP(E41,はじめに出場選手の入力!$J$15:$M$44,2))","v":""},{"$f":"IF(E41=\"\",\"\",VLOOKUP(E41,はじめに出場選手の入力!$J$15:$M$44,4))","v":""},null,{"$f":"IF(H41=\"\",\"\",VLOOKUP(H41,はじめに出場選手の入力!$J$15:$M$44,2))","v":""},{"$f":"IF(H41=\"\",\"\",VLOOKUP(H41,はじめに出場選手の入力!$J$15:$M$44,4))","v":""},null,{"$f":"IF(K41=\"\",\"\",VLOOKUP(K41,はじめに出場選手の入力!$J$15:$M$44,2))","v":""},{"$f":"IF(K41=\"\",\"\",VLOOKUP(K41,はじめに出場選手の入力!$J$15:$M$44,4))","v":""},null,{"$f":"IF(N41=\"\",\"\",VLOOKUP(N41,はじめに出場選手の入力!$J$15:$M$44,2))","v":""},{"$f":"IF(N41=\"\",\"\",VLOOKUP(N41,はじめに出場選手の入力!$J$15:$M$44,4))","v":""},null,{"$f":"IF(Q41=\"\",\"\",VLOOKUP(Q41,はじめに出場選手の入力!$J$15:$M$44,2))","v":""},{"$f":"IF(Q41=\"\",\"\",VLOOKUP(Q41,はじめに出場選手の入力!$J$15:$M$44,4))","v":""},null,{"$f":"IF(T41=\"\",\"\",VLOOKUP(T41,はじめに出場選手の入力!$J$15:$M$44,2))","v":""},{"$f":"IF(T41=\"\",\"\",VLOOKUP(T41,はじめに出場選手の入力!$J$15:$M$44,4))","v":""}]
["(3)",{"$f":"はじめに出場選手の入力!$C$5","v":0},{"$f":"+はじめに出場選手の入力!$L$15&\"Ｃ\"","v":"Ｃ"},null,null,{"$f":"IF(E42=\"\",\"\",VLOOKUP(E42,はじめに出場選手の入力!$J$15:$M$44,2))","v":""},{"$f":"IF(E42=\"\",\"\",VLOOKUP(E42,はじめに出場選手の入力!$J$15:$M$44,4))","v":""},null,{"$f":"IF(H42=\"\",\"\",VLOOKUP(H42,はじめに出場選手の入力!$J$15:$M$44,2))","v":""},{"$f":"IF(H42=\"\",\"\",VLOOKUP(H42,はじめに出場選手の入力!$J$15:$M$44,4))","v":""},null,{"$f":"IF(K42=\"\",\"\",VLOOKUP(K42,はじめに出場選手の入力!$J$15:$M$44,2))","v":""},{"$f":"IF(K42=\"\",\"\",VLOOKUP(K42,はじめに出場選手の入力!$J$15:$M$44,4))","v":""},null,{"$f":"IF(N42=\"\",\"\",VLOOKUP(N42,はじめに出場選手の入力!$J$15:$M$44,2))","v":""},{"$f":"IF(N42=\"\",\"\",VLOOKUP(N42,はじめに出場選手の入力!$J$15:$M$44,4))","v":""},null,{"$f":"IF(Q42=\"\",\"\",VLOOKUP(Q42,はじめに出場選手の入力!$J$15:$M$44,2))","v":""},{"$f":"IF(Q42=\"\",\"\",VLOOKUP(Q42,はじめに出場選手の入力!$J$15:$M$44,4))","v":""},null,{"$f":"IF(T42=\"\",\"\",VLOOKUP(T42,はじめに出場選手の入力!$J$15:$M$44,2))","v":""},{"$f":"IF(T42=\"\",\"\",VLOOKUP(T42,はじめに出場選手の入力!$J$15:$M$44,4))","v":""}]
["(4)",{"$f":"はじめに出場選手の入力!$C$5","v":0},{"$f":"+はじめに出場選手の入力!$L$15&\"Ｄ\"","v":"Ｄ"},null,null,{"$f":"IF(E43=\"\",\"\",VLOOKUP(E43,はじめに出場選手の入力!$J$15:$M$44,2))","v":""},{"$f":"IF(E43=\"\",\"\",VLOOKUP(E43,はじめに出場選手の入力!$J$15:$M$44,4))","v":""},null,{"$f":"IF(H43=\"\",\"\",VLOOKUP(H43,はじめに出場選手の入力!$J$15:$M$44,2))","v":""},{"$f":"IF(H43=\"\",\"\",VLOOKUP(H43,はじめに出場選手の入力!$J$15:$M$44,4))","v":""},null,{"$f":"IF(K43=\"\",\"\",VLOOKUP(K43,はじめに出場選手の入力!$J$15:$M$44,2))","v":""},{"$f":"IF(K43=\"\",\"\",VLOOKUP(K43,はじめに出場選手の入力!$J$15:$M$44,4))","v":""},null,{"$f":"IF(N43=\"\",\"\",VLOOKUP(N43,はじめに出場選手の入力!$J$15:$M$44,2))","v":""},{"$f":"IF(N43=\"\",\"\",VLOOKUP(N43,はじめに出場選手の入力!$J$15:$M$44,4))","v":""},null,{"$f":"IF(Q43=\"\",\"\",VLOOKUP(Q43,はじめに出場選手の入力!$J$15:$M$44,2))","v":""},{"$f":"IF(Q43=\"\",\"\",VLOOKUP(Q43,はじめに出場選手の入力!$J$15:$M$44,4))","v":""},null,{"$f":"IF(T43=\"\",\"\",VLOOKUP(T43,はじめに出場選手の入力!$J$15:$M$44,2))","v":""},{"$f":"IF(T43=\"\",\"\",VLOOKUP(T43,はじめに出場選手の入力!$J$15:$M$44,4))","v":""}]
["(5)",{"$f":"はじめに出場選手の入力!$C$5","v":0},{"$f":"+はじめに出場選手の入力!$L$15&\"L\"","v":"L"},null,null,{"$f":"IF(E44=\"\",\"\",VLOOKUP(E44,はじめに出場選手の入力!$J$15:$M$44,2))","v":""},{"$f":"IF(E44=\"\",\"\",VLOOKUP(E44,はじめに出場選手の入力!$J$15:$M$44,4))","v":""},null,{"$f":"IF(H44=\"\",\"\",VLOOKUP(H44,はじめに出場選手の入力!$J$15:$M$44,2))","v":""},{"$f":"IF(H44=\"\",\"\",VLOOKUP(H44,はじめに出場選手の入力!$J$15:$M$44,4))","v":""},null,{"$f":"IF(K44=\"\",\"\",VLOOKUP(K44,はじめに出場選手の入力!$J$15:$M$44,2))","v":""},{"$f":"IF(K44=\"\",\"\",VLOOKUP(K44,はじめに出場選手の入力!$J$15:$M$44,4))","v":""},null,{"$f":"IF(N44=\"\",\"\",VLOOKUP(N44,はじめに出場選手の入力!$J$15:$M$44,2))","v":""},{"$f":"IF(N44=\"\",\"\",VLOOKUP(N44,はじめに出場選手の入力!$J$15:$M$44,4))","v":""},null,{"$f":"IF(Q44=\"\",\"\",VLOOKUP(Q44,はじめに出場選手の入力!$J$15:$M$44,2))","v":""},{"$f":"IF(Q44=\"\",\"\",VLOOKUP(Q44,はじめに出場選手の入力!$J$15:$M$44,4))","v":""},null,{"$f":"IF(T44=\"\",\"\",VLOOKUP(T44,はじめに出場選手の入力!$J$15:$M$44,2))","v":""},{"$f":"IF(T44=\"\",\"\",VLOOKUP(T44,はじめに出場選手の入力!$J$15:$M$44,4))","v":""}]
["(6)",{"$f":"はじめに出場選手の入力!$C$5","v":0},{"$f":"+はじめに出場選手の入力!$L$15&\"Ｆ\"","v":"Ｆ"},null,null,{"$f":"IF(E45=\"\",\"\",VLOOKUP(E45,はじめに出場選手の入力!$J$15:$M$44,2))","v":""},{"$f":"IF(E45=\"\",\"\",VLOOKUP(E45,はじめに出場選手の入力!$J$15:$M$44,4))","v":""},null,{"$f":"IF(H45=\"\",\"\",VLOOKUP(H45,はじめに出場選手の入力!$J$15:$M$44,2))","v":""},{"$f":"IF(H45=\"\",\"\",VLOOKUP(H45,はじめに出場選手の入力!$J$15:$M$44,4))","v":""},null,{"$f":"IF(K45=\"\",\"\",VLOOKUP(K45,はじめに出場選手の入力!$J$15:$M$44,2))","v":""},{"$f":"IF(K45=\"\",\"\",VLOOKUP(K45,はじめに出場選手の入力!$J$15:$M$44,4))","v":""},null,{"$f":"IF(N45=\"\",\"\",VLOOKUP(N45,はじめに出場選手の入力!$J$15:$M$44,2))","v":""},{"$f":"IF(N45=\"\",\"\",VLOOKUP(N45,はじめに出場選手の入力!$J$15:$M$44,4))","v":""},null,{"$f":"IF(Q45=\"\",\"\",VLOOKUP(Q45,はじめに出場選手の入力!$J$15:$M$44,2))","v":""},{"$f":"IF(Q45=\"\",\"\",VLOOKUP(Q45,はじめに出場選手の入力!$J$15:$M$44,4))","v":""},null,{"$f":"IF(T45=\"\",\"\",VLOOKUP(T45,はじめに出場選手の入力!$J$15:$M$44,2))","v":""},{"$f":"IF(T45=\"\",\"\",VLOOKUP(T45,はじめに出場選手の入力!$J$15:$M$44,4))","v":""}]
["(7)",{"$f":"はじめに出場選手の入力!$C$5","v":0},{"$f":"+はじめに出場選手の入力!$L$15&\"Ｇ\"","v":"Ｇ"},null,null,{"$f":"IF(E46=\"\",\"\",VLOOKUP(E46,はじめに出場選手の入力!$J$15:$M$44,2))","v":""},{"$f":"IF(E46=\"\",\"\",VLOOKUP(E46,はじめに出場選手の入力!$J$15:$M$44,4))","v":""},null,{"$f":"IF(H46=\"\",\"\",VLOOKUP(H46,はじめに出場選手の入力!$J$15:$M$44,2))","v":""},{"$f":"IF(H46=\"\",\"\",VLOOKUP(H46,はじめに出場選手の入力!$J$15:$M$44,4))","v":""},null,{"$f":"IF(K46=\"\",\"\",VLOOKUP(K46,はじめに出場選手の入力!$J$15:$M$44,2))","v":""},{"$f":"IF(K46=\"\",\"\",VLOOKUP(K46,はじめに出場選手の入力!$J$15:$M$44,4))","v":""},null,{"$f":"IF(N46=\"\",\"\",VLOOKUP(N46,はじめに出場選手の入力!$J$15:$M$44,2))","v":""},{"$f":"IF(N46=\"\",\"\",VLOOKUP(N46,はじめに出場選手の入力!$J$15:$M$44,4))","v":""},null,{"$f":"IF(Q46=\"\",\"\",VLOOKUP(Q46,はじめに出場選手の入力!$J$15:$M$44,2))","v":""},{"$f":"IF(Q46=\"\",\"\",VLOOKUP(Q46,はじめに出場選手の入力!$J$15:$M$44,4))","v":""},null,{"$f":"IF(T46=\"\",\"\",VLOOKUP(T46,はじめに出場選手の入力!$J$15:$M$44,2))","v":""},{"$f":"IF(T46=\"\",\"\",VLOOKUP(T46,はじめに出場選手の入力!$J$15:$M$44,4))","v":""}]
["(8)",{"$f":"はじめに出場選手の入力!$C$5","v":0},{"$f":"+はじめに出場選手の入力!$L$15&\"Ｈ\"","v":"Ｈ"},null,null,{"$f":"IF(E47=\"\",\"\",VLOOKUP(E47,はじめに出場選手の入力!$J$15:$M$44,2))","v":""},{"$f":"IF(E47=\"\",\"\",VLOOKUP(E47,はじめに出場選手の入力!$J$15:$M$44,4))","v":""},null,{"$f":"IF(H47=\"\",\"\",VLOOKUP(H47,はじめに出場選手の入力!$J$15:$M$44,2))","v":""},{"$f":"IF(H47=\"\",\"\",VLOOKUP(H47,はじめに出場選手の入力!$J$15:$M$44,4))","v":""},null,{"$f":"IF(K47=\"\",\"\",VLOOKUP(K47,はじめに出場選手の入力!$J$15:$M$44,2))","v":""},{"$f":"IF(K47=\"\",\"\",VLOOKUP(K47,はじめに出場選手の入力!$J$15:$M$44,4))","v":""},null,{"$f":"IF(N47=\"\",\"\",VLOOKUP(N47,はじめに出場選手の入力!$J$15:$M$44,2))","v":""},{"$f":"IF(N47=\"\",\"\",VLOOKUP(N47,はじめに出場選手の入力!$J$15:$M$44,4))","v":""},null,{"$f":"IF(Q47=\"\",\"\",VLOOKUP(Q47,はじめに出場選手の入力!$J$15:$M$44,2))","v":""},{"$f":"IF(Q47=\"\",\"\",VLOOKUP(Q47,はじめに出場選手の入力!$J$15:$M$44,4))","v":""},null,{"$f":"IF(T47=\"\",\"\",VLOOKUP(T47,はじめに出場選手の入力!$J$15:$M$44,2))","v":""},{"$f":"IF(T47=\"\",\"\",VLOOKUP(T47,はじめに出場選手の入力!$J$15:$M$44,4))","v":""}]
[]
["女　子 ４×４００ｍＲ"]
[null,"県名","チーム名","記録","№","氏名","学年","№","氏名","学年","№","氏名","学年","№","氏名","学年","№","氏名","学年","№","氏名","学年"]
["(1)",{"$f":"はじめに出場選手の入力!$C$5","v":0},{"$f":"+はじめに出場選手の入力!$L$15&\"Ａ\"","v":"Ａ"},null,null,{"$f":"IF(E51=\"\",\"\",VLOOKUP(E51,はじめに出場選手の入力!$J$15:$M$44,2))","v":""},{"$f":"IF(E51=\"\",\"\",VLOOKUP(E51,はじめに出場選手の入力!$J$15:$M$44,4))","v":""},null,{"$f":"IF(H51=\"\",\"\",VLOOKUP(H51,はじめに出場選手の入力!$J$15:$M$44,2))","v":""},{"$f":"IF(H51=\"\",\"\",VLOOKUP(H51,はじめに出場選手の入力!$J$15:$M$44,4))","v":""},null,{"$f":"IF(K51=\"\",\"\",VLOOKUP(K51,はじめに出場選手の入力!$J$15:$M$44,2))","v":""},{"$f":"IF(K51=\"\",\"\",VLOOKUP(K51,はじめに出場選手の入力!$J$15:$M$44,4))","v":""},null,{"$f":"IF(N51=\"\",\"\",VLOOKUP(N51,はじめに出場選手の入力!$J$15:$M$44,2))","v":""},{"$f":"IF(N51=\"\",\"\",VLOOKUP(N51,はじめに出場選手の入力!$J$15:$M$44,4))","v":""},null,{"$f":"IF(Q51=\"\",\"\",VLOOKUP(Q51,はじめに出場選手の入力!$J$15:$M$44,2))","v":""},{"$f":"IF(Q51=\"\",\"\",VLOOKUP(Q51,はじめに出場選手の入力!$J$15:$M$44,4))","v":""},null,{"$f":"IF(T51=\"\",\"\",VLOOKUP(T51,はじめに出場選手の入力!$J$15:$M$44,2))","v":""},{"$f":"IF(T51=\"\",\"\",VLOOKUP(T51,はじめに出場選手の入力!$J$15:$M$44,4))","v":""}]
["(2)",{"$f":"はじめに出場選手の入力!$C$5","v":0},{"$f":"+はじめに出場選手の入力!$L$15&\"Ｂ\"","v":"Ｂ"},null,null,{"$f":"IF(E52=\"\",\"\",VLOOKUP(E52,はじめに出場選手の入力!$J$15:$M$44,2))","v":""},{"$f":"IF(E52=\"\",\"\",VLOOKUP(E52,はじめに出場選手の入力!$J$15:$M$44,4))","v":""},null,{"$f":"IF(H52=\"\",\"\",VLOOKUP(H52,はじめに出場選手の入力!$J$15:$M$44,2))","v":""},{"$f":"IF(H52=\"\",\"\",VLOOKUP(H52,はじめに出場選手の入力!$J$15:$M$44,4))","v":""},null,{"$f":"IF(K52=\"\",\"\",VLOOKUP(K52,はじめに出場選手の入力!$J$15:$M$44,2))","v":""},{"$f":"IF(K52=\"\",\"\",VLOOKUP(K52,はじめに出場選手の入力!$J$15:$M$44,4))","v":""},null,{"$f":"IF(N52=\"\",\"\",VLOOKUP(N52,はじめに出場選手の入力!$J$15:$M$44,2))","v":""},{"$f":"IF(N52=\"\",\"\",VLOOKUP(N52,はじめに出場選手の入力!$J$15:$M$44,4))","v":""},null,{"$f":"IF(Q52=\"\",\"\",VLOOKUP(Q52,はじめに出場選手の入力!$J$15:$M$44,2))","v":""},{"$f":"IF(Q52=\"\",\"\",VLOOKUP(Q52,はじめに出場選手の入力!$J$15:$M$44,4))","v":""},null,{"$f":"IF(T52=\"\",\"\",VLOOKUP(T52,はじめに出場選手の入力!$J$15:$M$44,2))","v":""},{"$f":"IF(T52=\"\",\"\",VLOOKUP(T52,はじめに出場選手の入力!$J$15:$M$44,4))","v":""}]
["(3)",{"$f":"はじめに出場選手の入力!$C$5","v":0},{"$f":"+はじめに出場選手の入力!$L$15&\"Ｃ\"","v":"Ｃ"},null,null,{"$f":"IF(E53=\"\",\"\",VLOOKUP(E53,はじめに出場選手の入力!$J$15:$M$44,2))","v":""},{"$f":"IF(E53=\"\",\"\",VLOOKUP(E53,はじめに出場選手の入力!$J$15:$M$44,4))","v":""},null,{"$f":"IF(H53=\"\",\"\",VLOOKUP(H53,はじめに出場選手の入力!$J$15:$M$44,2))","v":""},{"$f":"IF(H53=\"\",\"\",VLOOKUP(H53,はじめに出場選手の入力!$J$15:$M$44,4))","v":""},null,{"$f":"IF(K53=\"\",\"\",VLOOKUP(K53,はじめに出場選手の入力!$J$15:$M$44,2))","v":""},{"$f":"IF(K53=\"\",\"\",VLOOKUP(K53,はじめに出場選手の入力!$J$15:$M$44,4))","v":""},null,{"$f":"IF(N53=\"\",\"\",VLOOKUP(N53,はじめに出場選手の入力!$J$15:$M$44,2))","v":""},{"$f":"IF(N53=\"\",\"\",VLOOKUP(N53,はじめに出場選手の入力!$J$15:$M$44,4))","v":""},null,{"$f":"IF(Q53=\"\",\"\",VLOOKUP(Q53,はじめに出場選手の入力!$J$15:$M$44,2))","v":""},{"$f":"IF(Q53=\"\",\"\",VLOOKUP(Q53,はじめに出場選手の入力!$J$15:$M$44,4))","v":""},null,{"$f":"IF(T53=\"\",\"\",VLOOKUP(T53,はじめに出場選手の入力!$J$15:$M$44,2))","v":""},{"$f":"IF(T53=\"\",\"\",VLOOKUP(T53,はじめに出場選手の入力!$J$15:$M$44,4))","v":""}]
["(4)",{"$f":"はじめに出場選手の入力!$C$5","v":0},{"$f":"+はじめに出場選手の入力!$L$15&\"Ｄ\"","v":"Ｄ"},null,null,{"$f":"IF(E54=\"\",\"\",VLOOKUP(E54,はじめに出場選手の入力!$J$15:$M$44,2))","v":""},{"$f":"IF(E54=\"\",\"\",VLOOKUP(E54,はじめに出場選手の入力!$J$15:$M$44,4))","v":""},null,{"$f":"IF(H54=\"\",\"\",VLOOKUP(H54,はじめに出場選手の入力!$J$15:$M$44,2))","v":""},{"$f":"IF(H54=\"\",\"\",VLOOKUP(H54,はじめに出場選手の入力!$J$15:$M$44,4))","v":""},null,{"$f":"IF(K54=\"\",\"\",VLOOKUP(K54,はじめに出場選手の入力!$J$15:$M$44,2))","v":""},{"$f":"IF(K54=\"\",\"\",VLOOKUP(K54,はじめに出場選手の入力!$J$15:$M$44,4))","v":""},null,{"$f":"IF(N54=\"\",\"\",VLOOKUP(N54,はじめに出場選手の入力!$J$15:$M$44,2))","v":""},{"$f":"IF(N54=\"\",\"\",VLOOKUP(N54,はじめに出場選手の入力!$J$15:$M$44,4))","v":""},null,{"$f":"IF(Q54=\"\",\"\",VLOOKUP(Q54,はじめに出場選手の入力!$J$15:$M$44,2))","v":""},{"$f":"IF(Q54=\"\",\"\",VLOOKUP(Q54,はじめに出場選手の入力!$J$15:$M$44,4))","v":""},null,{"$f":"IF(T54=\"\",\"\",VLOOKUP(T54,はじめに出場選手の入力!$J$15:$M$44,2))","v":""},{"$f":"IF(T54=\"\",\"\",VLOOKUP(T54,はじめに出場選手の入力!$J$15:$M$44,4))","v":""}]
["(5)",{"$f":"はじめに出場選手の入力!$C$5","v":0},{"$f":"+はじめに出場選手の入力!$L$15&\"L\"","v":"L"},null,null,{"$f":"IF(E55=\"\",\"\",VLOOKUP(E55,はじめに出場選手の入力!$J$15:$M$44,2))","v":""},{"$f":"IF(E55=\"\",\"\",VLOOKUP(E55,はじめに出場選手の入力!$J$15:$M$44,4))","v":""},null,{"$f":"IF(H55=\"\",\"\",VLOOKUP(H55,はじめに出場選手の入力!$J$15:$M$44,2))","v":""},{"$f":"IF(H55=\"\",\"\",VLOOKUP(H55,はじめに出場選手の入力!$J$15:$M$44,4))","v":""},null,{"$f":"IF(K55=\"\",\"\",VLOOKUP(K55,はじめに出場選手の入力!$J$15:$M$44,2))","v":""},{"$f":"IF(K55=\"\",\"\",VLOOKUP(K55,はじめに出場選手の入力!$J$15:$M$44,4))","v":""},null,{"$f":"IF(N55=\"\",\"\",VLOOKUP(N55,はじめに出場選手の入力!$J$15:$M$44,2))","v":""},{"$f":"IF(N55=\"\",\"\",VLOOKUP(N55,はじめに出場選手の入力!$J$15:$M$44,4))","v":""},null,{"$f":"IF(Q55=\"\",\"\",VLOOKUP(Q55,はじめに出場選手の入力!$J$15:$M$44,2))","v":""},{"$f":"IF(Q55=\"\",\"\",VLOOKUP(Q55,はじめに出場選手の入力!$J$15:$M$44,4))","v":""},null,{"$f":"IF(T55=\"\",\"\",VLOOKUP(T55,はじめに出場選手の入力!$J$15:$M$44,2))","v":""},{"$f":"IF(T55=\"\",\"\",VLOOKUP(T55,はじめに出場選手の入力!$J$15:$M$44,4))","v":""}]
["(6)",{"$f":"はじめに出場選手の入力!$C$5","v":0},{"$f":"+はじめに出場選手の入力!$L$15&\"Ｆ\"","v":"Ｆ"},null,null,{"$f":"IF(E56=\"\",\"\",VLOOKUP(E56,はじめに出場選手の入力!$J$15:$M$44,2))","v":""},{"$f":"IF(E56=\"\",\"\",VLOOKUP(E56,はじめに出場選手の入力!$J$15:$M$44,4))","v":""},null,{"$f":"IF(H56=\"\",\"\",VLOOKUP(H56,はじめに出場選手の入力!$J$15:$M$44,2))","v":""},{"$f":"IF(H56=\"\",\"\",VLOOKUP(H56,はじめに出場選手の入力!$J$15:$M$44,4))","v":""},null,{"$f":"IF(K56=\"\",\"\",VLOOKUP(K56,はじめに出場選手の入力!$J$15:$M$44,2))","v":""},{"$f":"IF(K56=\"\",\"\",VLOOKUP(K56,はじめに出場選手の入力!$J$15:$M$44,4))","v":""},null,{"$f":"IF(N56=\"\",\"\",VLOOKUP(N56,はじめに出場選手の入力!$J$15:$M$44,2))","v":""},{"$f":"IF(N56=\"\",\"\",VLOOKUP(N56,はじめに出場選手の入力!$J$15:$M$44,4))","v":""},null,{"$f":"IF(Q56=\"\",\"\",VLOOKUP(Q56,はじめに出場選手の入力!$J$15:$M$44,2))","v":""},{"$f":"IF(Q56=\"\",\"\",VLOOKUP(Q56,はじめに出場選手の入力!$J$15:$M$44,4))","v":""},null,{"$f":"IF(T56=\"\",\"\",VLOOKUP(T56,はじめに出場選手の入力!$J$15:$M$44,2))","v":""},{"$f":"IF(T56=\"\",\"\",VLOOKUP(T56,はじめに出場選手の入力!$J$15:$M$44,4))","v":""}]
["(7)",{"$f":"はじめに出場選手の入力!$C$5","v":0},{"$f":"+はじめに出場選手の入力!$L$15&\"Ｇ\"","v":"Ｇ"},null,null,{"$f":"IF(E57=\"\",\"\",VLOOKUP(E57,はじめに出場選手の入力!$J$15:$M$44,2))","v":""},{"$f":"IF(E57=\"\",\"\",VLOOKUP(E57,はじめに出場選手の入力!$J$15:$M$44,4))","v":""},null,{"$f":"IF(H57=\"\",\"\",VLOOKUP(H57,はじめに出場選手の入力!$J$15:$M$44,2))","v":""},{"$f":"IF(H57=\"\",\"\",VLOOKUP(H57,はじめに出場選手の入力!$J$15:$M$44,4))","v":""},null,{"$f":"IF(K57=\"\",\"\",VLOOKUP(K57,はじめに出場選手の入力!$J$15:$M$44,2))","v":""},{"$f":"IF(K57=\"\",\"\",VLOOKUP(K57,はじめに出場選手の入力!$J$15:$M$44,4))","v":""},null,{"$f":"IF(N57=\"\",\"\",VLOOKUP(N57,はじめに出場選手の入力!$J$15:$M$44,2))","v":""},{"$f":"IF(N57=\"\",\"\",VLOOKUP(N57,はじめに出場選手の入力!$J$15:$M$44,4))","v":""},null,{"$f":"IF(Q57=\"\",\"\",VLOOKUP(Q57,はじめに出場選手の入力!$J$15:$M$44,2))","v":""},{"$f":"IF(Q57=\"\",\"\",VLOOKUP(Q57,はじめに出場選手の入力!$J$15:$M$44,4))","v":""},null,{"$f":"IF(T57=\"\",\"\",VLOOKUP(T57,はじめに出場選手の入力!$J$15:$M$44,2))","v":""},{"$f":"IF(T57=\"\",\"\",VLOOKUP(T57,はじめに出場選手の入力!$J$15:$M$44,4))","v":""}]
["(8)",{"$f":"はじめに出場選手の入力!$C$5","v":0},{"$f":"+はじめに出場選手の入力!$L$15&\"Ｈ\"","v":"Ｈ"},null,null,{"$f":"IF(E58=\"\",\"\",VLOOKUP(E58,はじめに出場選手の入力!$J$15:$M$44,2))","v":""},{"$f":"IF(E58=\"\",\"\",VLOOKUP(E58,はじめに出場選手の入力!$J$15:$M$44,4))","v":""},null,{"$f":"IF(H58=\"\",\"\",VLOOKUP(H58,はじめに出場選手の入力!$J$15:$M$44,2))","v":""},{"$f":"IF(H58=\"\",\"\",VLOOKUP(H58,はじめに出場選手の入力!$J$15:$M$44,4))","v":""},null,{"$f":"IF(K58=\"\",\"\",VLOOKUP(K58,はじめに出場選手の入力!$J$15:$M$44,2))","v":""},{"$f":"IF(K58=\"\",\"\",VLOOKUP(K58,はじめに出場選手の入力!$J$15:$M$44,4))","v":""},null,{"$f":"IF(N58=\"\",\"\",VLOOKUP(N58,はじめに出場選手の入力!$J$15:$M$44,2))","v":""},{"$f":"IF(N58=\"\",\"\",VLOOKUP(N58,はじめに出場選手の入力!$J$15:$M$44,4))","v":""},null,{"$f":"IF(Q58=\"\",\"\",VLOOKUP(Q58,はじめに出場選手の入力!$J$15:$M$44,2))","v":""},{"$f":"IF(Q58=\"\",\"\",VLOOKUP(Q58,はじめに出場選手の入力!$J$15:$M$44,4))","v":""},null,{"$f":"IF(T58=\"\",\"\",VLOOKUP(T58,はじめに出場選手の入力!$J$15:$M$44,2))","v":""},{"$f":"IF(T58=\"\",\"\",VLOOKUP(T58,はじめに出場選手の入力!$J$15:$M$44,4))","v":""}]
[]
["女　子 メドレーＲ"]
[null,"県名","チーム名","記録","№","氏名","学年","№","氏名","学年","№","氏名","学年","№","氏名","学年","№","氏名","学年","№","氏名","学年"]
["(1)",{"$f":"はじめに出場選手の入力!$C$5","v":0},{"$f":"+はじめに出場選手の入力!$L$15&\"Ａ\"","v":"Ａ"},null,null,{"$f":"IF(E62=\"\",\"\",VLOOKUP(E62,はじめに出場選手の入力!$J$15:$M$44,2))","v":""},{"$f":"IF(E62=\"\",\"\",VLOOKUP(E62,はじめに出場選手の入力!$J$15:$M$44,4))","v":""},null,{"$f":"IF(H62=\"\",\"\",VLOOKUP(H62,はじめに出場選手の入力!$J$15:$M$44,2))","v":""},{"$f":"IF(H62=\"\",\"\",VLOOKUP(H62,はじめに出場選手の入力!$J$15:$M$44,4))","v":""},null,{"$f":"IF(K62=\"\",\"\",VLOOKUP(K62,はじめに出場選手の入力!$J$15:$M$44,2))","v":""},{"$f":"IF(K62=\"\",\"\",VLOOKUP(K62,はじめに出場選手の入力!$J$15:$M$44,4))","v":""},null,{"$f":"IF(N62=\"\",\"\",VLOOKUP(N62,はじめに出場選手の入力!$J$15:$M$44,2))","v":""},{"$f":"IF(N62=\"\",\"\",VLOOKUP(N62,はじめに出場選手の入力!$J$15:$M$44,4))","v":""},null,{"$f":"IF(Q62=\"\",\"\",VLOOKUP(Q62,はじめに出場選手の入力!$J$15:$M$44,2))","v":""},{"$f":"IF(Q62=\"\",\"\",VLOOKUP(Q62,はじめに出場選手の入力!$J$15:$M$44,4))","v":""},null,{"$f":"IF(T62=\"\",\"\",VLOOKUP(T62,はじめに出場選手の入力!$J$15:$M$44,2))","v":""},{"$f":"IF(T62=\"\",\"\",VLOOKUP(T62,はじめに出場選手の入力!$J$15:$M$44,4))","v":""}]
["(2)",{"$f":"はじめに出場選手の入力!$C$5","v":0},{"$f":"+はじめに出場選手の入力!$L$15&\"Ｂ\"","v":"Ｂ"},null,null,{"$f":"IF(E63=\"\",\"\",VLOOKUP(E63,はじめに出場選手の入力!$J$15:$M$44,2))","v":""},{"$f":"IF(E63=\"\",\"\",VLOOKUP(E63,はじめに出場選手の入力!$J$15:$M$44,4))","v":""},null,{"$f":"IF(H63=\"\",\"\",VLOOKUP(H63,はじめに出場選手の入力!$J$15:$M$44,2))","v":""},{"$f":"IF(H63=\"\",\"\",VLOOKUP(H63,はじめに出場選手の入力!$J$15:$M$44,4))","v":""},null,{"$f":"IF(K63=\"\",\"\",VLOOKUP(K63,はじめに出場選手の入力!$J$15:$M$44,2))","v":""},{"$f":"IF(K63=\"\",\"\",VLOOKUP(K63,はじめに出場選手の入力!$J$15:$M$44,4))","v":""},null,{"$f":"IF(N63=\"\",\"\",VLOOKUP(N63,はじめに出場選手の入力!$J$15:$M$44,2))","v":""},{"$f":"IF(N63=\"\",\"\",VLOOKUP(N63,はじめに出場選手の入力!$J$15:$M$44,4))","v":""},null,{"$f":"IF(Q63=\"\",\"\",VLOOKUP(Q63,はじめに出場選手の入力!$J$15:$M$44,2))","v":""},{"$f":"IF(Q63=\"\",\"\",VLOOKUP(Q63,はじめに出場選手の入力!$J$15:$M$44,4))","v":""},null,{"$f":"IF(T63=\"\",\"\",VLOOKUP(T63,はじめに出場選手の入力!$J$15:$M$44,2))","v":""},{"$f":"IF(T63=\"\",\"\",VLOOKUP(T63,はじめに出場選手の入力!$J$15:$M$44,4))","v":""}]
["(3)",{"$f":"はじめに出場選手の入力!$C$5","v":0},{"$f":"+はじめに出場選手の入力!$L$15&\"Ｃ\"","v":"Ｃ"},null,null,{"$f":"IF(E64=\"\",\"\",VLOOKUP(E64,はじめに出場選手の入力!$J$15:$M$44,2))","v":""},{"$f":"IF(E64=\"\",\"\",VLOOKUP(E64,はじめに出場選手の入力!$J$15:$M$44,4))","v":""},null,{"$f":"IF(H64=\"\",\"\",VLOOKUP(H64,はじめに出場選手の入力!$J$15:$M$44,2))","v":""},{"$f":"IF(H64=\"\",\"\",VLOOKUP(H64,はじめに出場選手の入力!$J$15:$M$44,4))","v":""},null,{"$f":"IF(K64=\"\",\"\",VLOOKUP(K64,はじめに出場選手の入力!$J$15:$M$44,2))","v":""},{"$f":"IF(K64=\"\",\"\",VLOOKUP(K64,はじめに出場選手の入力!$J$15:$M$44,4))","v":""},null,{"$f":"IF(N64=\"\",\"\",VLOOKUP(N64,はじめに出場選手の入力!$J$15:$M$44,2))","v":""},{"$f":"IF(N64=\"\",\"\",VLOOKUP(N64,はじめに出場選手の入力!$J$15:$M$44,4))","v":""},null,{"$f":"IF(Q64=\"\",\"\",VLOOKUP(Q64,はじめに出場選手の入力!$J$15:$M$44,2))","v":""},{"$f":"IF(Q64=\"\",\"\",VLOOKUP(Q64,はじめに出場選手の入力!$J$15:$M$44,4))","v":""},null,{"$f":"IF(T64=\"\",\"\",VLOOKUP(T64,はじめに出場選手の入力!$J$15:$M$44,2))","v":""},{"$f":"IF(T64=\"\",\"\",VLOOKUP(T64,はじめに出場選手の入力!$J$15:$M$44,4))","v":""}]
["(4)",{"$f":"はじめに出場選手の入力!$C$5","v":0},{"$f":"+はじめに出場選手の入力!$L$15&\"Ｄ\"","v":"Ｄ"},null,null,{"$f":"IF(E65=\"\",\"\",VLOOKUP(E65,はじめに出場選手の入力!$J$15:$M$44,2))","v":""},{"$f":"IF(E65=\"\",\"\",VLOOKUP(E65,はじめに出場選手の入力!$J$15:$M$44,4))","v":""},null,{"$f":"IF(H65=\"\",\"\",VLOOKUP(H65,はじめに出場選手の入力!$J$15:$M$44,2))","v":""},{"$f":"IF(H65=\"\",\"\",VLOOKUP(H65,はじめに出場選手の入力!$J$15:$M$44,4))","v":""},null,{"$f":"IF(K65=\"\",\"\",VLOOKUP(K65,はじめに出場選手の入力!$J$15:$M$44,2))","v":""},{"$f":"IF(K65=\"\",\"\",VLOOKUP(K65,はじめに出場選手の入力!$J$15:$M$44,4))","v":""},null,{"$f":"IF(N65=\"\",\"\",VLOOKUP(N65,はじめに出場選手の入力!$J$15:$M$44,2))","v":""},{"$f":"IF(N65=\"\",\"\",VLOOKUP(N65,はじめに出場選手の入力!$J$15:$M$44,4))","v":""},null,{"$f":"IF(Q65=\"\",\"\",VLOOKUP(Q65,はじめに出場選手の入力!$J$15:$M$44,2))","v":""},{"$f":"IF(Q65=\"\",\"\",VLOOKUP(Q65,はじめに出場選手の入力!$J$15:$M$44,4))","v":""},null,{"$f":"IF(T65=\"\",\"\",VLOOKUP(T65,はじめに出場選手の入力!$J$15:$M$44,2))","v":""},{"$f":"IF(T65=\"\",\"\",VLOOKUP(T65,はじめに出場選手の入力!$J$15:$M$44,4))","v":""}]
["(5)",{"$f":"はじめに出場選手の入力!$C$5","v":0},{"$f":"+はじめに出場選手の入力!$L$15&\"L\"","v":"L"},null,null,{"$f":"IF(E66=\"\",\"\",VLOOKUP(E66,はじめに出場選手の入力!$J$15:$M$44,2))","v":""},{"$f":"IF(E66=\"\",\"\",VLOOKUP(E66,はじめに出場選手の入力!$J$15:$M$44,4))","v":""},null,{"$f":"IF(H66=\"\",\"\",VLOOKUP(H66,はじめに出場選手の入力!$J$15:$M$44,2))","v":""},{"$f":"IF(H66=\"\",\"\",VLOOKUP(H66,はじめに出場選手の入力!$J$15:$M$44,4))","v":""},null,{"$f":"IF(K66=\"\",\"\",VLOOKUP(K66,はじめに出場選手の入力!$J$15:$M$44,2))","v":""},{"$f":"IF(K66=\"\",\"\",VLOOKUP(K66,はじめに出場選手の入力!$J$15:$M$44,4))","v":""},null,{"$f":"IF(N66=\"\",\"\",VLOOKUP(N66,はじめに出場選手の入力!$J$15:$M$44,2))","v":""},{"$f":"IF(N66=\"\",\"\",VLOOKUP(N66,はじめに出場選手の入力!$J$15:$M$44,4))","v":""},null,{"$f":"IF(Q66=\"\",\"\",VLOOKUP(Q66,はじめに出場選手の入力!$J$15:$M$44,2))","v":""},{"$f":"IF(Q66=\"\",\"\",VLOOKUP(Q66,はじめに出場選手の入力!$J$15:$M$44,4))","v":""},null,{"$f":"IF(T66=\"\",\"\",VLOOKUP(T66,はじめに出場選手の入力!$J$15:$M$44,2))","v":""},{"$f":"IF(T66=\"\",\"\",VLOOKUP(T66,はじめに出場選手の入力!$J$15:$M$44,4))","v":""}]
["(6)",{"$f":"はじめに出場選手の入力!$C$5","v":0},{"$f":"+はじめに出場選手の入力!$L$15&\"Ｆ\"","v":"Ｆ"},null,null,{"$f":"IF(E67=\"\",\"\",VLOOKUP(E67,はじめに出場選手の入力!$J$15:$M$44,2))","v":""},{"$f":"IF(E67=\"\",\"\",VLOOKUP(E67,はじめに出場選手の入力!$J$15:$M$44,4))","v":""},null,{"$f":"IF(H67=\"\",\"\",VLOOKUP(H67,はじめに出場選手の入力!$J$15:$M$44,2))","v":""},{"$f":"IF(H67=\"\",\"\",VLOOKUP(H67,はじめに出場選手の入力!$J$15:$M$44,4))","v":""},null,{"$f":"IF(K67=\"\",\"\",VLOOKUP(K67,はじめに出場選手の入力!$J$15:$M$44,2))","v":""},{"$f":"IF(K67=\"\",\"\",VLOOKUP(K67,はじめに出場選手の入力!$J$15:$M$44,4))","v":""},null,{"$f":"IF(N67=\"\",\"\",VLOOKUP(N67,はじめに出場選手の入力!$J$15:$M$44,2))","v":""},{"$f":"IF(N67=\"\",\"\",VLOOKUP(N67,はじめに出場選手の入力!$J$15:$M$44,4))","v":""},null,{"$f":"IF(Q67=\"\",\"\",VLOOKUP(Q67,はじめに出場選手の入力!$J$15:$M$44,2))","v":""},{"$f":"IF(Q67=\"\",\"\",VLOOKUP(Q67,はじめに出場選手の入力!$J$15:$M$44,4))","v":""},null,{"$f":"IF(T67=\"\",\"\",VLOOKUP(T67,はじめに出場選手の入力!$J$15:$M$44,2))","v":""},{"$f":"IF(T67=\"\",\"\",VLOOKUP(T67,はじめに出場選手の入力!$J$15:$M$44,4))","v":""}]
["(7)",{"$f":"はじめに出場選手の入力!$C$5","v":0},{"$f":"+はじめに出場選手の入力!$L$15&\"Ｇ\"","v":"Ｇ"},null,null,{"$f":"IF(E68=\"\",\"\",VLOOKUP(E68,はじめに出場選手の入力!$J$15:$M$44,2))","v":""},{"$f":"IF(E68=\"\",\"\",VLOOKUP(E68,はじめに出場選手の入力!$J$15:$M$44,4))","v":""},null,{"$f":"IF(H68=\"\",\"\",VLOOKUP(H68,はじめに出場選手の入力!$J$15:$M$44,2))","v":""},{"$f":"IF(H68=\"\",\"\",VLOOKUP(H68,はじめに出場選手の入力!$J$15:$M$44,4))","v":""},null,{"$f":"IF(K68=\"\",\"\",VLOOKUP(K68,はじめに出場選手の入力!$J$15:$M$44,2))","v":""},{"$f":"IF(K68=\"\",\"\",VLOOKUP(K68,はじめに出場選手の入力!$J$15:$M$44,4))","v":""},null,{"$f":"IF(N68=\"\",\"\",VLOOKUP(N68,はじめに出場選手の入力!$J$15:$M$44,2))","v":""},{"$f":"IF(N68=\"\",\"\",VLOOKUP(N68,はじめに出場選手の入力!$J$15:$M$44,4))","v":""},null,{"$f":"IF(Q68=\"\",\"\",VLOOKUP(Q68,はじめに出場選手の入力!$J$15:$M$44,2))","v":""},{"$f":"IF(Q68=\"\",\"\",VLOOKUP(Q68,はじめに出場選手の入力!$J$15:$M$44,4))","v":""},null,{"$f":"IF(T68=\"\",\"\",VLOOKUP(T68,はじめに出場選手の入力!$J$15:$M$44,2))","v":""},{"$f":"IF(T68=\"\",\"\",VLOOKUP(T68,はじめに出場選手の入力!$J$15:$M$44,4))","v":""}]
["(8)",{"$f":"はじめに出場選手の入力!$C$5","v":0},{"$f":"+はじめに出場選手の入力!$L$15&\"Ｈ\"","v":"Ｈ"},null,null,{"$f":"IF(E69=\"\",\"\",VLOOKUP(E69,はじめに出場選手の入力!$J$15:$M$44,2))","v":""},{"$f":"IF(E69=\"\",\"\",VLOOKUP(E69,はじめに出場選手の入力!$J$15:$M$44,4))","v":""},null,{"$f":"IF(H69=\"\",\"\",VLOOKUP(H69,はじめに出場選手の入力!$J$15:$M$44,2))","v":""},{"$f":"IF(H69=\"\",\"\",VLOOKUP(H69,はじめに出場選手の入力!$J$15:$M$44,4))","v":""},null,{"$f":"IF(K69=\"\",\"\",VLOOKUP(K69,はじめに出場選手の入力!$J$15:$M$44,2))","v":""},{"$f":"IF(K69=\"\",\"\",VLOOKUP(K69,はじめに出場選手の入力!$J$15:$M$44,4))","v":""},null,{"$f":"IF(N69=\"\",\"\",VLOOKUP(N69,はじめに出場選手の入力!$J$15:$M$44,2))","v":""},{"$f":"IF(N69=\"\",\"\",VLOOKUP(N69,はじめに出場選手の入力!$J$15:$M$44,4))","v":""},null,{"$f":"IF(Q69=\"\",\"\",VLOOKUP(Q69,はじめに出場選手の入力!$J$15:$M$44,2))","v":""},{"$f":"IF(Q69=\"\",\"\",VLOOKUP(Q69,はじめに出場選手の入力!$J$15:$M$44,4))","v":""},null,{"$f":"IF(T69=\"\",\"\",VLOOKUP(T69,はじめに出場選手の入力!$J$15:$M$44,2))","v":""},{"$f":"IF(T69=\"\",\"\",VLOOKUP(T69,はじめに出場選手の入力!$J$15:$M$44,4))","v":""}]

{"sheet":"申込書","index":4,"n_rows":122,"n_cols":15,"rows_kept":122,"cut":false,"hidden":false,"merged":[[107,9,107,11],[27,3,27,4],[5,2,5,3],[104,7,104,8],[74,7,74,8],[102,7,102,8],[103,7,103,8],[100,7,100,8],[101,7,101,8],[98,7,98,8],[93,7,93,8],[90,7,90,8],[91,7,91,8],[90,2,90,6],[91,2,91,6],[92,2,92,6],[93,2,93,6],[99,7,99,8],[96,7,96,8],[97,7,97,8],[94,7,94,8],[95,7,95,8],[94,2,94,6],[95,2,95,6],[88,7,88,8],[89,7,89,8],[86,7,86,8],[87,7,87,8],[86,2,86,6],[87,2,87,6],[88,2,88,6],[89,2,89,6],[92,7,92,8],[81,7,81,8],[78,7,78,8],[79,7,79,8],[78,2,78,6],[79,2,79,6],[80,2,80,6],[81,2,81,6],[84,7,84,8],[85,7,85,8],[82,7,82,8],[83,7,83,8],[82,2,82,6],[83,2,83,6],[84,2,84,6],[85,2,85,6],[77,7,77,8],[70,7,70,8],[75,7,75,8],[70,2,70,6],[74,2,74,6],[75,2,75,6],[76,2,76,6],[77,2,77,6],[80,7,80,8],[68,7,68,8],[69,7,69,8],[66,7,66,8],[67,7,67,8],[66,2,66,6],[67,2,67,6],[68,2,68,6],[69,2,69,6],[76,7,76,8],[61,7,61,8],[58,7,58,8],[59,7,59,8],[61,2,61,6],[64,7,64,8],[65,7,65,8],[62,7,62,8],[63,7,63,8],[62,2,62,6],[63,2,63,6],[64,2,64,6],[65,2,65,6],[50,7,50,8],[51,7,51,8],[56,7,56,8],[57,7,57,8],[54,7,54,8],[55,7,55,8],[60,7,60,8],[58,2,58,6],[59,2,59,6],[60,2,60,6],[39,10,39,12],[3,14,5,15],[5,9,5,10],[5,4,5,5],[119,8,119,9],[3,4,3,7],[114,7,114,8],[110,5,110,8],[28,8,28,10],[31,3,31,5],[38,10,38,12],[41,7,41,8],[40,7,40,8],[42,7,42,8],[43,7,43,8],[44,7,44,8],[45,7,45,8],[48,7,48,8],[49,7,49,8],[46,7,46,8],[47,7,47,8],[52,7,52,8],[112,2,112,6],[53,7,53,8],[40,2,40,6],[41,2,41,6],[42,2,42,6],[43,2,43,6],[44,2,44,6],[45,2,45,6],[46,2,46,6],[47,2,47,6],[48,2,48,6],[100,2,100,6],[101,2,101,6],[102,2,102,6],[103,2,103,6],[104,2,104,6],[49,2,49,6],[50,2,50,6],[51,2,51,6],[52,2,52,6],[53,2,53,6],[54,2,54,6],[55,2,55,6],[56,2,56,6],[57,2,57,6],[97,2,97,6],[98,2,98,6],[99,2,99,6],[96,2,96,6]]}
[null,null,null,null,null,null,null,null,null,null,null,null,null,"申し込みの際はこのシートをプリントアウトし押印して、当日受付に提出する。"]
[null,null,{"$f":"+はじめに出場選手の入力!A1&はじめに出場選手の入力!B1&はじめに出場選手の入力!X1&\"申込書（小学生・大学生・一般用）\"","v":"第7回七尾城山記録会申込書（小学生・大学生・一般用）"},null,null,null,null,null,null,null,null,null,null,"大会名は能登ジュニアの場合は書き換えてください。"]
[null,null,null,null,null,null,null,null,"申込日",{"$f":"+はじめに出場選手の入力!H1&はじめに出場選手の入力!I1&\"年\"","v":"平成30年"},"2018-11-10",null,null,"日付は例：「５／１１」で入力"]
[null,null,"所属名・学校名",null,{"$f":"はじめに出場選手の入力!D5&はじめに出場選手の入力!E5&はじめに出場選手の入力!F5","v":""},null,null,null,null,null,null,null,null,null,"関数の入っているセルは\n入力しないでください。"]
[]
[null,null,"記載責任者",null,{"$f":"+はじめに出場選手の入力!K11","v":0},null,null,"記載責任者電話番号",null,{"$f":"+はじめに出場選手の入力!K12","v":0}]
[]
[]
[null,null,"参加料","男子"]
[null,null,null,"個人種目",{"$f":"IF(はじめに出場選手の入力!$F$5=\"小学校\",200,300)","v":300},"円×",{"$f":"男子!R38+男子!R42","v":0},"種目＝",{"$f":"E10*G10","v":0},"円",null,null,null,"ジュニアは５００円（中学～高２）"]
[null,null,null,"リレー",{"$f":"IF(はじめに出場選手の入力!$F$5=\"小学校\",200,300)","v":300},"円×",{"$f":"+男女リレー!Z11","v":0},"種目＝",{"$f":"E11*G11","v":0},"円",null,null,null,"高校3年・大学・一般は３００円"]
[null,null,null,"混成種目",1000,"円×",{"$f":"混成の申込!N36","v":0},"種目＝",{"$f":"E12*G12","v":0},"円",null,null,null,"小学生２００円"]
[null,null,null,null,null,null,null,"合計",{"$f":"SUM(I10:I12)","v":0},"円",null,null,null,"混成は１０００円"]
[null,null,null,null,null,null,null,null,null,null,null,null,null,"※金額は各自確認願います。"]
[null,null,null,"女子"]
[null,null,null,"個人種目",{"$f":"IF(はじめに出場選手の入力!$F$5=\"小学校\",200,300)","v":300},"円×",{"$f":"女子!R38+女子!R42","v":0},"種目＝",{"$f":"E16*G16","v":0},"円"]
[null,null,null,"リレー",{"$f":"IF(はじめに出場選手の入力!$F$5=\"小学校\",200,300)","v":300},"円×",{"$f":"+男女リレー!Z23","v":0},"種目＝",{"$f":"E17*G17","v":0},"円"]
[null,null,null,"混成種目",1000,"円×",{"$f":"混成の申込!Q36","v":0},"種目＝",{"$f":"E18*G18","v":0},"円"]
[null,null,null,null,null,null,null,"合計",{"$f":"SUM(I16:I18)","v":0},"円"]
[]
[null,null,null,null,null,null,null,"男女総計",{"$f":"+I13+I19","v":0},"円"]
[]
[null,null,null,null,"※大学・一般は１種目３００円"]
[null,null,null,null,"※小学生は１種目２００円"]
[null,null,null,null,"※混成種目は１０００円"]
[]
[]
[null,null,"所属住所",{"$f":"+はじめに出場選手の入力!K9","v":"〒"}]
[null,null,null,{"$f":"+はじめに出場選手の入力!L9","v":0},null,null,null,"電話番号",{"$f":"+はじめに出場選手の入力!K8","v":0}]
[null,null,"所属名",{"$f":"+はじめに出場選手の入力!K7","v":""}]
[]
[null,null,"所 属 長",{"$f":"+はじめに出場選手の入力!K10","v":0},null,null,"印"]
[]
[]
[]
[]
[]
[]
["個人参加料明細",null,null,null,null,null,null,null,null,null,{"$f":"+K3","v":"2018-11-10"}]
["男子",null,null,null,null,null,null,null,null,null,{"$f":"+IF(E4=\"\",\"\",E4)","v":""}]
["ゼッケン","氏名","トラック・フィールド種目",null,null,null,null,"混成種目",null,"トラックﾞ･ﾌｨﾙﾄ\nエントリー数","混成\nエントリー数","トラックﾞ･ﾌｨﾙﾄﾞ金額","混成\n金額"]
[{"$f":"IF(男子!C5=\"\",\"\",+男子!C5)","v":""},{"$f":"IF(男子!D5=\"\",\"\",+男子!D5)","v":""},{"$f":"+IF(男子!G5=\"\",\"\",\",100m\")&+IF(男子!H5=\"\",\"\",\",200m\")&+IF(男子!I5=\"\",\"\",\",400m\")&+IF(男子!J5=\"\",\"\",\",800m\")&+IF(男子!K5=\"\",\"\",\",1500m\")&+IF(男子!L5=\"\",\"\",\",3000m\")&+IF(男子!M5=\"\",\"\",\",5000m\")&+IF(男子!N5=\"\",\"\",\",110H\")&+IF(男子!O5=\"\",\"\",\",400mH\")&+IF(男子!P5=\"\",\"\",\",3000mW\")&+IF(男子!Q5=\"\",\"\",\",5000mW\")&+IF(男子!R5=\"\",\"\",\", 80mH\")&+IF(男子!S5=\"\",\"\",\",110mJH\")&+IF(男子!G38=\"\",\"\",\",走高跳\")&+IF(男子!H38=\"\",\"\",\",棒高跳\")&+IF(男子!I38=\"\",\"\",\",走幅跳\")&+IF(男子!J38=\"\",\"\",\",三段跳\")&+IF(男子!K38=\"\",\"\",\",砲丸投\")&+IF(男子!L38=\"\",\"\",\",円盤投\")&+IF(男子!M38=\"\",\"\",\",ﾊﾝﾏｰ投\")&+IF(男子!N38=\"\",\"\",\",槍投\")","v":""},null,null,null,null,{"$f":"+IF(混成の申込!G5=\"\",\"\",\"四種,\")&+IF(混成の申込!H5=\"\",\"\",\"五種,\")&+IF(混成の申込!I5=\"\",\"\",\"八種,\")&+IF(混成の申込!J5=\"\",\"\",\"十種\")","v":""},null,{"$f":"+IF((男子!U5+男子!P38)=\"\",\"\",(男子!U5+男子!P38))","v":0},{"$f":"+IF(混成の申込!L5=\"\",\"\",混成の申込!L5)","v":0},{"$f":"IF(はじめに出場選手の入力!$F$5=\"小学校\",200,300)*J42","v":0},{"$f":"1000*K42","v":0}]
[{"$f":"IF(男子!C6=\"\",\"\",+男子!C6)","v":""},{"$f":"IF(男子!D6=\"\",\"\",+男子!D6)","v":""},{"$f":"+IF(男子!G6=\"\",\"\",\",100m\")&+IF(男子!H6=\"\",\"\",\",200m\")&+IF(男子!I6=\"\",\"\",\",400m\")&+IF(男子!J6=\"\",\"\",\",800m\")&+IF(男子!K6=\"\",\"\",\",1500m\")&+IF(男子!L6=\"\",\"\",\",3000m\")&+IF(男子!M6=\"\",\"\",\",5000m\")&+IF(男子!N6=\"\",\"\",\",110H\")&+IF(男子!O6=\"\",\"\",\",400mH\")&+IF(男子!P6=\"\",\"\",\",3000mW\")&+IF(男子!Q6=\"\",\"\",\",5000mW\")&+IF(男子!R6=\"\",\"\",\", 80mH\")&+IF(男子!S6=\"\",\"\",\",110mJH\")&+IF(男子!G39=\"\",\"\",\",走高跳\")&+IF(男子!H39=\"\",\"\",\",棒高跳\")&+IF(男子!I39=\"\",\"\",\",走幅跳\")&+IF(男子!J39=\"\",\"\",\",三段跳\")&+IF(男子!K39=\"\",\"\",\",砲丸投\")&+IF(男子!L39=\"\",\"\",\",円盤投\")&+IF(男子!M39=\"\",\"\",\",ﾊﾝﾏｰ投\")&+IF(男子!N39=\"\",\"\",\",槍投\")","v":""},null,null,null,null,{"$f":"+IF(混成の申込!G6=\"\",\"\",\"四種,\")&+IF(混成の申込!H6=\"\",\"\",\"五種,\")&+IF(混成の申込!I6=\"\",\"\",\"八種,\")&+IF(混成の申込!J6=\"\",\"\",\"十種\")","v":""},null,{"$f":"+IF((男子!U6+男子!P39)=\"\",\"\",(男子!U6+男子!P39))","v":0},{"$f":"+IF(混成の申込!L6=\"\",\"\",混成の申込!L6)","v":0},{"$f":"IF(はじめに出場選手の入力!$F$5=\"小学校\",200,300)*J43","v":0},{"$f":"1000*K43","v":0}]
[{"$f":"IF(男子!C7=\"\",\"\",+男子!C7)","v":""},{"$f":"IF(男子!D7=\"\",\"\",+男子!D7)","v":""},{"$f":"+IF(男子!G7=\"\",\"\",\",100m\")&+IF(男子!H7=\"\",\"\",\",200m\")&+IF(男子!I7=\"\",\"\",\",400m\")&+IF(男子!J7=\"\",\"\",\",800m\")&+IF(男子!K7=\"\",\"\",\",1500m\")&+IF(男子!L7=\"\",\"\",\",3000m\")&+IF(男子!M7=\"\",\"\",\",5000m\")&+IF(男子!N7=\"\",\"\",\",110H\")&+IF(男子!O7=\"\",\"\",\",400mH\")&+IF(男子!P7=\"\",\"\",\",3000mW\")&+IF(男子!Q7=\"\",\"\",\",5000mW\")&+IF(男子!R7=\"\",\"\",\", 80mH\")&+IF(男子!S7=\"\",\"\",\",110mJH\")&+IF(男子!G40=\"\",\"\",\",走高跳\")&+IF(男子!H40=\"\",\"\",\",棒高跳\")&+IF(男子!I40=\"\",\"\",\",走幅跳\")&+IF(男子!J40=\"\",\"\",\",三段跳\")&+IF(男子!K40=\"\",\"\",\",砲丸投\")&+IF(男子!L40=\"\",\"\",\",円盤投\")&+IF(男子!M40=\"\",\"\",\",ﾊﾝﾏｰ投\")&+IF(男子!N40=\"\",\"\",\",槍投\")","v":""},null,null,null,null,{"$f":"+IF(混成の申込!G7=\"\",\"\",\"四種,\")&+IF(混成の申込!H7=\"\",\"\",\"五種,\")&+IF(混成の申込!I7=\"\",\"\",\"八種,\")&+IF(混成の申込!J7=\"\",\"\",\"十種\")","v":""},null,{"$f":"+IF((男子!U7+男子!P40)=\"\",\"\",(男子!U7+男子!P40))","v":0},{"$f":"+IF(混成の申込!L7=\"\",\"\",混成の申込!L7)","v":0},{"$f":"IF(はじめに出場選手の入力!$F$5=\"小学校\",200,300)*J44","v":0},0]
[{"$f":"IF(男子!C8=\"\",\"\",+男子!C8)","v":""},{"$f":"IF(男子!D8=\"\",\"\",+男子!D8)","v":""},{"$f":"+IF(男子!G8=\"\",\"\",\",100m\")&+IF(男子!H8=\"\",\"\",\",200m\")&+IF(男子!I8=\"\",\"\",\",400m\")&+IF(男子!J8=\"\",\"\",\",800m\")&+IF(男子!K8=\"\",\"\",\",1500m\")&+IF(男子!L8=\"\",\"\",\",3000m\")&+IF(男子!M8=\"\",\"\",\",5000m\")&+IF(男子!N8=\"\",\"\",\",110H\")&+IF(男子!O8=\"\",\"\",\",400mH\")&+IF(男子!P8=\"\",\"\",\",3000mW\")&+IF(男子!Q8=\"\",\"\",\",5000mW\")&+IF(男子!R8=\"\",\"\",\", 80mH\")&+IF(男子!S8=\"\",\"\",\",110mJH\")&+IF(男子!G41=\"\",\"\",\",走高跳\")&+IF(男子!H41=\"\",\"\",\",棒高跳\")&+IF(男子!I41=\"\",\"\",\",走幅跳\")&+IF(男子!J41=\"\",\"\",\",三段跳\")&+IF(男子!K41=\"\",\"\",\",砲丸投\")&+IF(男子!L41=\"\",\"\",\",円盤投\")&+IF(男子!M41=\"\",\"\",\",ﾊﾝﾏｰ投\")&+IF(男子!N41=\"\",\"\",\",槍投\")","v":""},null,null,null,null,{"$f":"+IF(混成の申込!G8=\"\",\"\",\"四種,\")&+IF(混成の申込!H8=\"\",\"\",\"五種,\")&+IF(混成の申込!I8=\"\",\"\",\"八種,\")&+IF(混成の申込!J8=\"\",\"\",\"十種\")","v":""},null,{"$f":"+IF((男子!U8+男子!P41)=\"\",\"\",(男子!U8+男子!P41))","v":0},{"$f":"+IF(混成の申込!L8=\"\",\"\",混成の申込!L8)","v":0},{"$f":"IF(はじめに出場選手の入力!$F$5=\"小学校\",200,300)*J45","v":0},0]
[{"$f":"IF(男子!C9=\"\",\"\",+男子!C9)","v":""},{"$f":"IF(男子!D9=\"\",\"\",+男子!D9)","v":""},{"$f":"+IF(男子!G9=\"\",\"\",\",100m\")&+IF(男子!H9=\"\",\"\",\",200m\")&+IF(男子!I9=\"\",\"\",\",400m\")&+IF(男子!J9=\"\",\"\",\",800m\")&+IF(男子!K9=\"\",\"\",\",1500m\")&+IF(男子!L9=\"\",\"\",\",3000m\")&+IF(男子!M9=\"\",\"\",\",5000m\")&+IF(男子!N9=\"\",\"\",\",110H\")&+IF(男子!O9=\"\",\"\",\",400mH\")&+IF(男子!P9=\"\",\"\",\",3000mW\")&+IF(男子!Q9=\"\",\"\",\",5000mW\")&+IF(男子!R9=\"\",\"\",\", 80mH\")&+IF(男子!S9=\"\",\"\",\",110mJH\")&+IF(男子!G42=\"\",\"\",\",走高跳\")&+IF(男子!H42=\"\",\"\",\",棒高跳\")&+IF(男子!I42=\"\",\"\",\",走幅跳\")&+IF(男子!J42=\"\",\"\",\",三段跳\")&+IF(男子!K42=\"\",\"\",\",砲丸投\")&+IF(男子!L42=\"\",\"\",\",円盤投\")&+IF(男子!M42=\"\",\"\",\",ﾊﾝﾏｰ投\")&+IF(男子!N42=\"\",\"\",\",槍投\")","v":""},null,null,null,null,{"$f":"+IF(混成の申込!G9=\"\",\"\",\"四種,\")&+IF(混成の申込!H9=\"\",\"\",\"五種,\")&+IF(混成の申込!I9=\"\",\"\",\"八種,\")&+IF(混成の申込!J9=\"\",\"\",\"十種\")","v":""},null,{"$f":"+IF((男子!U9+男子!P42)=\"\",\"\",(男子!U9+男子!P42))","v":0},{"$f":"+IF(混成の申込!L9=\"\",\"\",混成の申込!L9)","v":0},{"$f":"IF(はじめに出場選手の入力!$F$5=\"小学校\",200,300)*J46","v":0},0]
[{"$f":"IF(男子!C10=\"\",\"\",+男子!C10)","v":""},{"$f":"IF(男子!D10=\"\",\"\",+男子!D10)","v":""},{"$f":"+IF(男子!G10=\"\",\"\",\",100m\")&+IF(男子!H10=\"\",\"\",\",200m\")&+IF(男子!I10=\"\",\"\",\",400m\")&+IF(男子!J10=\"\",\"\",\",800m\")&+IF(男子!K10=\"\",\"\",\",1500m\")&+IF(男子!L10=\"\",\"\",\",3000m\")&+IF(男子!M10=\"\",\"\",\",5000m\")&+IF(男子!N10=\"\",\"\",\",110H\")&+IF(男子!O10=\"\",\"\",\",400mH\")&+IF(男子!P10=\"\",\"\",\",3000mW\")&+IF(男子!Q10=\"\",\"\",\",5000mW\")&+IF(男子!R10=\"\",\"\",\", 80mH\")&+IF(男子!S10=\"\",\"\",\",110mJH\")&+IF(男子!G43=\"\",\"\",\",走高跳\")&+IF(男子!H43=\"\",\"\",\",棒高跳\")&+IF(男子!I43=\"\",\"\",\",走幅跳\")&+IF(男子!J43=\"\",\"\",\",三段跳\")&+IF(男子!K43=\"\",\"\",\",砲丸投\")&+IF(男子!L43=\"\",\"\",\",円盤投\")&+IF(男子!M43=\"\",\"\",\",ﾊﾝﾏｰ投\")&+IF(男子!N43=\"\",\"\",\",槍投\")","v":""},null,null,null,null,{"$f":"+IF(混成の申込!G10=\"\",\"\",\"四種,\")&+IF(混成の申込!H10=\"\",\"\",\"五種,\")&+IF(混成の申込!I10=\"\",\"\",\"八種,\")&+IF(混成の申込!J10=\"\",\"\",\"十種\")","v":""},null,{"$f":"+IF((男子!U10+男子!P43)=\"\",\"\",(男子!U10+男子!P43))","v":0},{"$f":"+IF(混成の申込!L10=\"\",\"\",混成の申込!L10)","v":0},{"$f":"IF(はじめに出場選手の入力!$F$5=\"小学校\",200,300)*J47","v":0},0]
[{"$f":"IF(男子!C11=\"\",\"\",+男子!C11)","v":""},{"$f":"IF(男子!D11=\"\",\"\",+男子!D11)","v":""},{"$f":"+IF(男子!G11=\"\",\"\",\",100m\")&+IF(男子!H11=\"\",\"\",\",200m\")&+IF(男子!I11=\"\",\"\",\",400m\")&+IF(男子!J11=\"\",\"\",\",800m\")&+IF(男子!K11=\"\",\"\",\",1500m\")&+IF(男子!L11=\"\",\"\",\",3000m\")&+IF(男子!M11=\"\",\"\",\",5000m\")&+IF(男子!N11=\"\",\"\",\",110H\")&+IF(男子!O11=\"\",\"\",\",400mH\")&+IF(男子!P11=\"\",\"\",\",3000mW\")&+IF(男子!Q11=\"\",\"\",\",5000mW\")&+IF(男子!R11=\"\",\"\",\", 80mH\")&+IF(男子!S11=\"\",\"\",\",110mJH\")&+IF(男子!G44=\"\",\"\",\",走高跳\")&+IF(男子!H44=\"\",\"\",\",棒高跳\")&+IF(男子!I44=\"\",\"\",\",走幅跳\")&+IF(男子!J44=\"\",\"\",\",三段跳\")&+IF(男子!K44=\"\",\"\",\",砲丸投\")&+IF(男子!L44=\"\",\"\",\",円盤投\")&+IF(男子!M44=\"\",\"\",\",ﾊﾝﾏｰ投\")&+IF(男子!N44=\"\",\"\",\",槍投\")","v":""},null,null,null,null,{"$f":"+IF(混成の申込!G11=\"\",\"\",\"四種,\")&+IF(混成の申込!H11=\"\",\"\",\"五種,\")&+IF(混成の申込!I11=\"\",\"\",\"八種,\")&+IF(混成の申込!J11=\"\",\"\",\"十種\")","v":""},null,{"$f":"+IF((男子!U11+男子!P44)=\"\",\"\",(男子!U11+男子!P44))","v":0},{"$f":"+IF(混成の申込!L11=\"\",\"\",混成の申込!L11)","v":0},{"$f":"IF(はじめに出場選手の入力!$F$5=\"小学校\",200,300)*J48","v":0},0]
[{"$f":"IF(男子!C12=\"\",\"\",+男子!C12)","v":""},{"$f":"IF(男子!D12=\"\",\"\",+男子!D12)","v":""},{"$f":"+IF(男子!G12=\"\",\"\",\",100m\")&+IF(男子!H12=\"\",\"\",\",200m\")&+IF(男子!I12=\"\",\"\",\",400m\")&+IF(男子!J12=\"\",\"\",\",800m\")&+IF(男子!K12=\"\",\"\",\",1500m\")&+IF(男子!L12=\"\",\"\",\",3000m\")&+IF(男子!M12=\"\",\"\",\",5000m\")&+IF(男子!N12=\"\",\"\",\",110H\")&+IF(男子!O12=\"\",\"\",\",400mH\")&+IF(男子!P12=\"\",\"\",\",3000mW\")&+IF(男子!Q12=\"\",\"\",\",5000mW\")&+IF(男子!R12=\"\",\"\",\", 80mH\")&+IF(男子!S12=\"\",\"\",\",110mJH\")&+IF(男子!G45=\"\",\"\",\",走高跳\")&+IF(男子!H45=\"\",\"\",\",棒高跳\")&+IF(男子!I45=\"\",\"\",\",走幅跳\")&+IF(男子!J45=\"\",\"\",\",三段跳\")&+IF(男子!K45=\"\",\"\",\",砲丸投\")&+IF(男子!L45=\"\",\"\",\",円盤投\")&+IF(男子!M45=\"\",\"\",\",ﾊﾝﾏｰ投\")&+IF(男子!N45=\"\",\"\",\",槍投\")","v":""},null,null,null,null,{"$f":"+IF(混成の申込!G12=\"\",\"\",\"四種,\")&+IF(混成の申込!H12=\"\",\"\",\"五種,\")&+IF(混成の申込!I12=\"\",\"\",\"八種,\")&+IF(混成の申込!J12=\"\",\"\",\"十種\")","v":""},null,{"$f":"+IF((男子!U12+男子!P45)=\"\",\"\",(男子!U12+男子!P45))","v":0},{"$f":"+IF(混成の申込!L12=\"\",\"\",混成の申込!L12)","v":0},{"$f":"IF(はじめに出場選手の入力!$F$5=\"小学校\",200,300)*J49","v":0},0]
[{"$f":"IF(男子!C13=\"\",\"\",+男子!C13)","v":""},{"$f":"IF(男子!D13=\"\",\"\",+男子!D13)","v":""},{"$f":"+IF(男子!G13=\"\",\"\",\",100m\")&+IF(男子!H13=\"\",\"\",\",200m\")&+IF(男子!I13=\"\",\"\",\",400m\")&+IF(男子!J13=\"\",\"\",\",800m\")&+IF(男子!K13=\"\",\"\",\",1500m\")&+IF(男子!L13=\"\",\"\",\",3000m\")&+IF(男子!M13=\"\",\"\",\",5000m\")&+IF(男子!N13=\"\",\"\",\",110H\")&+IF(男子!O13=\"\",\"\",\",400mH\")&+IF(男子!P13=\"\",\"\",\",3000mW\")&+IF(男子!Q13=\"\",\"\",\",5000mW\")&+IF(男子!R13=\"\",\"\",\", 80mH\")&+IF(男子!S13=\"\",\"\",\",110mJH\")&+IF(男子!G46=\"\",\"\",\",走高跳\")&+IF(男子!H46=\"\",\"\",\",棒高跳\")&+IF(男子!I46=\"\",\"\",\",走幅跳\")&+IF(男子!J46=\"\",\"\",\",三段跳\")&+IF(男子!K46=\"\",\"\",\",砲丸投\")&+IF(男子!L46=\"\",\"\",\",円盤投\")&+IF(男子!M46=\"\",\"\",\",ﾊﾝﾏｰ投\")&+IF(男子!N46=\"\",\"\",\",槍投\")","v":""},null,null,null,null,{"$f":"+IF(混成の申込!G13=\"\",\"\",\"四種,\")&+IF(混成の申込!H13=\"\",\"\",\"五種,\")&+IF(混成の申込!I13=\"\",\"\",\"八種,\")&+IF(混成の申込!J13=\"\",\"\",\"十種\")","v":""},null,{"$f":"+IF((男子!U13+男子!P46)=\"\",\"\",(男子!U13+男子!P46))","v":0},{"$f":"+IF(混成の申込!L13=\"\",\"\",混成の申込!L13)","v":0},{"$f":"IF(はじめに出場選手の入力!$F$5=\"小学校\",200,300)*J50","v":0},0]
[{"$f":"IF(男子!C14=\"\",\"\",+男子!C14)","v":""},{"$f":"IF(男子!D14=\"\",\"\",+男子!D14)","v":""},{"$f":"+IF(男子!G14=\"\",\"\",\",100m\")&+IF(男子!H14=\"\",\"\",\",200m\")&+IF(男子!I14=\"\",\"\",\",400m\")&+IF(男子!J14=\"\",\"\",\",800m\")&+IF(男子!K14=\"\",\"\",\",1500m\")&+IF(男子!L14=\"\",\"\",\",3000m\")&+IF(男子!M14=\"\",\"\",\",5000m\")&+IF(男子!N14=\"\",\"\",\",110H\")&+IF(男子!O14=\"\",\"\",\",400mH\")&+IF(男子!P14=\"\",\"\",\",3000mW\")&+IF(男子!Q14=\"\",\"\",\",5000mW\")&+IF(男子!R14=\"\",\"\",\", 80mH\")&+IF(男子!S14=\"\",\"\",\",110mJH\")&+IF(男子!G47=\"\",\"\",\",走高跳\")&+IF(男子!H47=\"\",\"\",\",棒高跳\")&+IF(男子!I47=\"\",\"\",\",走幅跳\")&+IF(男子!J47=\"\",\"\",\",三段跳\")&+IF(男子!K47=\"\",\"\",\",砲丸投\")&+IF(男子!L47=\"\",\"\",\",円盤投\")&+IF(男子!M47=\"\",\"\",\",ﾊﾝﾏｰ投\")&+IF(男子!N47=\"\",\"\",\",槍投\")","v":""},null,null,null,null,{"$f":"+IF(混成の申込!G14=\"\",\"\",\"四種,\")&+IF(混成の申込!H14=\"\",\"\",\"五種,\")&+IF(混成の申込!I14=\"\",\"\",\"八種,\")&+IF(混成の申込!J14=\"\",\"\",\"十種\")","v":""},null,{"$f":"+IF((男子!U14+男子!P47)=\"\",\"\",(男子!U14+男子!P47))","v":0},{"$f":"+IF(混成の申込!L14=\"\",\"\",混成の申込!L14)","v":0},{"$f":"IF(はじめに出場選手の入力!$F$5=\"小学校\",200,300)*J51","v":0},0]
[{"$f":"IF(男子!C15=\"\",\"\",+男子!C15)","v":""},{"$f":"IF(男子!D15=\"\",\"\",+男子!D15)","v":""},{"$f":"+IF(男子!G15=\"\",\"\",\",100m\")&+IF(男子!H15=\"\",\"\",\",200m\")&+IF(男子!I15=\"\",\"\",\",400m\")&+IF(男子!J15=\"\",\"\",\",800m\")&+IF(男子!K15=\"\",\"\",\",1500m\")&+IF(男子!L15=\"\",\"\",\",3000m\")&+IF(男子!M15=\"\",\"\",\",5000m\")&+IF(男子!N15=\"\",\"\",\",110H\")&+IF(男子!O15=\"\",\"\",\",400mH\")&+IF(男子!P15=\"\",\"\",\",3000mW\")&+IF(男子!Q15=\"\",\"\",\",5000mW\")&+IF(男子!R15=\"\",\"\",\", 80mH\")&+IF(男子!S15=\"\",\"\",\",110mJH\")&+IF(男子!G48=\"\",\"\",\",走高跳\")&+IF(男子!H48=\"\",\"\",\",棒高跳\")&+IF(男子!I48=\"\",\"\",\",走幅跳\")&+IF(男子!J48=\"\",\"\",\",三段跳\")&+IF(男子!K48=\"\",\"\",\",砲丸投\")&+IF(男子!L48=\"\",\"\",\",円盤投\")&+IF(男子!M48=\"\",\"\",\",ﾊﾝﾏｰ投\")&+IF(男子!N48=\"\",\"\",\",槍投\")","v":""},null,null,null,null,{"$f":"+IF(混成の申込!G15=\"\",\"\",\"四種,\")&+IF(混成の申込!H15=\"\",\"\",\"五種,\")&+IF(混成の申込!I15=\"\",\"\",\"八種,\")&+IF(混成の申込!J15=\"\",\"\",\"十種\")","v":""},null,{"$f":"+IF((男子!U15+男子!P48)=\"\",\"\",(男子!U15+男子!P48))","v":0},{"$f":"+IF(混成の申込!L15=\"\",\"\",混成の申込!L15)","v":0},{"$f":"IF(はじめに出場選手の入力!$F$5=\"小学校\",200,300)*J52","v":0},0]
[{"$f":"IF(男子!C16=\"\",\"\",+男子!C16)","v":""},{"$f":"IF(男子!D16=\"\",\"\",+男子!D16)","v":""},{"$f":"+IF(男子!G16=\"\",\"\",\",100m\")&+IF(男子!H16=\"\",\"\",\",200m\")&+IF(男子!I16=\"\",\"\",\",400m\")&+IF(男子!J16=\"\",\"\",\",800m\")&+IF(男子!K16=\"\",\"\",\",1500m\")&+IF(男子!L16=\"\",\"\",\",3000m\")&+IF(男子!M16=\"\",\"\",\",5000m\")&+IF(男子!N16=\"\",\"\",\",110H\")&+IF(男子!O16=\"\",\"\",\",400mH\")&+IF(男子!P16=\"\",\"\",\",3000mW\")&+IF(男子!Q16=\"\",\"\",\",5000mW\")&+IF(男子!R16=\"\",\"\",\", 80mH\")&+IF(男子!S16=\"\",\"\",\",110mJH\")&+IF(男子!G49=\"\",\"\",\",走高跳\")&+IF(男子!H49=\"\",\"\",\",棒高跳\")&+IF(男子!I49=\"\",\"\",\",走幅跳\")&+IF(男子!J49=\"\",\"\",\",三段跳\")&+IF(男子!K49=\"\",\"\",\",砲丸投\")&+IF(男子!L49=\"\",\"\",\",円盤投\")&+IF(男子!M49=\"\",\"\",\",ﾊﾝﾏｰ投\")&+IF(男子!N49=\"\",\"\",\",槍投\")","v":""},null,null,null,null,{"$f":"+IF(混成の申込!G16=\"\",\"\",\"四種,\")&+IF(混成の申込!H16=\"\",\"\",\"五種,\")&+IF(混成の申込!I16=\"\",\"\",\"八種,\")&+IF(混成の申込!J16=\"\",\"\",\"十種\")","v":""},null,{"$f":"+IF((男子!U16+男子!P49)=\"\",\"\",(男子!U16+男子!P49))","v":0},{"$f":"+IF(混成の申込!L16=\"\",\"\",混成の申込!L16)","v":0},{"$f":"IF(はじめに出場選手の入力!$F$5=\"小学校\",200,300)*J53","v":0},0]
[{"$f":"IF(男子!C17=\"\",\"\",+男子!C17)","v":""},{"$f":"IF(男子!D17=\"\",\"\",+男子!D17)","v":""},{"$f":"+IF(男子!G17=\"\",\"\",\",100m\")&+IF(男子!H17=\"\",\"\",\",200m\")&+IF(男子!I17=\"\",\"\",\",400m\")&+IF(男子!J17=\"\",\"\",\",800m\")&+IF(男子!K17=\"\",\"\",\",1500m\")&+IF(男子!L17=\"\",\"\",\",3000m\")&+IF(男子!M17=\"\",\"\",\",5000m\")&+IF(男子!N17=\"\",\"\",\",110H\")&+IF(男子!O17=\"\",\"\",\",400mH\")&+IF(男子!P17=\"\",\"\",\",3000mW\")&+IF(男子!Q17=\"\",\"\",\",5000mW\")&+IF(男子!R17=\"\",\"\",\", 80mH\")&+IF(男子!S17=\"\",\"\",\",110mJH\")&+IF(男子!G50=\"\",\"\",\",走高跳\")&+IF(男子!H50=\"\",\"\",\",棒高跳\")&+IF(男子!I50=\"\",\"\",\",走幅跳\")&+IF(男子!J50=\"\",\"\",\",三段跳\")&+IF(男子!K50=\"\",\"\",\",砲丸投\")&+IF(男子!L50=\"\",\"\",\",円盤投\")&+IF(男子!M50=\"\",\"\",\",ﾊﾝﾏｰ投\")&+IF(男子!N50=\"\",\"\",\",槍投\")","v":""},null,null,null,null,{"$f":"+IF(混成の申込!G17=\"\",\"\",\"四種,\")&+IF(混成の申込!H17=\"\",\"\",\"五種,\")&+IF(混成の申込!I17=\"\",\"\",\"八種,\")&+IF(混成の申込!J17=\"\",\"\",\"十種\")","v":""},null,{"$f":"+IF((男子!U17+男子!P50)=\"\",\"\",(男子!U17+男子!P50))","v":0},{"$f":"+IF(混成の申込!L17=\"\",\"\",混成の申込!L17)","v":0},{"$f":"IF(はじめに出場選手の入力!$F$5=\"小学校\",200,300)*J54","v":0},0]
[{"$f":"IF(男子!C18=\"\",\"\",+男子!C18)","v":""},{"$f":"IF(男子!D18=\"\",\"\",+男子!D18)","v":""},{"$f":"+IF(男子!G18=\"\",\"\",\",100m\")&+IF(男子!H18=\"\",\"\",\",200m\")&+IF(男子!I18=\"\",\"\",\",400m\")&+IF(男子!J18=\"\",\"\",\",800m\")&+IF(男子!K18=\"\",\"\",\",1500m\")&+IF(男子!L18=\"\",\"\",\",3000m\")&+IF(男子!M18=\"\",\"\",\",5000m\")&+IF(男子!N18=\"\",\"\",\",110H\")&+IF(男子!O18=\"\",\"\",\",400mH\")&+IF(男子!P18=\"\",\"\",\",3000mW\")&+IF(男子!Q18=\"\",\"\",\",5000mW\")&+IF(男子!R18=\"\",\"\",\", 80mH\")&+IF(男子!S18=\"\",\"\",\",110mJH\")&+IF(男子!G51=\"\",\"\",\",走高跳\")&+IF(男子!H51=\"\",\"\",\",棒高跳\")&+IF(男子!I51=\"\",\"\",\",走幅跳\")&+IF(男子!J51=\"\",\"\",\",三段跳\")&+IF(男子!K51=\"\",\"\",\",砲丸投\")&+IF(男子!L51=\"\",\"\",\",円盤投\")&+IF(男子!M51=\"\",\"\",\",ﾊﾝﾏｰ投\")&+IF(男子!N51=\"\",\"\",\",槍投\")","v":""},null,null,null,null,{"$f":"+IF(混成の申込!G18=\"\",\"\",\"四種,\")&+IF(混成の申込!H18=\"\",\"\",\"五種,\")&+IF(混成の申込!I18=\"\",\"\",\"八種,\")&+IF(混成の申込!J18=\"\",\"\",\"十種\")","v":""},null,{"$f":"+IF((男子!U18+男子!P51)=\"\",\"\",(男子!U18+男子!P51))","v":0},{"$f":"+IF(混成の申込!L18=\"\",\"\",混成の申込!L18)","v":0},{"$f":"IF(はじめに出場選手の入力!$F$5=\"小学校\",200,300)*J55","v":0},0]
[{"$f":"IF(男子!C19=\"\",\"\",+男子!C19)","v":""},{"$f":"IF(男子!D19=\"\",\"\",+男子!D19)","v":""},{"$f":"+IF(男子!G19=\"\",\"\",\",100m\")&+IF(男子!H19=\"\",\"\",\",200m\")&+IF(男子!I19=\"\",\"\",\",400m\")&+IF(男子!J19=\"\",\"\",\",800m\")&+IF(男子!K19=\"\",\"\",\",1500m\")&+IF(男子!L19=\"\",\"\",\",3000m\")&+IF(男子!M19=\"\",\"\",\",5000m\")&+IF(男子!N19=\"\",\"\",\",110H\")&+IF(男子!O19=\"\",\"\",\",400mH\")&+IF(男子!P19=\"\",\"\",\",3000mW\")&+IF(男子!Q19=\"\",\"\",\",5000mW\")&+IF(男子!R19=\"\",\"\",\", 80mH\")&+IF(男子!S19=\"\",\"\",\",110mJH\")&+IF(男子!G52=\"\",\"\",\",走高跳\")&+IF(男子!H52=\"\",\"\",\",棒高跳\")&+IF(男子!I52=\"\",\"\",\",走幅跳\")&+IF(男子!J52=\"\",\"\",\",三段跳\")&+IF(男子!K52=\"\",\"\",\",砲丸投\")&+IF(男子!L52=\"\",\"\",\",円盤投\")&+IF(男子!M52=\"\",\"\",\",ﾊﾝﾏｰ投\")&+IF(男子!N52=\"\",\"\",\",槍投\")","v":""},null,null,null,null,{"$f":"+IF(混成の申込!G19=\"\",\"\",\"四種,\")&+IF(混成の申込!H19=\"\",\"\",\"五種,\")&+IF(混成の申込!I19=\"\",\"\",\"八種,\")&+IF(混成の申込!J19=\"\",\"\",\"十種\")","v":""},null,{"$f":"+IF((男子!U19+男子!P52)=\"\",\"\",(男子!U19+男子!P52))","v":0},{"$f":"+IF(混成の申込!L19=\"\",\"\",混成の申込!L19)","v":0},{"$f":"IF(はじめに出場選手の入力!$F$5=\"小学校\",200,300)*J56","v":0},0]
[{"$f":"IF(男子!C20=\"\",\"\",+男子!C20)","v":""},{"$f":"IF(男子!D20=\"\",\"\",+男子!D20)","v":""},{"$f":"+IF(男子!G20=\"\",\"\",\",100m\")&+IF(男子!H20=\"\",\"\",\",200m\")&+IF(男子!I20=\"\",\"\",\",400m\")&+IF(男子!J20=\"\",\"\",\",800m\")&+IF(男子!K20=\"\",\"\",\",1500m\")&+IF(男子!L20=\"\",\"\",\",3000m\")&+IF(男子!M20=\"\",\"\",\",5000m\")&+IF(男子!N20=\"\",\"\",\",110H\")&+IF(男子!O20=\"\",\"\",\",400mH\")&+IF(男子!P20=\"\",\"\",\",3000mW\")&+IF(男子!Q20=\"\",\"\",\",5000mW\")&+IF(男子!R20=\"\",\"\",\", 80mH\")&+IF(男子!S20=\"\",\"\",\",110mJH\")&+IF(男子!G53=\"\",\"\",\",走高跳\")&+IF(男子!H53=\"\",\"\",\",棒高跳\")&+IF(男子!I53=\"\",\"\",\",走幅跳\")&+IF(男子!J53=\"\",\"\",\",三段跳\")&+IF(男子!K53=\"\",\"\",\",砲丸投\")&+IF(男子!L53=\"\",\"\",\",円盤投\")&+IF(男子!M53=\"\",\"\",\",ﾊﾝﾏｰ投\")&+IF(男子!N53=\"\",\"\",\",槍投\")","v":""},null,null,null,null,{"$f":"+IF(混成の申込!G20=\"\",\"\",\"四種,\")&+IF(混成の申込!H20=\"\",\"\",\"五種,\")&+IF(混成の申込!I20=\"\",\"\",\"八種,\")&+IF(混成の申込!J20=\"\",\"\",\"十種\")","v":""},null,{"$f":"+IF((男子!U20+男子!P53)=\"\",\"\",(男子!U20+男子!P53))","v":0},{"$f":"+IF(混成の申込!L20=\"\",\"\",混成の申込!L20)","v":0},{"$f":"IF(はじめに出場選手の入力!$F$5=\"小学校\",200,300)*J57","v":0},0]
[{"$f":"IF(男子!C21=\"\",\"\",+男子!C21)","v":""},{"$f":"IF(男子!D21=\"\",\"\",+男子!D21)","v":""},{"$f":"+IF(男子!G21=\"\",\"\",\",100m\")&+IF(男子!H21=\"\",\"\",\",200m\")&+IF(男子!I21=\"\",\"\",\",400m\")&+IF(男子!J21=\"\",\"\",\",800m\")&+IF(男子!K21=\"\",\"\",\",1500m\")&+IF(男子!L21=\"\",\"\",\",3000m\")&+IF(男子!M21=\"\",\"\",\",5000m\")&+IF(男子!N21=\"\",\"\",\",110H\")&+IF(男子!O21=\"\",\"\",\",400mH\")&+IF(男子!P21=\"\",\"\",\",3000mW\")&+IF(男子!Q21=\"\",\"\",\",5000mW\")&+IF(男子!R21=\"\",\"\",\", 80mH\")&+IF(男子!S21=\"\",\"\",\",110mJH\")&+IF(男子!G54=\"\",\"\",\",走高跳\")&+IF(男子!H54=\"\",\"\",\",棒高跳\")&+IF(男子!I54=\"\",\"\",\",走幅跳\")&+IF(男子!J54=\"\",\"\",\",三段跳\")&+IF(男子!K54=\"\",\"\",\",砲丸投\")&+IF(男子!L54=\"\",\"\",\",円盤投\")&+IF(男子!M54=\"\",\"\",\",ﾊﾝﾏｰ投\")&+IF(男子!N54=\"\",\"\",\",槍投\")","v":""},null,null,null,null,{"$f":"+IF(混成の申込!G21=\"\",\"\",\"四種,\")&+IF(混成の申込!H21=\"\",\"\",\"五種,\")&+IF(混成の申込!I21=\"\",\"\",\"八種,\")&+IF(混成の申込!J21=\"\",\"\",\"十種\")","v":""},null,{"$f":"+IF((男子!U21+男子!P54)=\"\",\"\",(男子!U21+男子!P54))","v":0},{"$f":"+IF(混成の申込!L21=\"\",\"\",混成の申込!L21)","v":0},{"$f":"IF(はじめに出場選手の入力!$F$5=\"小学校\",200,300)*J58","v":0},0]
[{"$f":"IF(男子!C22=\"\",\"\",+男子!C22)","v":""},{"$f":"IF(男子!D22=\"\",\"\",+男子!D22)","v":""},{"$f":"+IF(男子!G22=\"\",\"\",\",100m\")&+IF(男子!H22=\"\",\"\",\",200m\")&+IF(男子!I22=\"\",\"\",\",400m\")&+IF(男子!J22=\"\",\"\",\",800m\")&+IF(男子!K22=\"\",\"\",\",1500m\")&+IF(男子!L22=\"\",\"\",\",3000m\")&+IF(男子!M22=\"\",\"\",\",5000m\")&+IF(男子!N22=\"\",\"\",\",110H\")&+IF(男子!O22=\"\",\"\",\",400mH\")&+IF(男子!P22=\"\",\"\",\",3000mW\")&+IF(男子!Q22=\"\",\"\",\",5000mW\")&+IF(男子!R22=\"\",\"\",\", 80mH\")&+IF(男子!S22=\"\",\"\",\",110mJH\")&+IF(男子!G55=\"\",\"\",\",走高跳\")&+IF(男子!H55=\"\",\"\",\",棒高跳\")&+IF(男子!I55=\"\",\"\",\",走幅跳\")&+IF(男子!J55=\"\",\"\",\",三段跳\")&+IF(男子!K55=\"\",\"\",\",砲丸投\")&+IF(男子!L55=\"\",\"\",\",円盤投\")&+IF(男子!M55=\"\",\"\",\",ﾊﾝﾏｰ投\")&+IF(男子!N55=\"\",\"\",\",槍投\")","v":""},null,null,null,null,{"$f":"+IF(混成の申込!G22=\"\",\"\",\"四種,\")&+IF(混成の申込!H22=\"\",\"\",\"五種,\")&+IF(混成の申込!I22=\"\",\"\",\"八種,\")&+IF(混成の申込!J22=\"\",\"\",\"十種\")","v":""},null,{"$f":"+IF((男子!U22+男子!P55)=\"\",\"\",(男子!U22+男子!P55))","v":0},{"$f":"+IF(混成の申込!L22=\"\",\"\",混成の申込!L22)","v":0},{"$f":"IF(はじめに出場選手の入力!$F$5=\"小学校\",200,300)*J59","v":0},0]
[{"$f":"IF(男子!C23=\"\",\"\",+男子!C23)","v":""},{"$f":"IF(男子!D23=\"\",\"\",+男子!D23)","v":""},{"$f":"+IF(男子!G23=\"\",\"\",\",100m\")&+IF(男子!H23=\"\",\"\",\",200m\")&+IF(男子!I23=\"\",\"\",\",400m\")&+IF(男子!J23=\"\",\"\",\",800m\")&+IF(男子!K23=\"\",\"\",\",1500m\")&+IF(男子!L23=\"\",\"\",\",3000m\")&+IF(男子!M23=\"\",\"\",\",5000m\")&+IF(男子!N23=\"\",\"\",\",110H\")&+IF(男子!O23=\"\",\"\",\",400mH\")&+IF(男子!P23=\"\",\"\",\",3000mW\")&+IF(男子!Q23=\"\",\"\",\",5000mW\")&+IF(男子!R23=\"\",\"\",\", 80mH\")&+IF(男子!S23=\"\",\"\",\",110mJH\")&+IF(男子!G56=\"\",\"\",\",走高跳\")&+IF(男子!H56=\"\",\"\",\",棒高跳\")&+IF(男子!I56=\"\",\"\",\",走幅跳\")&+IF(男子!J56=\"\",\"\",\",三段跳\")&+IF(男子!K56=\"\",\"\",\",砲丸投\")&+IF(男子!L56=\"\",\"\",\",円盤投\")&+IF(男子!M56=\"\",\"\",\",ﾊﾝﾏｰ投\")&+IF(男子!N56=\"\",\"\",\",槍投\")","v":""},null,null,null,null,{"$f":"+IF(混成の申込!G23=\"\",\"\",\"四種,\")&+IF(混成の申込!H23=\"\",\"\",\"五種,\")&+IF(混成の申込!I23=\"\",\"\",\"八種,\")&+IF(混成の申込!J23=\"\",\"\",\"十種\")","v":""},null,{"$f":"+IF((男子!U23+男子!P56)=\"\",\"\",(男子!U23+男子!P56))","v":0},{"$f":"+IF(混成の申込!L23=\"\",\"\",混成の申込!L23)","v":0},{"$f":"IF(はじめに出場選手の入力!$F$5=\"小学校\",200,300)*J60","v":0},0]
[{"$f":"IF(男子!C24=\"\",\"\",+男子!C24)","v":""},{"$f":"IF(男子!D24=\"\",\"\",+男子!D24)","v":""},{"$f":"+IF(男子!G24=\"\",\"\",\",100m\")&+IF(男子!H24=\"\",\"\",\",200m\")&+IF(男子!I24=\"\",\"\",\",400m\")&+IF(男子!J24=\"\",\"\",\",800m\")&+IF(男子!K24=\"\",\"\",\",1500m\")&+IF(男子!L24=\"\",\"\",\",3000m\")&+IF(男子!M24=\"\",\"\",\",5000m\")&+IF(男子!N24=\"\",\"\",\",110H\")&+IF(男子!O24=\"\",\"\",\",400mH\")&+IF(男子!P24=\"\",\"\",\",3000mW\")&+IF(男子!Q24=\"\",\"\",\",5000mW\")&+IF(男子!R24=\"\",\"\",\", 80mH\")&+IF(男子!S24=\"\",\"\",\",110mJH\")&+IF(男子!G57=\"\",\"\",\",走高跳\")&+IF(男子!H57=\"\",\"\",\",棒高跳\")&+IF(男子!I57=\"\",\"\",\",走幅跳\")&+IF(男子!J57=\"\",\"\",\",三段跳\")&+IF(男子!K57=\"\",\"\",\",砲丸投\")&+IF(男子!L57=\"\",\"\",\",円盤投\")&+IF(男子!M57=\"\",\"\",\",ﾊﾝﾏｰ投\")&+IF(男子!N57=\"\",\"\",\",槍投\")","v":""},null,null,null,null,{"$f":"+IF(混成の申込!G24=\"\",\"\",\"四種,\")&+IF(混成の申込!H24=\"\",\"\",\"五種,\")&+IF(混成の申込!I24=\"\",\"\",\"八種,\")&+IF(混成の申込!J24=\"\",\"\",\"十種\")","v":""},null,{"$f":"+IF((男子!U24+男子!P57)=\"\",\"\",(男子!U24+男子!P57))","v":0},{"$f":"+IF(混成の申込!L24=\"\",\"\",混成の申込!L24)","v":0},{"$f":"IF(はじめに出場選手の入力!$F$5=\"小学校\",200,300)*J61","v":0},0]
[{"$f":"IF(男子!C25=\"\",\"\",+男子!C25)","v":""},{"$f":"IF(男子!D25=\"\",\"\",+男子!D25)","v":""},{"$f":"+IF(男子!G25=\"\",\"\",\",100m\")&+IF(男子!H25=\"\",\"\",\",200m\")&+IF(男子!I25=\"\",\"\",\",400m\")&+IF(男子!J25=\"\",\"\",\",800m\")&+IF(男子!K25=\"\",\"\",\",1500m\")&+IF(男子!L25=\"\",\"\",\",3000m\")&+IF(男子!M25=\"\",\"\",\",5000m\")&+IF(男子!N25=\"\",\"\",\",110H\")&+IF(男子!O25=\"\",\"\",\",400mH\")&+IF(男子!P25=\"\",\"\",\",3000mW\")&+IF(男子!Q25=\"\",\"\",\",5000mW\")&+IF(男子!R25=\"\",\"\",\", 80mH\")&+IF(男子!S25=\"\",\"\",\",110mJH\")&+IF(男子!G58=\"\",\"\",\",走高跳\")&+IF(男子!H58=\"\",\"\",\",棒高跳\")&+IF(男子!I58=\"\",\"\",\",走幅跳\")&+IF(男子!J58=\"\",\"\",\",三段跳\")&+IF(男子!K58=\"\",\"\",\",砲丸投\")&+IF(男子!L58=\"\",\"\",\",円盤投\")&+IF(男子!M58=\"\",\"\",\",ﾊﾝﾏｰ投\")&+IF(男子!N58=\"\",\"\",\",槍投\")","v":""},null,null,null,null,{"$f":"+IF(混成の申込!G25=\"\",\"\",\"四種,\")&+IF(混成の申込!H25=\"\",\"\",\"五種,\")&+IF(混成の申込!I25=\"\",\"\",\"八種,\")&+IF(混成の申込!J25=\"\",\"\",\"十種\")","v":""},null,{"$f":"+IF((男子!U25+男子!P58)=\"\",\"\",(男子!U25+男子!P58))","v":0},{"$f":"+IF(混成の申込!L25=\"\",\"\",混成の申込!L25)","v":0},{"$f":"IF(はじめに出場選手の入力!$F$5=\"小学校\",200,300)*J62","v":0},0]
[{"$f":"IF(男子!C26=\"\",\"\",+男子!C26)","v":""},{"$f":"IF(男子!D26=\"\",\"\",+男子!D26)","v":""},{"$f":"+IF(男子!G26=\"\",\"\",\",100m\")&+IF(男子!H26=\"\",\"\",\",200m\")&+IF(男子!I26=\"\",\"\",\",400m\")&+IF(男子!J26=\"\",\"\",\",800m\")&+IF(男子!K26=\"\",\"\",\",1500m\")&+IF(男子!L26=\"\",\"\",\",3000m\")&+IF(男子!M26=\"\",\"\",\",5000m\")&+IF(男子!N26=\"\",\"\",\",110H\")&+IF(男子!O26=\"\",\"\",\",400mH\")&+IF(男子!P26=\"\",\"\",\",3000mW\")&+IF(男子!Q26=\"\",\"\",\",5000mW\")&+IF(男子!R26=\"\",\"\",\", 80mH\")&+IF(男子!S26=\"\",\"\",\",110mJH\")&+IF(男子!G59=\"\",\"\",\",走高跳\")&+IF(男子!H59=\"\",\"\",\",棒高跳\")&+IF(男子!I59=\"\",\"\",\",走幅跳\")&+IF(男子!J59=\"\",\"\",\",三段跳\")&+IF(男子!K59=\"\",\"\",\",砲丸投\")&+IF(男子!L59=\"\",\"\",\",円盤投\")&+IF(男子!M59=\"\",\"\",\",ﾊﾝﾏｰ投\")&+IF(男子!N59=\"\",\"\",\",槍投\")","v":""},null,null,null,null,{"$f":"+IF(混成の申込!G26=\"\",\"\",\"四種,\")&+IF(混成の申込!H26=\"\",\"\",\"五種,\")&+IF(混成の申込!I26=\"\",\"\",\"八種,\")&+IF(混成の申込!J26=\"\",\"\",\"十種\")","v":""},null,{"$f":"+IF((男子!U26+男子!P59)=\"\",\"\",(男子!U26+男子!P59))","v":0},{"$f":"+IF(混成の申込!L26=\"\",\"\",混成の申込!L26)","v":0},{"$f":"IF(はじめに出場選手の入力!$F$5=\"小学校\",200,300)*J63","v":0},0]
[{"$f":"IF(男子!C27=\"\",\"\",+男子!C27)","v":""},{"$f":"IF(男子!D27=\"\",\"\",+男子!D27)","v":""},{"$f":"+IF(男子!G27=\"\",\"\",\",100m\")&+IF(男子!H27=\"\",\"\",\",200m\")&+IF(男子!I27=\"\",\"\",\",400m\")&+IF(男子!J27=\"\",\"\",\",800m\")&+IF(男子!K27=\"\",\"\",\",1500m\")&+IF(男子!L27=\"\",\"\",\",3000m\")&+IF(男子!M27=\"\",\"\",\",5000m\")&+IF(男子!N27=\"\",\"\",\",110H\")&+IF(男子!O27=\"\",\"\",\",400mH\")&+IF(男子!P27=\"\",\"\",\",3000mW\")&+IF(男子!Q27=\"\",\"\",\",5000mW\")&+IF(男子!R27=\"\",\"\",\", 80mH\")&+IF(男子!S27=\"\",\"\",\",110mJH\")&+IF(男子!G60=\"\",\"\",\",走高跳\")&+IF(男子!H60=\"\",\"\",\",棒高跳\")&+IF(男子!I60=\"\",\"\",\",走幅跳\")&+IF(男子!J60=\"\",\"\",\",三段跳\")&+IF(男子!K60=\"\",\"\",\",砲丸投\")&+IF(男子!L60=\"\",\"\",\",円盤投\")&+IF(男子!M60=\"\",\"\",\",ﾊﾝﾏｰ投\")&+IF(男子!N60=\"\",\"\",\",槍投\")","v":""},null,null,null,null,{"$f":"+IF(混成の申込!G27=\"\",\"\",\"四種,\")&+IF(混成の申込!H27=\"\",\"\",\"五種,\")&+IF(混成の申込!I27=\"\",\"\",\"八種,\")&+IF(混成の申込!J27=\"\",\"\",\"十種\")","v":""},null,{"$f":"+IF((男子!U27+男子!P60)=\"\",\"\",(男子!U27+男子!P60))","v":0},{"$f":"+IF(混成の申込!L27=\"\",\"\",混成の申込!L27)","v":0},{"$f":"IF(はじめに出場選手の入力!$F$5=\"小学校\",200,300)*J64","v":0},0]
[{"$f":"IF(男子!C28=\"\",\"\",+男子!C28)","v":""},{"$f":"IF(男子!D28=\"\",\"\",+男子!D28)","v":""},{"$f":"+IF(男子!G28=\"\",\"\",\",100m\")&+IF(男子!H28=\"\",\"\",\",200m\")&+IF(男子!I28=\"\",\"\",\",400m\")&+IF(男子!J28=\"\",\"\",\",800m\")&+IF(男子!K28=\"\",\"\",\",1500m\")&+IF(男子!L28=\"\",\"\",\",3000m\")&+IF(男子!M28=\"\",\"\",\",5000m\")&+IF(男子!N28=\"\",\"\",\",110H\")&+IF(男子!O28=\"\",\"\",\",400mH\")&+IF(男子!P28=\"\",\"\",\",3000mW\")&+IF(男子!Q28=\"\",\"\",\",5000mW\")&+IF(男子!R28=\"\",\"\",\", 80mH\")&+IF(男子!S28=\"\",\"\",\",110mJH\")&+IF(男子!G61=\"\",\"\",\",走高跳\")&+IF(男子!H61=\"\",\"\",\",棒高跳\")&+IF(男子!I61=\"\",\"\",\",走幅跳\")&+IF(男子!J61=\"\",\"\",\",三段跳\")&+IF(男子!K61=\"\",\"\",\",砲丸投\")&+IF(男子!L61=\"\",\"\",\",円盤投\")&+IF(男子!M61=\"\",\"\",\",ﾊﾝﾏｰ投\")&+IF(男子!N61=\"\",\"\",\",槍投\")","v":""},null,null,null,null,{"$f":"+IF(混成の申込!G28=\"\",\"\",\"四種,\")&+IF(混成の申込!H28=\"\",\"\",\"五種,\")&+IF(混成の申込!I28=\"\",\"\",\"八種,\")&+IF(混成の申込!J28=\"\",\"\",\"十種\")","v":""},null,{"$f":"+IF((男子!U28+男子!P61)=\"\",\"\",(男子!U28+男子!P61))","v":0},{"$f":"+IF(混成の申込!L28=\"\",\"\",混成の申込!L28)","v":0},{"$f":"IF(はじめに出場選手の入力!$F$5=\"小学校\",200,300)*J65","v":0},0]
[{"$f":"IF(男子!C29=\"\",\"\",+男子!C29)","v":""},{"$f":"IF(男子!D29=\"\",\"\",+男子!D29)","v":""},{"$f":"+IF(男子!G29=\"\",\"\",\",100m\")&+IF(男子!H29=\"\",\"\",\",200m\")&+IF(男子!I29=\"\",\"\",\",400m\")&+IF(男子!J29=\"\",\"\",\",800m\")&+IF(男子!K29=\"\",\"\",\",1500m\")&+IF(男子!L29=\"\",\"\",\",3000m\")&+IF(男子!M29=\"\",\"\",\",5000m\")&+IF(男子!N29=\"\",\"\",\",110H\")&+IF(男子!O29=\"\",\"\",\",400mH\")&+IF(男子!P29=\"\",\"\",\",3000mW\")&+IF(男子!Q29=\"\",\"\",\",5000mW\")&+IF(男子!R29=\"\",\"\",\", 80mH\")&+IF(男子!S29=\"\",\"\",\",110mJH\")&+IF(男子!G62=\"\",\"\",\",走高跳\")&+IF(男子!H62=\"\",\"\",\",棒高跳\")&+IF(男子!I62=\"\",\"\",\",走幅跳\")&+IF(男子!J62=\"\",\"\",\",三段跳\")&+IF(男子!K62=\"\",\"\",\",砲丸投\")&+IF(男子!L62=\"\",\"\",\",円盤投\")&+IF(男子!M62=\"\",\"\",\",ﾊﾝﾏｰ投\")&+IF(男子!N62=\"\",\"\",\",槍投\")","v":""},null,null,null,null,{"$f":"+IF(混成の申込!G29=\"\",\"\",\"四種,\")&+IF(混成の申込!H29=\"\",\"\",\"五種,\")&+IF(混成の申込!I29=\"\",\"\",\"八種,\")&+IF(混成の申込!J29=\"\",\"\",\"十種\")","v":""},null,{"$f":"+IF((男子!U29+男子!P62)=\"\",\"\",(男子!U29+男子!P62))","v":0},{"$f":"+IF(混成の申込!L29=\"\",\"\",混成の申込!L29)","v":0},{"$f":"IF(はじめに出場選手の入力!$F$5=\"小学校\",200,300)*J66","v":0},0]
[{"$f":"IF(男子!C30=\"\",\"\",+男子!C30)","v":""},{"$f":"IF(男子!D30=\"\",\"\",+男子!D30)","v":""},{"$f":"+IF(男子!G30=\"\",\"\",\",100m\")&+IF(男子!H30=\"\",\"\",\",200m\")&+IF(男子!I30=\"\",\"\",\",400m\")&+IF(男子!J30=\"\",\"\",\",800m\")&+IF(男子!K30=\"\",\"\",\",1500m\")&+IF(男子!L30=\"\",\"\",\",3000m\")&+IF(男子!M30=\"\",\"\",\",5000m\")&+IF(男子!N30=\"\",\"\",\",110H\")&+IF(男子!O30=\"\",\"\",\",400mH\")&+IF(男子!P30=\"\",\"\",\",3000mW\")&+IF(男子!Q30=\"\",\"\",\",5000mW\")&+IF(男子!R30=\"\",\"\",\", 80mH\")&+IF(男子!S30=\"\",\"\",\",110mJH\")&+IF(男子!G63=\"\",\"\",\",走高跳\")&+IF(男子!H63=\"\",\"\",\",棒高跳\")&+IF(男子!I63=\"\",\"\",\",走幅跳\")&+IF(男子!J63=\"\",\"\",\",三段跳\")&+IF(男子!K63=\"\",\"\",\",砲丸投\")&+IF(男子!L63=\"\",\"\",\",円盤投\")&+IF(男子!M63=\"\",\"\",\",ﾊﾝﾏｰ投\")&+IF(男子!N63=\"\",\"\",\",槍投\")","v":""},null,null,null,null,{"$f":"+IF(混成の申込!G30=\"\",\"\",\"四種,\")&+IF(混成の申込!H30=\"\",\"\",\"五種,\")&+IF(混成の申込!I30=\"\",\"\",\"八種,\")&+IF(混成の申込!J30=\"\",\"\",\"十種\")","v":""},null,{"$f":"+IF((男子!U30+男子!P63)=\"\",\"\",(男子!U30+男子!P63))","v":0},{"$f":"+IF(混成の申込!L30=\"\",\"\",混成の申込!L30)","v":0},{"$f":"IF(はじめに出場選手の入力!$F$5=\"小学校\",200,300)*J67","v":0},0]
[{"$f":"IF(男子!C31=\"\",\"\",+男子!C31)","v":""},{"$f":"IF(男子!D31=\"\",\"\",+男子!D31)","v":""},{"$f":"+IF(男子!G31=\"\",\"\",\",100m\")&+IF(男子!H31=\"\",\"\",\",200m\")&+IF(男子!I31=\"\",\"\",\",400m\")&+IF(男子!J31=\"\",\"\",\",800m\")&+IF(男子!K31=\"\",\"\",\",1500m\")&+IF(男子!L31=\"\",\"\",\",3000m\")&+IF(男子!M31=\"\",\"\",\",5000m\")&+IF(男子!N31=\"\",\"\",\",110H\")&+IF(男子!O31=\"\",\"\",\",400mH\")&+IF(男子!P31=\"\",\"\",\",3000mW\")&+IF(男子!Q31=\"\",\"\",\",5000mW\")&+IF(男子!R31=\"\",\"\",\", 80mH\")&+IF(男子!S31=\"\",\"\",\",110mJH\")&+IF(男子!G64=\"\",\"\",\",走高跳\")&+IF(男子!H64=\"\",\"\",\",棒高跳\")&+IF(男子!I64=\"\",\"\",\",走幅跳\")&+IF(男子!J64=\"\",\"\",\",三段跳\")&+IF(男子!K64=\"\",\"\",\",砲丸投\")&+IF(男子!L64=\"\",\"\",\",円盤投\")&+IF(男子!M64=\"\",\"\",\",ﾊﾝﾏｰ投\")&+IF(男子!N64=\"\",\"\",\",槍投\")","v":""},null,null,null,null,{"$f":"+IF(混成の申込!G31=\"\",\"\",\"四種,\")&+IF(混成の申込!H31=\"\",\"\",\"五種,\")&+IF(混成の申込!I31=\"\",\"\",\"八種,\")&+IF(混成の申込!J31=\"\",\"\",\"十種\")","v":""},null,{"$f":"+IF((男子!U31+男子!P64)=\"\",\"\",(男子!U31+男子!P64))","v":0},{"$f":"+IF(混成の申込!L31=\"\",\"\",混成の申込!L31)","v":0},{"$f":"IF(はじめに出場選手の入力!$F$5=\"小学校\",200,300)*J68","v":0},0]
[{"$f":"IF(男子!C32=\"\",\"\",+男子!C32)","v":""},{"$f":"IF(男子!D32=\"\",\"\",+男子!D32)","v":""},{"$f":"+IF(男子!G32=\"\",\"\",\",100m\")&+IF(男子!H32=\"\",\"\",\",200m\")&+IF(男子!I32=\"\",\"\",\",400m\")&+IF(男子!J32=\"\",\"\",\",800m\")&+IF(男子!K32=\"\",\"\",\",1500m\")&+IF(男子!L32=\"\",\"\",\",3000m\")&+IF(男子!M32=\"\",\"\",\",5000m\")&+IF(男子!N32=\"\",\"\",\",110H\")&+IF(男子!O32=\"\",\"\",\",400mH\")&+IF(男子!P32=\"\",\"\",\",3000mW\")&+IF(男子!Q32=\"\",\"\",\",5000mW\")&+IF(男子!R32=\"\",\"\",\", 80mH\")&+IF(男子!S32=\"\",\"\",\",110mJH\")&+IF(男子!G65=\"\",\"\",\",走高跳\")&+IF(男子!H65=\"\",\"\",\",棒高跳\")&+IF(男子!I65=\"\",\"\",\",走幅跳\")&+IF(男子!J65=\"\",\"\",\",三段跳\")&+IF(男子!K65=\"\",\"\",\",砲丸投\")&+IF(男子!L65=\"\",\"\",\",円盤投\")&+IF(男子!M65=\"\",\"\",\",ﾊﾝﾏｰ投\")&+IF(男子!N65=\"\",\"\",\",槍投\")","v":""},null,null,null,null,{"$f":"+IF(混成の申込!G32=\"\",\"\",\"四種,\")&+IF(混成の申込!H32=\"\",\"\",\"五種,\")&+IF(混成の申込!I32=\"\",\"\",\"八種,\")&+IF(混成の申込!J32=\"\",\"\",\"十種\")","v":""},null,{"$f":"+IF((男子!U32+男子!P65)=\"\",\"\",(男子!U32+男子!P65))","v":0},{"$f":"+IF(混成の申込!L32=\"\",\"\",混成の申込!L32)","v":0},{"$f":"IF(はじめに出場選手の入力!$F$5=\"小学校\",200,300)*J69","v":0},0]
[{"$f":"IF(男子!C33=\"\",\"\",+男子!C33)","v":""},{"$f":"IF(男子!D33=\"\",\"\",+男子!D33)","v":""},{"$f":"+IF(男子!G33=\"\",\"\",\",100m\")&+IF(男子!H33=\"\",\"\",\",200m\")&+IF(男子!I33=\"\",\"\",\",400m\")&+IF(男子!J33=\"\",\"\",\",800m\")&+IF(男子!K33=\"\",\"\",\",1500m\")&+IF(男子!L33=\"\",\"\",\",3000m\")&+IF(男子!M33=\"\",\"\",\",5000m\")&+IF(男子!N33=\"\",\"\",\",110H\")&+IF(男子!O33=\"\",\"\",\",400mH\")&+IF(男子!P33=\"\",\"\",\",3000mW\")&+IF(男子!Q33=\"\",\"\",\",5000mW\")&+IF(男子!R33=\"\",\"\",\", 80mH\")&+IF(男子!S33=\"\",\"\",\",110mJH\")&+IF(男子!G66=\"\",\"\",\",走高跳\")&+IF(男子!H66=\"\",\"\",\",棒高跳\")&+IF(男子!I66=\"\",\"\",\",走幅跳\")&+IF(男子!J66=\"\",\"\",\",三段跳\")&+IF(男子!K66=\"\",\"\",\",砲丸投\")&+IF(男子!L66=\"\",\"\",\",円盤投\")&+IF(男子!M66=\"\",\"\",\",ﾊﾝﾏｰ投\")&+IF(男子!N66=\"\",\"\",\",槍投\")","v":""},null,null,null,null,{"$f":"+IF(混成の申込!G33=\"\",\"\",\"四種,\")&+IF(混成の申込!H33=\"\",\"\",\"五種,\")&+IF(混成の申込!I33=\"\",\"\",\"八種,\")&+IF(混成の申込!J33=\"\",\"\",\"十種\")","v":""},null,{"$f":"+IF((男子!U33+男子!P66)=\"\",\"\",(男子!U33+男子!P66))","v":0},{"$f":"+IF(混成の申込!L33=\"\",\"\",混成の申込!L33)","v":0},{"$f":"IF(はじめに出場選手の入力!$F$5=\"小学校\",200,300)*J70","v":0},0]
[{"$f":"IF(男子!C34=\"\",\"\",+男子!C34)","v":""},{"$f":"IF(男子!D34=\"\",\"\",+男子!D34)","v":""},{"$f":"+IF(男子!G34=\"\",\"\",\",100m\")&+IF(男子!H34=\"\",\"\",\",200m\")&+IF(男子!I34=\"\",\"\",\",400m\")&+IF(男子!J34=\"\",\"\",\",800m\")&+IF(男子!K34=\"\",\"\",\",1500m\")&+IF(男子!L34=\"\",\"\",\",3000m\")&+IF(男子!M34=\"\",\"\",\",5000m\")&+IF(男子!N34=\"\",\"\",\",110H\")&+IF(男子!O34=\"\",\"\",\",400mH\")&+IF(男子!P34=\"\",\"\",\",3000mW\")&+IF(男子!Q34=\"\",\"\",\",5000mW\")&+IF(男子!R34=\"\",\"\",\", 80mH\")&+IF(男子!S34=\"\",\"\",\",110mJH\")&+IF(男子!G67=\"\",\"\",\",走高跳\")&+IF(男子!H67=\"\",\"\",\",棒高跳\")&+IF(男子!I67=\"\",\"\",\",走幅跳\")&+IF(男子!J67=\"\",\"\",\",三段跳\")&+IF(男子!K67=\"\",\"\",\",砲丸投\")&+IF(男子!L67=\"\",\"\",\",円盤投\")&+IF(男子!M67=\"\",\"\",\",ﾊﾝﾏｰ投\")&+IF(男子!N67=\"\",\"\",\",槍投\")","v":""},null,null,null,null,{"$f":"+IF(混成の申込!G34=\"\",\"\",\"四種,\")&+IF(混成の申込!H34=\"\",\"\",\"五種,\")&+IF(混成の申込!I34=\"\",\"\",\"八種,\")&+IF(混成の申込!J34=\"\",\"\",\"十種\")","v":""},null,{"$f":"+IF((男子!U34+男子!P67)=\"\",\"\",(男子!U34+男子!P67))","v":0},{"$f":"+IF(混成の申込!L34=\"\",\"\",混成の申込!L34)","v":0},{"$f":"IF(はじめに出場選手の入力!$F$5=\"小学校\",200,300)*J71","v":0},0]
[null,null,null,null,null,null,null,null,null,{"$f":"SUM(J42:J71)","v":0},{"$f":"SUM(K42:K71)","v":0},{"$f":"SUM(L42:L71)","v":0},{"$f":"SUM(M42:M71)","v":0}]
[null,null,null,null,null,null,null,null,null,"男子リレー\n種目\nエントリー数",{"$f":"+IF(男女リレー!Z7=\"\",\"\",男女リレー!Z7)","v":0},{"$f":"IF(OR(はじめに出場選手の入力!$F$5=\"中学校\",はじめに出場選手の入力!$F$5=\"小学校\"),200,300)*K73","v":0},{"$f":"+L72+M72+L73","v":0}]
["女子",null,null,null,null,null,null,null,{"$f":"+IF(男子!U36=\"\",\"\",男子!U36&\"\")","v":""}]
["ゼッケン","氏名","トラック・フィールド種目",null,null,null,null,"混成種目",null,"トラックﾞ･ﾌｨﾙﾄ\nエントリー数","混成\nエントリー数","トラックﾞ･ﾌｨﾙﾄﾞ金額","混成\n金額"]
[{"$f":"IF(女子!C5=\"\",\"\",+女子!C5)","v":""},{"$f":"IF(女子!D5=\"\",\"\",+女子!D5)","v":""},{"$f":"+IF(女子!G5=\"\",\"\",\",100m\")&+IF(女子!H5=\"\",\"\",\",200m\")&+IF(女子!I5=\"\",\"\",\",400m\")&+IF(女子!J5=\"\",\"\",\",800m\")&+IF(女子!K5=\"\",\"\",\",1500m\")&+IF(女子!L5=\"\",\"\",\",3000m\")&+IF(女子!M5=\"\",\"\",\",       \")&+IF(女子!N5=\"\",\"\",\",100mH\")&+IF(女子!O5=\"\",\"\",\",400mH\")&+IF(女子!P5=\"\",\"\",\",3000mW\")&+IF(女子!Q5=\"\",\"\",\",5000mW\")&+IF(女子!R5=\"\",\"\",\",80mH\")&+IF(女子!S5=\"\",\"\",\",100mYH\")&+IF(女子!G38=\"\",\"\",\",走高跳\")&+IF(女子!H38=\"\",\"\",\",棒高跳\")&+IF(女子!I38=\"\",\"\",\",走幅跳\")&+IF(女子!J38=\"\",\"\",\",三段跳\")&+IF(女子!K38=\"\",\"\",\",砲丸投\")&+IF(女子!L38=\"\",\"\",\",円盤投\")&+IF(女子!M38=\"\",\"\",\",ﾊﾝﾏｰ投\")&+IF(女子!N38=\"\",\"\",\",槍投\")","v":""},null,null,null,null,{"$f":"+IF(混成の申込!G40=\"\",\"\",\"四種,\")&+IF(混成の申込!H40=\"\",\"\",\"五種,\")&+IF(混成の申込!I40=\"\",\"\",\"七種,\")&+IF(混成の申込!J40=\"\",\"\",\"十種\")","v":""},1,{"$f":"+IF((女子!U5+女子!P38)=\"\",\"\",(女子!U5+女子!P38))","v":0},{"$f":"+IF(混成の申込!L40=\"\",\"\",混成の申込!L40)","v":0},{"$f":"IF(はじめに出場選手の入力!$F$5=\"小学校\",200,300)*J76","v":0},{"$f":"1000*K76","v":0}]
[{"$f":"IF(女子!C6=\"\",\"\",+女子!C6)","v":""},{"$f":"IF(女子!D6=\"\",\"\",+女子!D6)","v":""},{"$f":"+IF(女子!G6=\"\",\"\",\",100m\")&+IF(女子!H6=\"\",\"\",\",200m\")&+IF(女子!I6=\"\",\"\",\",400m\")&+IF(女子!J6=\"\",\"\",\",800m\")&+IF(女子!K6=\"\",\"\",\",1500m\")&+IF(女子!L6=\"\",\"\",\",3000m\")&+IF(女子!M6=\"\",\"\",\",       \")&+IF(女子!N6=\"\",\"\",\",100mH\")&+IF(女子!O6=\"\",\"\",\",400mH\")&+IF(女子!P6=\"\",\"\",\",3000mW\")&+IF(女子!Q6=\"\",\"\",\",5000mW\")&+IF(女子!R6=\"\",\"\",\",80mH\")&+IF(女子!S6=\"\",\"\",\",100mYH\")&+IF(女子!G39=\"\",\"\",\",走高跳\")&+IF(女子!H39=\"\",\"\",\",棒高跳\")&+IF(女子!I39=\"\",\"\",\",走幅跳\")&+IF(女子!J39=\"\",\"\",\",三段跳\")&+IF(女子!K39=\"\",\"\",\",砲丸投\")&+IF(女子!L39=\"\",\"\",\",円盤投\")&+IF(女子!M39=\"\",\"\",\",ﾊﾝﾏｰ投\")&+IF(女子!N39=\"\",\"\",\",槍投\")","v":""},null,null,null,null,{"$f":"+IF(混成の申込!G41=\"\",\"\",\"四種,\")&+IF(混成の申込!H41=\"\",\"\",\"五種,\")&+IF(混成の申込!I41=\"\",\"\",\"七種,\")&+IF(混成の申込!J41=\"\",\"\",\"十種\")","v":""},2,{"$f":"+IF((女子!U6+女子!P39)=\"\",\"\",(女子!U6+女子!P39))","v":0},{"$f":"+IF(混成の申込!L41=\"\",\"\",混成の申込!L41)","v":0},{"$f":"IF(はじめに出場選手の入力!$F$5=\"小学校\",200,300)*J77","v":0},{"$f":"1000*K77","v":0}]
[{"$f":"IF(女子!C7=\"\",\"\",+女子!C7)","v":""},{"$f":"IF(女子!D7=\"\",\"\",+女子!D7)","v":""},{"$f":"+IF(女子!G7=\"\",\"\",\",100m\")&+IF(女子!H7=\"\",\"\",\",200m\")&+IF(女子!I7=\"\",\"\",\",400m\")&+IF(女子!J7=\"\",\"\",\",800m\")&+IF(女子!K7=\"\",\"\",\",1500m\")&+IF(女子!L7=\"\",\"\",\",3000m\")&+IF(女子!M7=\"\",\"\",\",       \")&+IF(女子!N7=\"\",\"\",\",100mH\")&+IF(女子!O7=\"\",\"\",\",400mH\")&+IF(女子!P7=\"\",\"\",\",3000mW\")&+IF(女子!Q7=\"\",\"\",\",5000mW\")&+IF(女子!R7=\"\",\"\",\",80mH\")&+IF(女子!S7=\"\",\"\",\",100mYH\")&+IF(女子!G40=\"\",\"\",\",走高跳\")&+IF(女子!H40=\"\",\"\",\",棒高跳\")&+IF(女子!I40=\"\",\"\",\",走幅跳\")&+IF(女子!J40=\"\",\"\",\",三段跳\")&+IF(女子!K40=\"\",\"\",\",砲丸投\")&+IF(女子!L40=\"\",\"\",\",円盤投\")&+IF(女子!M40=\"\",\"\",\",ﾊﾝﾏｰ投\")&+IF(女子!N40=\"\",\"\",\",槍投\")","v":""},null,null,null,null,{"$f":"+IF(混成の申込!G42=\"\",\"\",\"四種,\")&+IF(混成の申込!H42=\"\",\"\",\"五種,\")&+IF(混成の申込!I42=\"\",\"\",\"七種,\")&+IF(混成の申込!J42=\"\",\"\",\"十種\")","v":""},3,{"$f":"+IF((女子!U7+女子!P40)=\"\",\"\",(女子!U7+女子!P40))","v":0},{"$f":"+IF(混成の申込!L42=\"\",\"\",混成の申込!L42)","v":0},{"$f":"IF(はじめに出場選手の入力!$F$5=\"小学校\",200,300)*J78","v":0},0]
[{"$f":"IF(女子!C8=\"\",\"\",+女子!C8)","v":""},{"$f":"IF(女子!D8=\"\",\"\",+女子!D8)","v":""},{"$f":"+IF(女子!G8=\"\",\"\",\",100m\")&+IF(女子!H8=\"\",\"\",\",200m\")&+IF(女子!I8=\"\",\"\",\",400m\")&+IF(女子!J8=\"\",\"\",\",800m\")&+IF(女子!K8=\"\",\"\",\",1500m\")&+IF(女子!L8=\"\",\"\",\",3000m\")&+IF(女子!M8=\"\",\"\",\",       \")&+IF(女子!N8=\"\",\"\",\",100mH\")&+IF(女子!O8=\"\",\"\",\",400mH\")&+IF(女子!P8=\"\",\"\",\",3000mW\")&+IF(女子!Q8=\"\",\"\",\",5000mW\")&+IF(女子!R8=\"\",\"\",\",80mH\")&+IF(女子!S8=\"\",\"\",\",100mYH\")&+IF(女子!G41=\"\",\"\",\",走高跳\")&+IF(女子!H41=\"\",\"\",\",棒高跳\")&+IF(女子!I41=\"\",\"\",\",走幅跳\")&+IF(女子!J41=\"\",\"\",\",三段跳\")&+IF(女子!K41=\"\",\"\",\",砲丸投\")&+IF(女子!L41=\"\",\"\",\",円盤投\")&+IF(女子!M41=\"\",\"\",\",ﾊﾝﾏｰ投\")&+IF(女子!N41=\"\",\"\",\",槍投\")","v":""},null,null,null,null,{"$f":"+IF(混成の申込!G43=\"\",\"\",\"四種,\")&+IF(混成の申込!H43=\"\",\"\",\"五種,\")&+IF(混成の申込!I43=\"\",\"\",\"七種,\")&+IF(混成の申込!J43=\"\",\"\",\"十種\")","v":""},4,{"$f":"+IF((女子!U8+女子!P41)=\"\",\"\",(女子!U8+女子!P41))","v":0},{"$f":"+IF(混成の申込!L43=\"\",\"\",混成の申込!L43)","v":0},{"$f":"IF(はじめに出場選手の入力!$F$5=\"小学校\",200,300)*J79","v":0},0]
[{"$f":"IF(女子!C9=\"\",\"\",+女子!C9)","v":""},{"$f":"IF(女子!D9=\"\",\"\",+女子!D9)","v":""},{"$f":"+IF(女子!G9=\"\",\"\",\",100m\")&+IF(女子!H9=\"\",\"\",\",200m\")&+IF(女子!I9=\"\",\"\",\",400m\")&+IF(女子!J9=\"\",\"\",\",800m\")&+IF(女子!K9=\"\",\"\",\",1500m\")&+IF(女子!L9=\"\",\"\",\",3000m\")&+IF(女子!M9=\"\",\"\",\",       \")&+IF(女子!N9=\"\",\"\",\",100mH\")&+IF(女子!O9=\"\",\"\",\",400mH\")&+IF(女子!P9=\"\",\"\",\",3000mW\")&+IF(女子!Q9=\"\",\"\",\",5000mW\")&+IF(女子!R9=\"\",\"\",\",80mH\")&+IF(女子!S9=\"\",\"\",\",100mYH\")&+IF(女子!G42=\"\",\"\",\",走高跳\")&+IF(女子!H42=\"\",\"\",\",棒高跳\")&+IF(女子!I42=\"\",\"\",\",走幅跳\")&+IF(女子!J42=\"\",\"\",\",三段跳\")&+IF(女子!K42=\"\",\"\",\",砲丸投\")&+IF(女子!L42=\"\",\"\",\",円盤投\")&+IF(女子!M42=\"\",\"\",\",ﾊﾝﾏｰ投\")&+IF(女子!N42=\"\",\"\",\",槍投\")","v":""},null,null,null,null,{"$f":"+IF(混成の申込!G44=\"\",\"\",\"四種,\")&+IF(混成の申込!H44=\"\",\"\",\"五種,\")&+IF(混成の申込!I44=\"\",\"\",\"七種,\")&+IF(混成の申込!J44=\"\",\"\",\"十種\")","v":""},5,{"$f":"+IF((女子!U9+女子!P42)=\"\",\"\",(女子!U9+女子!P42))","v":0},{"$f":"+IF(混成の申込!L44=\"\",\"\",混成の申込!L44)","v":0},{"$f":"IF(はじめに出場選手の入力!$F$5=\"小学校\",200,300)*J80","v":0},0]
[{"$f":"IF(女子!C10=\"\",\"\",+女子!C10)","v":""},{"$f":"IF(女子!D10=\"\",\"\",+女子!D10)","v":""},{"$f":"+IF(女子!G10=\"\",\"\",\",100m\")&+IF(女子!H10=\"\",\"\",\",200m\")&+IF(女子!I10=\"\",\"\",\",400m\")&+IF(女子!J10=\"\",\"\",\",800m\")&+IF(女子!K10=\"\",\"\",\",1500m\")&+IF(女子!L10=\"\",\"\",\",3000m\")&+IF(女子!M10=\"\",\"\",\",       \")&+IF(女子!N10=\"\",\"\",\",100mH\")&+IF(女子!O10=\"\",\"\",\",400mH\")&+IF(女子!P10=\"\",\"\",\",3000mW\")&+IF(女子!Q10=\"\",\"\",\",5000mW\")&+IF(女子!R10=\"\",\"\",\",80mH\")&+IF(女子!S10=\"\",\"\",\",100mYH\")&+IF(女子!G43=\"\",\"\",\",走高跳\")&+IF(女子!H43=\"\",\"\",\",棒高跳\")&+IF(女子!I43=\"\",\"\",\",走幅跳\")&+IF(女子!J43=\"\",\"\",\",三段跳\")&+IF(女子!K43=\"\",\"\",\",砲丸投\")&+IF(女子!L43=\"\",\"\",\",円盤投\")&+IF(女子!M43=\"\",\"\",\",ﾊﾝﾏｰ投\")&+IF(女子!N43=\"\",\"\",\",槍投\")","v":""},null,null,null,null,{"$f":"+IF(混成の申込!G45=\"\",\"\",\"四種,\")&+IF(混成の申込!H45=\"\",\"\",\"五種,\")&+IF(混成の申込!I45=\"\",\"\",\"七種,\")&+IF(混成の申込!J45=\"\",\"\",\"十種\")","v":""},6,{"$f":"+IF((女子!U10+女子!P43)=\"\",\"\",(女子!U10+女子!P43))","v":0},{"$f":"+IF(混成の申込!L45=\"\",\"\",混成の申込!L45)","v":0},{"$f":"IF(はじめに出場選手の入力!$F$5=\"小学校\",200,300)*J81","v":0},0]
[{"$f":"IF(女子!C11=\"\",\"\",+女子!C11)","v":""},{"$f":"IF(女子!D11=\"\",\"\",+女子!D11)","v":""},{"$f":"+IF(女子!G11=\"\",\"\",\",100m\")&+IF(女子!H11=\"\",\"\",\",200m\")&+IF(女子!I11=\"\",\"\",\",400m\")&+IF(女子!J11=\"\",\"\",\",800m\")&+IF(女子!K11=\"\",\"\",\",1500m\")&+IF(女子!L11=\"\",\"\",\",3000m\")&+IF(女子!M11=\"\",\"\",\",       \")&+IF(女子!N11=\"\",\"\",\",100mH\")&+IF(女子!O11=\"\",\"\",\",400mH\")&+IF(女子!P11=\"\",\"\",\",3000mW\")&+IF(女子!Q11=\"\",\"\",\",5000mW\")&+IF(女子!R11=\"\",\"\",\",80mH\")&+IF(女子!S11=\"\",\"\",\",100mYH\")&+IF(女子!G44=\"\",\"\",\",走高跳\")&+IF(女子!H44=\"\",\"\",\",棒高跳\")&+IF(女子!I44=\"\",\"\",\",走幅跳\")&+IF(女子!J44=\"\",\"\",\",三段跳\")&+IF(女子!K44=\"\",\"\",\",砲丸投\")&+IF(女子!L44=\"\",\"\",\",円盤投\")&+IF(女子!M44=\"\",\"\",\",ﾊﾝﾏｰ投\")&+IF(女子!N44=\"\",\"\",\",槍投\")","v":""},null,null,null,null,{"$f":"+IF(混成の申込!G46=\"\",\"\",\"四種,\")&+IF(混成の申込!H46=\"\",\"\",\"五種,\")&+IF(混成の申込!I46=\"\",\"\",\"七種,\")&+IF(混成の申込!J46=\"\",\"\",\"十種\")","v":""},7,{"$f":"+IF((女子!U11+女子!P44)=\"\",\"\",(女子!U11+女子!P44))","v":0},{"$f":"+IF(混成の申込!L46=\"\",\"\",混成の申込!L46)","v":0},{"$f":"IF(はじめに出場選手の入力!$F$5=\"小学校\",200,300)*J82","v":0},0]
[{"$f":"IF(女子!C12=\"\",\"\",+女子!C12)","v":""},{"$f":"IF(女子!D12=\"\",\"\",+女子!D12)","v":""},{"$f":"+IF(女子!G12=\"\",\"\",\",100m\")&+IF(女子!H12=\"\",\"\",\",200m\")&+IF(女子!I12=\"\",\"\",\",400m\")&+IF(女子!J12=\"\",\"\",\",800m\")&+IF(女子!K12=\"\",\"\",\",1500m\")&+IF(女子!L12=\"\",\"\",\",3000m\")&+IF(女子!M12=\"\",\"\",\",       \")&+IF(女子!N12=\"\",\"\",\",100mH\")&+IF(女子!O12=\"\",\"\",\",400mH\")&+IF(女子!P12=\"\",\"\",\",3000mW\")&+IF(女子!Q12=\"\",\"\",\",5000mW\")&+IF(女子!R12=\"\",\"\",\",80mH\")&+IF(女子!S12=\"\",\"\",\",100mYH\")&+IF(女子!G45=\"\",\"\",\",走高跳\")&+IF(女子!H45=\"\",\"\",\",棒高跳\")&+IF(女子!I45=\"\",\"\",\",走幅跳\")&+IF(女子!J45=\"\",\"\",\",三段跳\")&+IF(女子!K45=\"\",\"\",\",砲丸投\")&+IF(女子!L45=\"\",\"\",\",円盤投\")&+IF(女子!M45=\"\",\"\",\",ﾊﾝﾏｰ投\")&+IF(女子!N45=\"\",\"\",\",槍投\")","v":""},null,null,null,null,{"$f":"+IF(混成の申込!G47=\"\",\"\",\"四種,\")&+IF(混成の申込!H47=\"\",\"\",\"五種,\")&+IF(混成の申込!I47=\"\",\"\",\"七種,\")&+IF(混成の申込!J47=\"\",\"\",\"十種\")","v":""},8,{"$f":"+IF((女子!U12+女子!P45)=\"\",\"\",(女子!U12+女子!P45))","v":0},{"$f":"+IF(混成の申込!L47=\"\",\"\",混成の申込!L47)","v":0},{"$f":"IF(はじめに出場選手の入力!$F$5=\"小学校\",200,300)*J83","v":0},0]
[{"$f":"IF(女子!C13=\"\",\"\",+女子!C13)","v":""},{"$f":"IF(女子!D13=\"\",\"\",+女子!D13)","v":""},{"$f":"+IF(女子!G13=\"\",\"\",\",100m\")&+IF(女子!H13=\"\",\"\",\",200m\")&+IF(女子!I13=\"\",\"\",\",400m\")&+IF(女子!J13=\"\",\"\",\",800m\")&+IF(女子!K13=\"\",\"\",\",1500m\")&+IF(女子!L13=\"\",\"\",\",3000m\")&+IF(女子!M13=\"\",\"\",\",       \")&+IF(女子!N13=\"\",\"\",\",100mH\")&+IF(女子!O13=\"\",\"\",\",400mH\")&+IF(女子!P13=\"\",\"\",\",3000mW\")&+IF(女子!Q13=\"\",\"\",\",5000mW\")&+IF(女子!R13=\"\",\"\",\",80mH\")&+IF(女子!S13=\"\",\"\",\",100mYH\")&+IF(女子!G46=\"\",\"\",\",走高跳\")&+IF(女子!H46=\"\",\"\",\",棒高跳\")&+IF(女子!I46=\"\",\"\",\",走幅跳\")&+IF(女子!J46=\"\",\"\",\",三段跳\")&+IF(女子!K46=\"\",\"\",\",砲丸投\")&+IF(女子!L46=\"\",\"\",\",円盤投\")&+IF(女子!M46=\"\",\"\",\",ﾊﾝﾏｰ投\")&+IF(女子!N46=\"\",\"\",\",槍投\")","v":""},null,null,null,null,{"$f":"+IF(混成の申込!G48=\"\",\"\",\"四種,\")&+IF(混成の申込!H48=\"\",\"\",\"五種,\")&+IF(混成の申込!I48=\"\",\"\",\"七種,\")&+IF(混成の申込!J48=\"\",\"\",\"十種\")","v":""},9,{"$f":"+IF((女子!U13+女子!P46)=\"\",\"\",(女子!U13+女子!P46))","v":0},{"$f":"+IF(混成の申込!L48=\"\",\"\",混成の申込!L48)","v":0},{"$f":"IF(はじめに出場選手の入力!$F$5=\"小学校\",200,300)*J84","v":0},0]
[{"$f":"IF(女子!C14=\"\",\"\",+女子!C14)","v":""},{"$f":"IF(女子!D14=\"\",\"\",+女子!D14)","v":""},{"$f":"+IF(女子!G14=\"\",\"\",\",100m\")&+IF(女子!H14=\"\",\"\",\",200m\")&+IF(女子!I14=\"\",\"\",\",400m\")&+IF(女子!J14=\"\",\"\",\",800m\")&+IF(女子!K14=\"\",\"\",\",1500m\")&+IF(女子!L14=\"\",\"\",\",3000m\")&+IF(女子!M14=\"\",\"\",\",       \")&+IF(女子!N14=\"\",\"\",\",100mH\")&+IF(女子!O14=\"\",\"\",\",400mH\")&+IF(女子!P14=\"\",\"\",\",3000mW\")&+IF(女子!Q14=\"\",\"\",\",5000mW\")&+IF(女子!R14=\"\",\"\",\",80mH\")&+IF(女子!S14=\"\",\"\",\",100mYH\")&+IF(女子!G47=\"\",\"\",\",走高跳\")&+IF(女子!H47=\"\",\"\",\",棒高跳\")&+IF(女子!I47=\"\",\"\",\",走幅跳\")&+IF(女子!J47=\"\",\"\",\",三段跳\")&+IF(女子!K47=\"\",\"\",\",砲丸投\")&+IF(女子!L47=\"\",\"\",\",円盤投\")&+IF(女子!M47=\"\",\"\",\",ﾊﾝﾏｰ投\")&+IF(女子!N47=\"\",\"\",\",槍投\")","v":""},null,null,null,null,{"$f":"+IF(混成の申込!G49=\"\",\"\",\"四種,\")&+IF(混成の申込!H49=\"\",\"\",\"五種,\")&+IF(混成の申込!I49=\"\",\"\",\"七種,\")&+IF(混成の申込!J49=\"\",\"\",\"十種\")","v":""},10,{"$f":"+IF((女子!U14+女子!P47)=\"\",\"\",(女子!U14+女子!P47))","v":0},{"$f":"+IF(混成の申込!L49=\"\",\"\",混成の申込!L49)","v":0},{"$f":"IF(はじめに出場選手の入力!$F$5=\"小学校\",200,300)*J85","v":0},0]
[{"$f":"IF(女子!C15=\"\",\"\",+女子!C15)","v":""},{"$f":"IF(女子!D15=\"\",\"\",+女子!D15)","v":""},{"$f":"+IF(女子!G15=\"\",\"\",\",100m\")&+IF(女子!H15=\"\",\"\",\",200m\")&+IF(女子!I15=\"\",\"\",\",400m\")&+IF(女子!J15=\"\",\"\",\",800m\")&+IF(女子!K15=\"\",\"\",\",1500m\")&+IF(女子!L15=\"\",\"\",\",3000m\")&+IF(女子!M15=\"\",\"\",\",       \")&+IF(女子!N15=\"\",\"\",\",100mH\")&+IF(女子!O15=\"\",\"\",\",400mH\")&+IF(女子!P15=\"\",\"\",\",3000mW\")&+IF(女子!Q15=\"\",\"\",\",5000mW\")&+IF(女子!R15=\"\",\"\",\",80mH\")&+IF(女子!S15=\"\",\"\",\",100mYH\")&+IF(女子!G48=\"\",\"\",\",走高跳\")&+IF(女子!H48=\"\",\"\",\",棒高跳\")&+IF(女子!I48=\"\",\"\",\",走幅跳\")&+IF(女子!J48=\"\",\"\",\",三段跳\")&+IF(女子!K48=\"\",\"\",\",砲丸投\")&+IF(女子!L48=\"\",\"\",\",円盤投\")&+IF(女子!M48=\"\",\"\",\",ﾊﾝﾏｰ投\")&+IF(女子!N48=\"\",\"\",\",槍投\")","v":""},null,null,null,null,{"$f":"+IF(混成の申込!G50=\"\",\"\",\"四種,\")&+IF(混成の申込!H50=\"\",\"\",\"五種,\")&+IF(混成の申込!I50=\"\",\"\",\"七種,\")&+IF(混成の申込!J50=\"\",\"\",\"十種\")","v":""},11,{"$f":"+IF((女子!U15+女子!P48)=\"\",\"\",(女子!U15+女子!P48))","v":0},{"$f":"+IF(混成の申込!L50=\"\",\"\",混成の申込!L50)","v":0},{"$f":"IF(はじめに出場選手の入力!$F$5=\"小学校\",200,300)*J86","v":0},0]
[{"$f":"IF(女子!C16=\"\",\"\",+女子!C16)","v":""},{"$f":"IF(女子!D16=\"\",\"\",+女子!D16)","v":""},{"$f":"+IF(女子!G16=\"\",\"\",\",100m\")&+IF(女子!H16=\"\",\"\",\",200m\")&+IF(女子!I16=\"\",\"\",\",400m\")&+IF(女子!J16=\"\",\"\",\",800m\")&+IF(女子!K16=\"\",\"\",\",1500m\")&+IF(女子!L16=\"\",\"\",\",3000m\")&+IF(女子!M16=\"\",\"\",\",       \")&+IF(女子!N16=\"\",\"\",\",100mH\")&+IF(女子!O16=\"\",\"\",\",400mH\")&+IF(女子!P16=\"\",\"\",\",3000mW\")&+IF(女子!Q16=\"\",\"\",\",5000mW\")&+IF(女子!R16=\"\",\"\",\",80mH\")&+IF(女子!S16=\"\",\"\",\",100mYH\")&+IF(女子!G49=\"\",\"\",\",走高跳\")&+IF(女子!H49=\"\",\"\",\",棒高跳\")&+IF(女子!I49=\"\",\"\",\",走幅跳\")&+IF(女子!J49=\"\",\"\",\",三段跳\")&+IF(女子!K49=\"\",\"\",\",砲丸投\")&+IF(女子!L49=\"\",\"\",\",円盤投\")&+IF(女子!M49=\"\",\"\",\",ﾊﾝﾏｰ投\")&+IF(女子!N49=\"\",\"\",\",槍投\")","v":""},null,null,null,null,{"$f":"+IF(混成の申込!G51=\"\",\"\",\"四種,\")&+IF(混成の申込!H51=\"\",\"\",\"五種,\")&+IF(混成の申込!I51=\"\",\"\",\"七種,\")&+IF(混成の申込!J51=\"\",\"\",\"十種\")","v":""},12,{"$f":"+IF((女子!U16+女子!P49)=\"\",\"\",(女子!U16+女子!P49))","v":0},{"$f":"+IF(混成の申込!L51=\"\",\"\",混成の申込!L51)","v":0},{"$f":"IF(はじめに出場選手の入力!$F$5=\"小学校\",200,300)*J87","v":0},0]
[{"$f":"IF(女子!C17=\"\",\"\",+女子!C17)","v":""},{"$f":"IF(女子!D17=\"\",\"\",+女子!D17)","v":""},{"$f":"+IF(女子!G17=\"\",\"\",\",100m\")&+IF(女子!H17=\"\",\"\",\",200m\")&+IF(女子!I17=\"\",\"\",\",400m\")&+IF(女子!J17=\"\",\"\",\",800m\")&+IF(女子!K17=\"\",\"\",\",1500m\")&+IF(女子!L17=\"\",\"\",\",3000m\")&+IF(女子!M17=\"\",\"\",\",       \")&+IF(女子!N17=\"\",\"\",\",100mH\")&+IF(女子!O17=\"\",\"\",\",400mH\")&+IF(女子!P17=\"\",\"\",\",3000mW\")&+IF(女子!Q17=\"\",\"\",\",5000mW\")&+IF(女子!R17=\"\",\"\",\",80mH\")&+IF(女子!S17=\"\",\"\",\",100mYH\")&+IF(女子!G50=\"\",\"\",\",走高跳\")&+IF(女子!H50=\"\",\"\",\",棒高跳\")&+IF(女子!I50=\"\",\"\",\",走幅跳\")&+IF(女子!J50=\"\",\"\",\",三段跳\")&+IF(女子!K50=\"\",\"\",\",砲丸投\")&+IF(女子!L50=\"\",\"\",\",円盤投\")&+IF(女子!M50=\"\",\"\",\",ﾊﾝﾏｰ投\")&+IF(女子!N50=\"\",\"\",\",槍投\")","v":""},null,null,null,null,{"$f":"+IF(混成の申込!G52=\"\",\"\",\"四種,\")&+IF(混成の申込!H52=\"\",\"\",\"五種,\")&+IF(混成の申込!I52=\"\",\"\",\"七種,\")&+IF(混成の申込!J52=\"\",\"\",\"十種\")","v":""},13,{"$f":"+IF((女子!U17+女子!P50)=\"\",\"\",(女子!U17+女子!P50))","v":0},{"$f":"+IF(混成の申込!L52=\"\",\"\",混成の申込!L52)","v":0},{"$f":"IF(はじめに出場選手の入力!$F$5=\"小学校\",200,300)*J88","v":0},0]
[{"$f":"IF(女子!C18=\"\",\"\",+女子!C18)","v":""},{"$f":"IF(女子!D18=\"\",\"\",+女子!D18)","v":""},{"$f":"+IF(女子!G18=\"\",\"\",\",100m\")&+IF(女子!H18=\"\",\"\",\",200m\")&+IF(女子!I18=\"\",\"\",\",400m\")&+IF(女子!J18=\"\",\"\",\",800m\")&+IF(女子!K18=\"\",\"\",\",1500m\")&+IF(女子!L18=\"\",\"\",\",3000m\")&+IF(女子!M18=\"\",\"\",\",       \")&+IF(女子!N18=\"\",\"\",\",100mH\")&+IF(女子!O18=\"\",\"\",\",400mH\")&+IF(女子!P18=\"\",\"\",\",3000mW\")&+IF(女子!Q18=\"\",\"\",\",5000mW\")&+IF(女子!R18=\"\",\"\",\",80mH\")&+IF(女子!S18=\"\",\"\",\",100mYH\")&+IF(女子!G51=\"\",\"\",\",走高跳\")&+IF(女子!H51=\"\",\"\",\",棒高跳\")&+IF(女子!I51=\"\",\"\",\",走幅跳\")&+IF(女子!J51=\"\",\"\",\",三段跳\")&+IF(女子!K51=\"\",\"\",\",砲丸投\")&+IF(女子!L51=\"\",\"\",\",円盤投\")&+IF(女子!M51=\"\",\"\",\",ﾊﾝﾏｰ投\")&+IF(女子!N51=\"\",\"\",\",槍投\")","v":""},null,null,null,null,{"$f":"+IF(混成の申込!G53=\"\",\"\",\"四種,\")&+IF(混成の申込!H53=\"\",\"\",\"五種,\")&+IF(混成の申込!I53=\"\",\"\",\"七種,\")&+IF(混成の申込!J53=\"\",\"\",\"十種\")","v":""},14,{"$f":"+IF((女子!U18+女子!P51)=\"\",\"\",(女子!U18+女子!P51))","v":0},{"$f":"+IF(混成の申込!L53=\"\",\"\",混成の申込!L53)","v":0},{"$f":"IF(はじめに出場選手の入力!$F$5=\"小学校\",200,300)*J89","v":0},0]
[{"$f":"IF(女子!C19=\"\",\"\",+女子!C19)","v":""},{"$f":"IF(女子!D19=\"\",\"\",+女子!D19)","v":""},{"$f":"+IF(女子!G19=\"\",\"\",\",100m\")&+IF(女子!H19=\"\",\"\",\",200m\")&+IF(女子!I19=\"\",\"\",\",400m\")&+IF(女子!J19=\"\",\"\",\",800m\")&+IF(女子!K19=\"\",\"\",\",1500m\")&+IF(女子!L19=\"\",\"\",\",3000m\")&+IF(女子!M19=\"\",\"\",\",       \")&+IF(女子!N19=\"\",\"\",\",100mH\")&+IF(女子!O19=\"\",\"\",\",400mH\")&+IF(女子!P19=\"\",\"\",\",3000mW\")&+IF(女子!Q19=\"\",\"\",\",5000mW\")&+IF(女子!R19=\"\",\"\",\",80mH\")&+IF(女子!S19=\"\",\"\",\",100mYH\")&+IF(女子!G52=\"\",\"\",\",走高跳\")&+IF(女子!H52=\"\",\"\",\",棒高跳\")&+IF(女子!I52=\"\",\"\",\",走幅跳\")&+IF(女子!J52=\"\",\"\",\",三段跳\")&+IF(女子!K52=\"\",\"\",\",砲丸投\")&+IF(女子!L52=\"\",\"\",\",円盤投\")&+IF(女子!M52=\"\",\"\",\",ﾊﾝﾏｰ投\")&+IF(女子!N52=\"\",\"\",\",槍投\")","v":""},null,null,null,null,{"$f":"+IF(混成の申込!G54=\"\",\"\",\"四種,\")&+IF(混成の申込!H54=\"\",\"\",\"五種,\")&+IF(混成の申込!I54=\"\",\"\",\"七種,\")&+IF(混成の申込!J54=\"\",\"\",\"十種\")","v":""},15,{"$f":"+IF((女子!U19+女子!P52)=\"\",\"\",(女子!U19+女子!P52))","v":0},{"$f":"+IF(混成の申込!L54=\"\",\"\",混成の申込!L54)","v":0},{"$f":"IF(はじめに出場選手の入力!$F$5=\"小学校\",200,300)*J90","v":0},0]
[{"$f":"IF(女子!C20=\"\",\"\",+女子!C20)","v":""},{"$f":"IF(女子!D20=\"\",\"\",+女子!D20)","v":""},{"$f":"+IF(女子!G20=\"\",\"\",\",100m\")&+IF(女子!H20=\"\",\"\",\",200m\")&+IF(女子!I20=\"\",\"\",\",400m\")&+IF(女子!J20=\"\",\"\",\",800m\")&+IF(女子!K20=\"\",\"\",\",1500m\")&+IF(女子!L20=\"\",\"\",\",3000m\")&+IF(女子!M20=\"\",\"\",\",       \")&+IF(女子!N20=\"\",\"\",\",100mH\")&+IF(女子!O20=\"\",\"\",\",400mH\")&+IF(女子!P20=\"\",\"\",\",3000mW\")&+IF(女子!Q20=\"\",\"\",\",5000mW\")&+IF(女子!R20=\"\",\"\",\",80mH\")&+IF(女子!S20=\"\",\"\",\",100mYH\")&+IF(女子!G53=\"\",\"\",\",走高跳\")&+IF(女子!H53=\"\",\"\",\",棒高跳\")&+IF(女子!I53=\"\",\"\",\",走幅跳\")&+IF(女子!J53=\"\",\"\",\",三段跳\")&+IF(女子!K53=\"\",\"\",\",砲丸投\")&+IF(女子!L53=\"\",\"\",\",円盤投\")&+IF(女子!M53=\"\",\"\",\",ﾊﾝﾏｰ投\")&+IF(女子!N53=\"\",\"\",\",槍投\")","v":""},null,null,null,null,{"$f":"+IF(混成の申込!G55=\"\",\"\",\"四種,\")&+IF(混成の申込!H55=\"\",\"\",\"五種,\")&+IF(混成の申込!I55=\"\",\"\",\"七種,\")&+IF(混成の申込!J55=\"\",\"\",\"十種\")","v":""},16,{"$f":"+IF((女子!U20+女子!P53)=\"\",\"\",(女子!U20+女子!P53))","v":0},{"$f":"+IF(混成の申込!L55=\"\",\"\",混成の申込!L55)","v":0},{"$f":"IF(はじめに出場選手の入力!$F$5=\"小学校\",200,300)*J91","v":0},0]
[{"$f":"IF(女子!C21=\"\",\"\",+女子!C21)","v":""},{"$f":"IF(女子!D21=\"\",\"\",+女子!D21)","v":""},{"$f":"+IF(女子!G21=\"\",\"\",\",100m\")&+IF(女子!H21=\"\",\"\",\",200m\")&+IF(女子!I21=\"\",\"\",\",400m\")&+IF(女子!J21=\"\",\"\",\",800m\")&+IF(女子!K21=\"\",\"\",\",1500m\")&+IF(女子!L21=\"\",\"\",\",3000m\")&+IF(女子!M21=\"\",\"\",\",       \")&+IF(女子!N21=\"\",\"\",\",100mH\")&+IF(女子!O21=\"\",\"\",\",400mH\")&+IF(女子!P21=\"\",\"\",\",3000mW\")&+IF(女子!Q21=\"\",\"\",\",5000mW\")&+IF(女子!R21=\"\",\"\",\",80mH\")&+IF(女子!S21=\"\",\"\",\",100mYH\")&+IF(女子!G54=\"\",\"\",\",走高跳\")&+IF(女子!H54=\"\",\"\",\",棒高跳\")&+IF(女子!I54=\"\",\"\",\",走幅跳\")&+IF(女子!J54=\"\",\"\",\",三段跳\")&+IF(女子!K54=\"\",\"\",\",砲丸投\")&+IF(女子!L54=\"\",\"\",\",円盤投\")&+IF(女子!M54=\"\",\"\",\",ﾊﾝﾏｰ投\")&+IF(女子!N54=\"\",\"\",\",槍投\")","v":""},null,null,null,null,{"$f":"+IF(混成の申込!G56=\"\",\"\",\"四種,\")&+IF(混成の申込!H56=\"\",\"\",\"五種,\")&+IF(混成の申込!I56=\"\",\"\",\"七種,\")&+IF(混成の申込!J56=\"\",\"\",\"十種\")","v":""},17,{"$f":"+IF((女子!U21+女子!P54)=\"\",\"\",(女子!U21+女子!P54))","v":0},{"$f":"+IF(混成の申込!L56=\"\",\"\",混成の申込!L56)","v":0},{"$f":"IF(はじめに出場選手の入力!$F$5=\"小学校\",200,300)*J92","v":0},0]
[{"$f":"IF(女子!C22=\"\",\"\",+女子!C22)","v":""},{"$f":"IF(女子!D22=\"\",\"\",+女子!D22)","v":""},{"$f":"+IF(女子!G22=\"\",\"\",\",100m\")&+IF(女子!H22=\"\",\"\",\",200m\")&+IF(女子!I22=\"\",\"\",\",400m\")&+IF(女子!J22=\"\",\"\",\",800m\")&+IF(女子!K22=\"\",\"\",\",1500m\")&+IF(女子!L22=\"\",\"\",\",3000m\")&+IF(女子!M22=\"\",\"\",\",       \")&+IF(女子!N22=\"\",\"\",\",100mH\")&+IF(女子!O22=\"\",\"\",\",400mH\")&+IF(女子!P22=\"\",\"\",\",3000mW\")&+IF(女子!Q22=\"\",\"\",\",5000mW\")&+IF(女子!R22=\"\",\"\",\",80mH\")&+IF(女子!S22=\"\",\"\",\",100mYH\")&+IF(女子!G55=\"\",\"\",\",走高跳\")&+IF(女子!H55=\"\",\"\",\",棒高跳\")&+IF(女子!I55=\"\",\"\",\",走幅跳\")&+IF(女子!J55=\"\",\"\",\",三段跳\")&+IF(女子!K55=\"\",\"\",\",砲丸投\")&+IF(女子!L55=\"\",\"\",\",円盤投\")&+IF(女子!M55=\"\",\"\",\",ﾊﾝﾏｰ投\")&+IF(女子!N55=\"\",\"\",\",槍投\")","v":""},null,null,null,null,{"$f":"+IF(混成の申込!G57=\"\",\"\",\"四種,\")&+IF(混成の申込!H57=\"\",\"\",\"五種,\")&+IF(混成の申込!I57=\"\",\"\",\"七種,\")&+IF(混成の申込!J57=\"\",\"\",\"十種\")","v":""},18,{"$f":"+IF((女子!U22+女子!P55)=\"\",\"\",(女子!U22+女子!P55))","v":0},{"$f":"+IF(混成の申込!L57=\"\",\"\",混成の申込!L57)","v":0},{"$f":"IF(はじめに出場選手の入力!$F$5=\"小学校\",200,300)*J93","v":0},0]
[{"$f":"IF(女子!C23=\"\",\"\",+女子!C23)","v":""},{"$f":"IF(女子!D23=\"\",\"\",+女子!D23)","v":""},{"$f":"+IF(女子!G23=\"\",\"\",\",100m\")&+IF(女子!H23=\"\",\"\",\",200m\")&+IF(女子!I23=\"\",\"\",\",400m\")&+IF(女子!J23=\"\",\"\",\",800m\")&+IF(女子!K23=\"\",\"\",\",1500m\")&+IF(女子!L23=\"\",\"\",\",3000m\")&+IF(女子!M23=\"\",\"\",\",       \")&+IF(女子!N23=\"\",\"\",\",100mH\")&+IF(女子!O23=\"\",\"\",\",400mH\")&+IF(女子!P23=\"\",\"\",\",3000mW\")&+IF(女子!Q23=\"\",\"\",\",5000mW\")&+IF(女子!R23=\"\",\"\",\",80mH\")&+IF(女子!S23=\"\",\"\",\",100mYH\")&+IF(女子!G56=\"\",\"\",\",走高跳\")&+IF(女子!H56=\"\",\"\",\",棒高跳\")&+IF(女子!I56=\"\",\"\",\",走幅跳\")&+IF(女子!J56=\"\",\"\",\",三段跳\")&+IF(女子!K56=\"\",\"\",\",砲丸投\")&+IF(女子!L56=\"\",\"\",\",円盤投\")&+IF(女子!M56=\"\",\"\",\",ﾊﾝﾏｰ投\")&+IF(女子!N56=\"\",\"\",\",槍投\")","v":""},null,null,null,null,{"$f":"+IF(混成の申込!G58=\"\",\"\",\"四種,\")&+IF(混成の申込!H58=\"\",\"\",\"五種,\")&+IF(混成の申込!I58=\"\",\"\",\"七種,\")&+IF(混成の申込!J58=\"\",\"\",\"十種\")","v":""},19,{"$f":"+IF((女子!U23+女子!P56)=\"\",\"\",(女子!U23+女子!P56))","v":0},{"$f":"+IF(混成の申込!L58=\"\",\"\",混成の申込!L58)","v":0},{"$f":"IF(はじめに出場選手の入力!$F$5=\"小学校\",200,300)*J94","v":0},0]
[{"$f":"IF(女子!C24=\"\",\"\",+女子!C24)","v":""},{"$f":"IF(女子!D24=\"\",\"\",+女子!D24)","v":""},{"$f":"+IF(女子!G24=\"\",\"\",\",100m\")&+IF(女子!H24=\"\",\"\",\",200m\")&+IF(女子!I24=\"\",\"\",\",400m\")&+IF(女子!J24=\"\",\"\",\",800m\")&+IF(女子!K24=\"\",\"\",\",1500m\")&+IF(女子!L24=\"\",\"\",\",3000m\")&+IF(女子!M24=\"\",\"\",\",       \")&+IF(女子!N24=\"\",\"\",\",100mH\")&+IF(女子!O24=\"\",\"\",\",400mH\")&+IF(女子!P24=\"\",\"\",\",3000mW\")&+IF(女子!Q24=\"\",\"\",\",5000mW\")&+IF(女子!R24=\"\",\"\",\",80mH\")&+IF(女子!S24=\"\",\"\",\",100mYH\")&+IF(女子!G57=\"\",\"\",\",走高跳\")&+IF(女子!H57=\"\",\"\",\",棒高跳\")&+IF(女子!I57=\"\",\"\",\",走幅跳\")&+IF(女子!J57=\"\",\"\",\",三段跳\")&+IF(女子!K57=\"\",\"\",\",砲丸投\")&+IF(女子!L57=\"\",\"\",\",円盤投\")&+IF(女子!M57=\"\",\"\",\",ﾊﾝﾏｰ投\")&+IF(女子!N57=\"\",\"\",\",槍投\")","v":""},null,null,null,null,{"$f":"+IF(混成の申込!G59=\"\",\"\",\"四種,\")&+IF(混成の申込!H59=\"\",\"\",\"五種,\")&+IF(混成の申込!I59=\"\",\"\",\"七種,\")&+IF(混成の申込!J59=\"\",\"\",\"十種\")","v":""},20,{"$f":"+IF((女子!U24+女子!P57)=\"\",\"\",(女子!U24+女子!P57))","v":0},{"$f":"+IF(混成の申込!L59=\"\",\"\",混成の申込!L59)","v":0},{"$f":"IF(はじめに出場選手の入力!$F$5=\"小学校\",200,300)*J95","v":0},0]
[{"$f":"IF(女子!C25=\"\",\"\",+女子!C25)","v":""},{"$f":"IF(女子!D25=\"\",\"\",+女子!D25)","v":""},{"$f":"+IF(女子!G25=\"\",\"\",\",100m\")&+IF(女子!H25=\"\",\"\",\",200m\")&+IF(女子!I25=\"\",\"\",\",400m\")&+IF(女子!J25=\"\",\"\",\",800m\")&+IF(女子!K25=\"\",\"\",\",1500m\")&+IF(女子!L25=\"\",\"\",\",3000m\")&+IF(女子!M25=\"\",\"\",\",       \")&+IF(女子!N25=\"\",\"\",\",100mH\")&+IF(女子!O25=\"\",\"\",\",400mH\")&+IF(女子!P25=\"\",\"\",\",3000mW\")&+IF(女子!Q25=\"\",\"\",\",5000mW\")&+IF(女子!R25=\"\",\"\",\",80mH\")&+IF(女子!S25=\"\",\"\",\",100mYH\")&+IF(女子!G58=\"\",\"\",\",走高跳\")&+IF(女子!H58=\"\",\"\",\",棒高跳\")&+IF(女子!I58=\"\",\"\",\",走幅跳\")&+IF(女子!J58=\"\",\"\",\",三段跳\")&+IF(女子!K58=\"\",\"\",\",砲丸投\")&+IF(女子!L58=\"\",\"\",\",円盤投\")&+IF(女子!M58=\"\",\"\",\",ﾊﾝﾏｰ投\")&+IF(女子!N58=\"\",\"\",\",槍投\")","v":""},null,null,null,null,{"$f":"+IF(混成の申込!G60=\"\",\"\",\"四種,\")&+IF(混成の申込!H60=\"\",\"\",\"五種,\")&+IF(混成の申込!I60=\"\",\"\",\"七種,\")&+IF(混成の申込!J60=\"\",\"\",\"十種\")","v":""},21,{"$f":"+IF((女子!U25+女子!P58)=\"\",\"\",(女子!U25+女子!P58))","v":0},{"$f":"+IF(混成の申込!L60=\"\",\"\",混成の申込!L60)","v":0},{"$f":"IF(はじめに出場選手の入力!$F$5=\"小学校\",200,300)*J96","v":0},0]
[{"$f":"IF(女子!C26=\"\",\"\",+女子!C26)","v":""},{"$f":"IF(女子!D26=\"\",\"\",+女子!D26)","v":""},{"$f":"+IF(女子!G26=\"\",\"\",\",100m\")&+IF(女子!H26=\"\",\"\",\",200m\")&+IF(女子!I26=\"\",\"\",\",400m\")&+IF(女子!J26=\"\",\"\",\",800m\")&+IF(女子!K26=\"\",\"\",\",1500m\")&+IF(女子!L26=\"\",\"\",\",3000m\")&+IF(女子!M26=\"\",\"\",\",       \")&+IF(女子!N26=\"\",\"\",\",100mH\")&+IF(女子!O26=\"\",\"\",\",400mH\")&+IF(女子!P26=\"\",\"\",\",3000mW\")&+IF(女子!Q26=\"\",\"\",\",5000mW\")&+IF(女子!R26=\"\",\"\",\",80mH\")&+IF(女子!S26=\"\",\"\",\",100mYH\")&+IF(女子!G59=\"\",\"\",\",走高跳\")&+IF(女子!H59=\"\",\"\",\",棒高跳\")&+IF(女子!I59=\"\",\"\",\",走幅跳\")&+IF(女子!J59=\"\",\"\",\",三段跳\")&+IF(女子!K59=\"\",\"\",\",砲丸投\")&+IF(女子!L59=\"\",\"\",\",円盤投\")&+IF(女子!M59=\"\",\"\",\",ﾊﾝﾏｰ投\")&+IF(女子!N59=\"\",\"\",\",槍投\")","v":""},null,null,null,null,{"$f":"+IF(混成の申込!G61=\"\",\"\",\"四種,\")&+IF(混成の申込!H61=\"\",\"\",\"五種,\")&+IF(混成の申込!I61=\"\",\"\",\"七種,\")&+IF(混成の申込!J61=\"\",\"\",\"十種\")","v":""},22,{"$f":"+IF((女子!U26+女子!P59)=\"\",\"\",(女子!U26+女子!P59))","v":0},{"$f":"+IF(混成の申込!L61=\"\",\"\",混成の申込!L61)","v":0},{"$f":"IF(はじめに出場選手の入力!$F$5=\"小学校\",200,300)*J97","v":0},0]
[{"$f":"IF(女子!C27=\"\",\"\",+女子!C27)","v":""},{"$f":"IF(女子!D27=\"\",\"\",+女子!D27)","v":""},{"$f":"+IF(女子!G27=\"\",\"\",\",100m\")&+IF(女子!H27=\"\",\"\",\",200m\")&+IF(女子!I27=\"\",\"\",\",400m\")&+IF(女子!J27=\"\",\"\",\",800m\")&+IF(女子!K27=\"\",\"\",\",1500m\")&+IF(女子!L27=\"\",\"\",\",3000m\")&+IF(女子!M27=\"\",\"\",\",       \")&+IF(女子!N27=\"\",\"\",\",100mH\")&+IF(女子!O27=\"\",\"\",\",400mH\")&+IF(女子!P27=\"\",\"\",\",3000mW\")&+IF(女子!Q27=\"\",\"\",\",5000mW\")&+IF(女子!R27=\"\",\"\",\",80mH\")&+IF(女子!S27=\"\",\"\",\",100mYH\")&+IF(女子!G60=\"\",\"\",\",走高跳\")&+IF(女子!H60=\"\",\"\",\",棒高跳\")&+IF(女子!I60=\"\",\"\",\",走幅跳\")&+IF(女子!J60=\"\",\"\",\",三段跳\")&+IF(女子!K60=\"\",\"\",\",砲丸投\")&+IF(女子!L60=\"\",\"\",\",円盤投\")&+IF(女子!M60=\"\",\"\",\",ﾊﾝﾏｰ投\")&+IF(女子!N60=\"\",\"\",\",槍投\")","v":""},null,null,null,null,{"$f":"+IF(混成の申込!G62=\"\",\"\",\"四種,\")&+IF(混成の申込!H62=\"\",\"\",\"五種,\")&+IF(混成の申込!I62=\"\",\"\",\"七種,\")&+IF(混成の申込!J62=\"\",\"\",\"十種\")","v":""},23,{"$f":"+IF((女子!U27+女子!P60)=\"\",\"\",(女子!U27+女子!P60))","v":0},{"$f":"+IF(混成の申込!L62=\"\",\"\",混成の申込!L62)","v":0},{"$f":"IF(はじめに出場選手の入力!$F$5=\"小学校\",200,300)*J98","v":0},0]
[{"$f":"IF(女子!C28=\"\",\"\",+女子!C28)","v":""},{"$f":"IF(女子!D28=\"\",\"\",+女子!D28)","v":""},{"$f":"+IF(女子!G28=\"\",\"\",\",100m\")&+IF(女子!H28=\"\",\"\",\",200m\")&+IF(女子!I28=\"\",\"\",\",400m\")&+IF(女子!J28=\"\",\"\",\",800m\")&+IF(女子!K28=\"\",\"\",\",1500m\")&+IF(女子!L28=\"\",\"\",\",3000m\")&+IF(女子!M28=\"\",\"\",\",       \")&+IF(女子!N28=\"\",\"\",\",100mH\")&+IF(女子!O28=\"\",\"\",\",400mH\")&+IF(女子!P28=\"\",\"\",\",3000mW\")&+IF(女子!Q28=\"\",\"\",\",5000mW\")&+IF(女子!R28=\"\",\"\",\",80mH\")&+IF(女子!S28=\"\",\"\",\",100mYH\")&+IF(女子!G61=\"\",\"\",\",走高跳\")&+IF(女子!H61=\"\",\"\",\",棒高跳\")&+IF(女子!I61=\"\",\"\",\",走幅跳\")&+IF(女子!J61=\"\",\"\",\",三段跳\")&+IF(女子!K61=\"\",\"\",\",砲丸投\")&+IF(女子!L61=\"\",\"\",\",円盤投\")&+IF(女子!M61=\"\",\"\",\",ﾊﾝﾏｰ投\")&+IF(女子!N61=\"\",\"\",\",槍投\")","v":""},null,null,null,null,{"$f":"+IF(混成の申込!G63=\"\",\"\",\"四種,\")&+IF(混成の申込!H63=\"\",\"\",\"五種,\")&+IF(混成の申込!I63=\"\",\"\",\"七種,\")&+IF(混成の申込!J63=\"\",\"\",\"十種\")","v":""},24,{"$f":"+IF((女子!U28+女子!P61)=\"\",\"\",(女子!U28+女子!P61))","v":0},{"$f":"+IF(混成の申込!L63=\"\",\"\",混成の申込!L63)","v":0},{"$f":"IF(はじめに出場選手の入力!$F$5=\"小学校\",200,300)*J99","v":0},0]
[{"$f":"IF(女子!C29=\"\",\"\",+女子!C29)","v":""},{"$f":"IF(女子!D29=\"\",\"\",+女子!D29)","v":""},{"$f":"+IF(女子!G29=\"\",\"\",\",100m\")&+IF(女子!H29=\"\",\"\",\",200m\")&+IF(女子!I29=\"\",\"\",\",400m\")&+IF(女子!J29=\"\",\"\",\",800m\")&+IF(女子!K29=\"\",\"\",\",1500m\")&+IF(女子!L29=\"\",\"\",\",3000m\")&+IF(女子!M29=\"\",\"\",\",       \")&+IF(女子!N29=\"\",\"\",\",100mH\")&+IF(女子!O29=\"\",\"\",\",400mH\")&+IF(女子!P29=\"\",\"\",\",3000mW\")&+IF(女子!Q29=\"\",\"\",\",5000mW\")&+IF(女子!R29=\"\",\"\",\",80mH\")&+IF(女子!S29=\"\",\"\",\",100mYH\")&+IF(女子!G62=\"\",\"\",\",走高跳\")&+IF(女子!H62=\"\",\"\",\",棒高跳\")&+IF(女子!I62=\"\",\"\",\",走幅跳\")&+IF(女子!J62=\"\",\"\",\",三段跳\")&+IF(女子!K62=\"\",\"\",\",砲丸投\")&+IF(女子!L62=\"\",\"\",\",円盤投\")&+IF(女子!M62=\"\",\"\",\",ﾊﾝﾏｰ投\")&+IF(女子!N62=\"\",\"\",\",槍投\")","v":""},null,null,null,null,{"$f":"+IF(混成の申込!G64=\"\",\"\",\"四種,\")&+IF(混成の申込!H64=\"\",\"\",\"五種,\")&+IF(混成の申込!I64=\"\",\"\",\"七種,\")&+IF(混成の申込!J64=\"\",\"\",\"十種\")","v":""},25,{"$f":"+IF((女子!U29+女子!P62)=\"\",\"\",(女子!U29+女子!P62))","v":0},{"$f":"+IF(混成の申込!L64=\"\",\"\",混成の申込!L64)","v":0},{"$f":"IF(はじめに出場選手の入力!$F$5=\"小学校\",200,300)*J100","v":0},0]
[{"$f":"IF(女子!C30=\"\",\"\",+女子!C30)","v":""},{"$f":"IF(女子!D30=\"\",\"\",+女子!D30)","v":""},{"$f":"+IF(女子!G30=\"\",\"\",\",100m\")&+IF(女子!H30=\"\",\"\",\",200m\")&+IF(女子!I30=\"\",\"\",\",400m\")&+IF(女子!J30=\"\",\"\",\",800m\")&+IF(女子!K30=\"\",\"\",\",1500m\")&+IF(女子!L30=\"\",\"\",\",3000m\")&+IF(女子!M30=\"\",\"\",\",       \")&+IF(女子!N30=\"\",\"\",\",100mH\")&+IF(女子!O30=\"\",\"\",\",400mH\")&+IF(女子!P30=\"\",\"\",\",3000mW\")&+IF(女子!Q30=\"\",\"\",\",5000mW\")&+IF(女子!R30=\"\",\"\",\",80mH\")&+IF(女子!S30=\"\",\"\",\",100mYH\")&+IF(女子!G63=\"\",\"\",\",走高跳\")&+IF(女子!H63=\"\",\"\",\",棒高跳\")&+IF(女子!I63=\"\",\"\",\",走幅跳\")&+IF(女子!J63=\"\",\"\",\",三段跳\")&+IF(女子!K63=\"\",\"\",\",砲丸投\")&+IF(女子!L63=\"\",\"\",\",円盤投\")&+IF(女子!M63=\"\",\"\",\",ﾊﾝﾏｰ投\")&+IF(女子!N63=\"\",\"\",\",槍投\")","v":""},null,null,null,null,{"$f":"+IF(混成の申込!G65=\"\",\"\",\"四種,\")&+IF(混成の申込!H65=\"\",\"\",\"五種,\")&+IF(混成の申込!I65=\"\",\"\",\"七種,\")&+IF(混成の申込!J65=\"\",\"\",\"十種\")","v":""},26,{"$f":"+IF((女子!U30+女子!P63)=\"\",\"\",(女子!U30+女子!P63))","v":0},{"$f":"+IF(混成の申込!L65=\"\",\"\",混成の申込!L65)","v":0},{"$f":"IF(はじめに出場選手の入力!$F$5=\"小学校\",200,300)*J101","v":0},0]
[{"$f":"IF(女子!C31=\"\",\"\",+女子!C31)","v":""},{"$f":"IF(女子!D31=\"\",\"\",+女子!D31)","v":""},{"$f":"+IF(女子!G31=\"\",\"\",\",100m\")&+IF(女子!H31=\"\",\"\",\",200m\")&+IF(女子!I31=\"\",\"\",\",400m\")&+IF(女子!J31=\"\",\"\",\",800m\")&+IF(女子!K31=\"\",\"\",\",1500m\")&+IF(女子!L31=\"\",\"\",\",3000m\")&+IF(女子!M31=\"\",\"\",\",       \")&+IF(女子!N31=\"\",\"\",\",100mH\")&+IF(女子!O31=\"\",\"\",\",400mH\")&+IF(女子!P31=\"\",\"\",\",3000mW\")&+IF(女子!Q31=\"\",\"\",\",5000mW\")&+IF(女子!R31=\"\",\"\",\",80mH\")&+IF(女子!S31=\"\",\"\",\",100mYH\")&+IF(女子!G64=\"\",\"\",\",走高跳\")&+IF(女子!H64=\"\",\"\",\",棒高跳\")&+IF(女子!I64=\"\",\"\",\",走幅跳\")&+IF(女子!J64=\"\",\"\",\",三段跳\")&+IF(女子!K64=\"\",\"\",\",砲丸投\")&+IF(女子!L64=\"\",\"\",\",円盤投\")&+IF(女子!M64=\"\",\"\",\",ﾊﾝﾏｰ投\")&+IF(女子!N64=\"\",\"\",\",槍投\")","v":""},null,null,null,null,{"$f":"+IF(混成の申込!G66=\"\",\"\",\"四種,\")&+IF(混成の申込!H66=\"\",\"\",\"五種,\")&+IF(混成の申込!I66=\"\",\"\",\"七種,\")&+IF(混成の申込!J66=\"\",\"\",\"十種\")","v":""},27,{"$f":"+IF((女子!U31+女子!P64)=\"\",\"\",(女子!U31+女子!P64))","v":0},{"$f":"+IF(混成の申込!L66=\"\",\"\",混成の申込!L66)","v":0},{"$f":"IF(はじめに出場選手の入力!$F$5=\"小学校\",200,300)*J102","v":0},0]
[{"$f":"IF(女子!C32=\"\",\"\",+女子!C32)","v":""},{"$f":"IF(女子!D32=\"\",\"\",+女子!D32)","v":""},{"$f":"+IF(女子!G32=\"\",\"\",\",100m\")&+IF(女子!H32=\"\",\"\",\",200m\")&+IF(女子!I32=\"\",\"\",\",400m\")&+IF(女子!J32=\"\",\"\",\",800m\")&+IF(女子!K32=\"\",\"\",\",1500m\")&+IF(女子!L32=\"\",\"\",\",3000m\")&+IF(女子!M32=\"\",\"\",\",       \")&+IF(女子!N32=\"\",\"\",\",100mH\")&+IF(女子!O32=\"\",\"\",\",400mH\")&+IF(女子!P32=\"\",\"\",\",3000mW\")&+IF(女子!Q32=\"\",\"\",\",5000mW\")&+IF(女子!R32=\"\",\"\",\",80mH\")&+IF(女子!S32=\"\",\"\",\",100mYH\")&+IF(女子!G65=\"\",\"\",\",走高跳\")&+IF(女子!H65=\"\",\"\",\",棒高跳\")&+IF(女子!I65=\"\",\"\",\",走幅跳\")&+IF(女子!J65=\"\",\"\",\",三段跳\")&+IF(女子!K65=\"\",\"\",\",砲丸投\")&+IF(女子!L65=\"\",\"\",\",円盤投\")&+IF(女子!M65=\"\",\"\",\",ﾊﾝﾏｰ投\")&+IF(女子!N65=\"\",\"\",\",槍投\")","v":""},null,null,null,null,{"$f":"+IF(混成の申込!G67=\"\",\"\",\"四種,\")&+IF(混成の申込!H67=\"\",\"\",\"五種,\")&+IF(混成の申込!I67=\"\",\"\",\"七種,\")&+IF(混成の申込!J67=\"\",\"\",\"十種\")","v":""},28,{"$f":"+IF((女子!U32+女子!P65)=\"\",\"\",(女子!U32+女子!P65))","v":0},{"$f":"+IF(混成の申込!L67=\"\",\"\",混成の申込!L67)","v":0},{"$f":"IF(はじめに出場選手の入力!$F$5=\"小学校\",200,300)*J103","v":0},0]
[{"$f":"IF(女子!C33=\"\",\"\",+女子!C33)","v":""},{"$f":"IF(女子!D33=\"\",\"\",+女子!D33)","v":""},{"$f":"+IF(女子!G33=\"\",\"\",\",100m\")&+IF(女子!H33=\"\",\"\",\",200m\")&+IF(女子!I33=\"\",\"\",\",400m\")&+IF(女子!J33=\"\",\"\",\",800m\")&+IF(女子!K33=\"\",\"\",\",1500m\")&+IF(女子!L33=\"\",\"\",\",3000m\")&+IF(女子!M33=\"\",\"\",\",       \")&+IF(女子!N33=\"\",\"\",\",100mH\")&+IF(女子!O33=\"\",\"\",\",400mH\")&+IF(女子!P33=\"\",\"\",\",3000mW\")&+IF(女子!Q33=\"\",\"\",\",5000mW\")&+IF(女子!R33=\"\",\"\",\",80mH\")&+IF(女子!S33=\"\",\"\",\",100mYH\")&+IF(女子!G66=\"\",\"\",\",走高跳\")&+IF(女子!H66=\"\",\"\",\",棒高跳\")&+IF(女子!I66=\"\",\"\",\",走幅跳\")&+IF(女子!J66=\"\",\"\",\",三段跳\")&+IF(女子!K66=\"\",\"\",\",砲丸投\")&+IF(女子!L66=\"\",\"\",\",円盤投\")&+IF(女子!M66=\"\",\"\",\",ﾊﾝﾏｰ投\")&+IF(女子!N66=\"\",\"\",\",槍投\")","v":""},null,null,null,null,{"$f":"+IF(混成の申込!G68=\"\",\"\",\"四種,\")&+IF(混成の申込!H68=\"\",\"\",\"五種,\")&+IF(混成の申込!I68=\"\",\"\",\"七種,\")&+IF(混成の申込!J68=\"\",\"\",\"十種\")","v":""},29,{"$f":"+IF((女子!U33+女子!P66)=\"\",\"\",(女子!U33+女子!P66))","v":0},{"$f":"+IF(混成の申込!L68=\"\",\"\",混成の申込!L68)","v":0},{"$f":"IF(はじめに出場選手の入力!$F$5=\"小学校\",200,300)*J104","v":0},0]
[{"$f":"IF(女子!C34=\"\",\"\",+女子!C34)","v":""},{"$f":"IF(女子!D34=\"\",\"\",+女子!D34)","v":""},{"$f":"+IF(女子!G34=\"\",\"\",\",100m\")&+IF(女子!H34=\"\",\"\",\",200m\")&+IF(女子!I34=\"\",\"\",\",400m\")&+IF(女子!J34=\"\",\"\",\",800m\")&+IF(女子!K34=\"\",\"\",\",1500m\")&+IF(女子!L34=\"\",\"\",\",3000m\")&+IF(女子!M34=\"\",\"\",\",       \")&+IF(女子!N34=\"\",\"\",\",100mH\")&+IF(女子!O34=\"\",\"\",\",400mH\")&+IF(女子!P34=\"\",\"\",\",3000mW\")&+IF(女子!Q34=\"\",\"\",\",5000mW\")&+IF(女子!R34=\"\",\"\",\",80mH\")&+IF(女子!S34=\"\",\"\",\",100mYH\")&+IF(女子!G67=\"\",\"\",\",走高跳\")&+IF(女子!H67=\"\",\"\",\",棒高跳\")&+IF(女子!I67=\"\",\"\",\",走幅跳\")&+IF(女子!J67=\"\",\"\",\",三段跳\")&+IF(女子!K67=\"\",\"\",\",砲丸投\")&+IF(女子!L67=\"\",\"\",\",円盤投\")&+IF(女子!M67=\"\",\"\",\",ﾊﾝﾏｰ投\")&+IF(女子!N67=\"\",\"\",\",槍投\")","v":""},null,null,null,null,{"$f":"+IF(混成の申込!G69=\"\",\"\",\"四種,\")&+IF(混成の申込!H69=\"\",\"\",\"五種,\")&+IF(混成の申込!I69=\"\",\"\",\"七種,\")&+IF(混成の申込!J69=\"\",\"\",\"十種\")","v":""},30,{"$f":"+IF((女子!U34+女子!P67)=\"\",\"\",(女子!U34+女子!P67))","v":0},{"$f":"+IF(混成の申込!L69=\"\",\"\",混成の申込!L69)","v":0},{"$f":"IF(はじめに出場選手の入力!$F$5=\"小学校\",200,300)*J105","v":0},0]
[null,null,null,null,null,null,null,null,null,{"$f":"SUM(J76:J105)","v":0},{"$f":"SUM(K76:K105)","v":0},{"$f":"SUM(L76:L105)","v":0},{"$f":"SUM(M76:M105)","v":0}]
[null,null,null,null,null,null,null,null,null,"女子リレー\n種目\nエントリー数",{"$f":"+IF(男女リレー!Z19=\"\",\"\",男女リレー!Z19)","v":0},{"$f":"IF(OR(はじめに出場選手の入力!$F$5=\"中学校\",はじめに出場選手の入力!$F$5=\"小学校\"),200,300)*K107","v":0},{"$f":"+L106+M106+L107","v":0}]
[null,null,null,null,null,null,null,null,null,"男子・女子合計金額",null,null,{"$f":"+M73+M107","v":0}]
[null,"記録会用（一般・大学・小学生）領収書"]
[]
[null,null,null,null,null,"領　収　書",null,null,null,null,null,null,null,"領収書のプリントアウトは不要です。"]
[]
[null,null,{"$f":"E4","v":""},null,null,null,null,"様"]
[]
[null,null,null,null,null,"金額　￥",null,{"$f":"I21","v":0},null,"　．－"]
[]
[null,null,null,null,{"$f":"+\"但し平成\"&はじめに出場選手の入力!I1&\"年度　第\"&はじめに出場選手の入力!B1&はじめに出場選手の入力!X1&\"参加料として\"","v":"但し平成30年度　第7回七尾城山記録会参加料として"}]
[]
[null,null,null,null,"上記金額を領収しました。"]
[null,null,null,null,null,null,null,{"$f":"+J3","v":"平成30年"},{"$f":"K3","v":"2018-11-10"}]
[null,null,null,null,null,null,null,"七尾市陸上競技競技協会"]
[null,null,null,null,null,null,null,"会長　大　岩　為　一"]

{"sheet":"混成の申込","index":5,"n_rows":69,"n_cols":21,"rows_kept":69,"cut":false,"hidden":false,"merged":[[35,16,35,18],[0,2,1,2],[35,2,36,2],[37,6,37,9],[35,13,35,15]]}
[null,null,"男子","※自己記録(得点)または　「なし」　を入力しないとエントリーできません。"]
[]
[null,null,null,null,null,null,null,null,null,null,null,null,null,"試技順作成の資料としますので、できるだけベスト記録等を記入してください。"]
["no.","県名","ﾅﾝﾊﾞｰ","選　手　名","所属","学年","四種","五種","八種","十種",null,"混成のエントリー数",null,"100m","走幅跳","砲丸投","400m","110mH","やり投","走高跳","1500m"]
[1,null,{"$f":"IF(はじめに出場選手の入力!C15=\"\",\"\",はじめに出場選手の入力!C15)","v":""},{"$f":"IF(はじめに出場選手の入力!D15=\"\",\"\",はじめに出場選手の入力!D15)","v":""},{"$f":"IF(はじめに出場選手の入力!E15=\"\",\"\",はじめに出場選手の入力!E15)","v":""},{"$f":"IF(はじめに出場選手の入力!F15=\"\",\"\",はじめに出場選手の入力!F15)","v":""},null,null,null,null,null,{"$f":"COUNTA(G5:J5)","v":0}]
[2,null,{"$f":"IF(はじめに出場選手の入力!C16=\"\",\"\",はじめに出場選手の入力!C16)","v":""},{"$f":"IF(はじめに出場選手の入力!D16=\"\",\"\",はじめに出場選手の入力!D16)","v":""},{"$f":"IF(はじめに出場選手の入力!E16=\"\",\"\",はじめに出場選手の入力!E16)","v":""},{"$f":"IF(はじめに出場選手の入力!F16=\"\",\"\",はじめに出場選手の入力!F16)","v":""},null,null,null,null,null,{"$f":"COUNTA(G6:J6)","v":0}]
[3,null,{"$f":"IF(はじめに出場選手の入力!C17=\"\",\"\",はじめに出場選手の入力!C17)","v":""},{"$f":"IF(はじめに出場選手の入力!D17=\"\",\"\",はじめに出場選手の入力!D17)","v":""},{"$f":"IF(はじめに出場選手の入力!E17=\"\",\"\",はじめに出場選手の入力!E17)","v":""},{"$f":"IF(はじめに出場選手の入力!F17=\"\",\"\",はじめに出場選手の入力!F17)","v":""},null,null,null,null,null,0]
[4,null,{"$f":"IF(はじめに出場選手の入力!C18=\"\",\"\",はじめに出場選手の入力!C18)","v":""},{"$f":"IF(はじめに出場選手の入力!D18=\"\",\"\",はじめに出場選手の入力!D18)","v":""},{"$f":"IF(はじめに出場選手の入力!E18=\"\",\"\",はじめに出場選手の入力!E18)","v":""},{"$f":"IF(はじめに出場選手の入力!F18=\"\",\"\",はじめに出場選手の入力!F18)","v":""},null,null,null,null,null,0]
[5,null,{"$f":"IF(はじめに出場選手の入力!C19=\"\",\"\",はじめに出場選手の入力!C19)","v":""},{"$f":"IF(はじめに出場選手の入力!D19=\"\",\"\",はじめに出場選手の入力!D19)","v":""},{"$f":"IF(はじめに出場選手の入力!E19=\"\",\"\",はじめに出場選手の入力!E19)","v":""},{"$f":"IF(はじめに出場選手の入力!F19=\"\",\"\",はじめに出場選手の入力!F19)","v":""},null,null,null,null,null,0]
[6,null,{"$f":"IF(はじめに出場選手の入力!C20=\"\",\"\",はじめに出場選手の入力!C20)","v":""},{"$f":"IF(はじめに出場選手の入力!D20=\"\",\"\",はじめに出場選手の入力!D20)","v":""},{"$f":"IF(はじめに出場選手の入力!E20=\"\",\"\",はじめに出場選手の入力!E20)","v":""},{"$f":"IF(はじめに出場選手の入力!F20=\"\",\"\",はじめに出場選手の入力!F20)","v":""},null,null,null,null,null,0]
[7,null,{"$f":"IF(はじめに出場選手の入力!C21=\"\",\"\",はじめに出場選手の入力!C21)","v":""},{"$f":"IF(はじめに出場選手の入力!D21=\"\",\"\",はじめに出場選手の入力!D21)","v":""},{"$f":"IF(はじめに出場選手の入力!E21=\"\",\"\",はじめに出場選手の入力!E21)","v":""},{"$f":"IF(はじめに出場選手の入力!F21=\"\",\"\",はじめに出場選手の入力!F21)","v":""},null,null,null,null,null,0]
[8,null,{"$f":"IF(はじめに出場選手の入力!C22=\"\",\"\",はじめに出場選手の入力!C22)","v":""},{"$f":"IF(はじめに出場選手の入力!D22=\"\",\"\",はじめに出場選手の入力!D22)","v":""},{"$f":"IF(はじめに出場選手の入力!E22=\"\",\"\",はじめに出場選手の入力!E22)","v":""},{"$f":"IF(はじめに出場選手の入力!F22=\"\",\"\",はじめに出場選手の入力!F22)","v":""},null,null,null,null,null,0]
[9,null,{"$f":"IF(はじめに出場選手の入力!C23=\"\",\"\",はじめに出場選手の入力!C23)","v":""},{"$f":"IF(はじめに出場選手の入力!D23=\"\",\"\",はじめに出場選手の入力!D23)","v":""},{"$f":"IF(はじめに出場選手の入力!E23=\"\",\"\",はじめに出場選手の入力!E23)","v":""},{"$f":"IF(はじめに出場選手の入力!F23=\"\",\"\",はじめに出場選手の入力!F23)","v":""},null,null,null,null,null,0]
[10,null,{"$f":"IF(はじめに出場選手の入力!C24=\"\",\"\",はじめに出場選手の入力!C24)","v":""},{"$f":"IF(はじめに出場選手の入力!D24=\"\",\"\",はじめに出場選手の入力!D24)","v":""},{"$f":"IF(はじめに出場選手の入力!E24=\"\",\"\",はじめに出場選手の入力!E24)","v":""},{"$f":"IF(はじめに出場選手の入力!F24=\"\",\"\",はじめに出場選手の入力!F24)","v":""},null,null,null,null,null,0]
[11,null,{"$f":"IF(はじめに出場選手の入力!C25=\"\",\"\",はじめに出場選手の入力!C25)","v":""},{"$f":"IF(はじめに出場選手の入力!D25=\"\",\"\",はじめに出場選手の入力!D25)","v":""},{"$f":"IF(はじめに出場選手の入力!E25=\"\",\"\",はじめに出場選手の入力!E25)","v":""},{"$f":"IF(はじめに出場選手の入力!F25=\"\",\"\",はじめに出場選手の入力!F25)","v":""},null,null,null,null,null,0]
[12,null,{"$f":"IF(はじめに出場選手の入力!C26=\"\",\"\",はじめに出場選手の入力!C26)","v":""},{"$f":"IF(はじめに出場選手の入力!D26=\"\",\"\",はじめに出場選手の入力!D26)","v":""},{"$f":"IF(はじめに出場選手の入力!E26=\"\",\"\",はじめに出場選手の入力!E26)","v":""},{"$f":"IF(はじめに出場選手の入力!F26=\"\",\"\",はじめに出場選手の入力!F26)","v":""},null,null,null,null,null,0]
[13,null,{"$f":"IF(はじめに出場選手の入力!C27=\"\",\"\",はじめに出場選手の入力!C27)","v":""},{"$f":"IF(はじめに出場選手の入力!D27=\"\",\"\",はじめに出場選手の入力!D27)","v":""},{"$f":"IF(はじめに出場選手の入力!E27=\"\",\"\",はじめに出場選手の入力!E27)","v":""},{"$f":"IF(はじめに出場選手の入力!F27=\"\",\"\",はじめに出場選手の入力!F27)","v":""},null,null,null,null,null,0]
[14,null,{"$f":"IF(はじめに出場選手の入力!C28=\"\",\"\",はじめに出場選手の入力!C28)","v":""},{"$f":"IF(はじめに出場選手の入力!D28=\"\",\"\",はじめに出場選手の入力!D28)","v":""},{"$f":"IF(はじめに出場選手の入力!E28=\"\",\"\",はじめに出場選手の入力!E28)","v":""},{"$f":"IF(はじめに出場選手の入力!F28=\"\",\"\",はじめに出場選手の入力!F28)","v":""},null,null,null,null,null,0]
[15,null,{"$f":"IF(はじめに出場選手の入力!C29=\"\",\"\",はじめに出場選手の入力!C29)","v":""},{"$f":"IF(はじめに出場選手の入力!D29=\"\",\"\",はじめに出場選手の入力!D29)","v":""},{"$f":"IF(はじめに出場選手の入力!E29=\"\",\"\",はじめに出場選手の入力!E29)","v":""},{"$f":"IF(はじめに出場選手の入力!F29=\"\",\"\",はじめに出場選手の入力!F29)","v":""},null,null,null,null,null,0]
[16,null,{"$f":"IF(はじめに出場選手の入力!C30=\"\",\"\",はじめに出場選手の入力!C30)","v":""},{"$f":"IF(はじめに出場選手の入力!D30=\"\",\"\",はじめに出場選手の入力!D30)","v":""},{"$f":"IF(はじめに出場選手の入力!E30=\"\",\"\",はじめに出場選手の入力!E30)","v":""},{"$f":"IF(はじめに出場選手の入力!F30=\"\",\"\",はじめに出場選手の入力!F30)","v":""},null,null,null,null,null,0]
[17,null,{"$f":"IF(はじめに出場選手の入力!C31=\"\",\"\",はじめに出場選手の入力!C31)","v":""},{"$f":"IF(はじめに出場選手の入力!D31=\"\",\"\",はじめに出場選手の入力!D31)","v":""},{"$f":"IF(はじめに出場選手の入力!E31=\"\",\"\",はじめに出場選手の入力!E31)","v":""},{"$f":"IF(はじめに出場選手の入力!F31=\"\",\"\",はじめに出場選手の入力!F31)","v":""},null,null,null,null,null,0]
[18,null,{"$f":"IF(はじめに出場選手の入力!C32=\"\",\"\",はじめに出場選手の入力!C32)","v":""},{"$f":"IF(はじめに出場選手の入力!D32=\"\",\"\",はじめに出場選手の入力!D32)","v":""},{"$f":"IF(はじめに出場選手の入力!E32=\"\",\"\",はじめに出場選手の入力!E32)","v":""},{"$f":"IF(はじめに出場選手の入力!F32=\"\",\"\",はじめに出場選手の入力!F32)","v":""},null,null,null,null,null,0]
[19,null,{"$f":"IF(はじめに出場選手の入力!C33=\"\",\"\",はじめに出場選手の入力!C33)","v":""},{"$f":"IF(はじめに出場選手の入力!D33=\"\",\"\",はじめに出場選手の入力!D33)","v":""},{"$f":"IF(はじめに出場選手の入力!E33=\"\",\"\",はじめに出場選手の入力!E33)","v":""},{"$f":"IF(はじめに出場選手の入力!F33=\"\",\"\",はじめに出場選手の入力!F33)","v":""},null,null,null,null,null,0]
[20,null,{"$f":"IF(はじめに出場選手の入力!C34=\"\",\"\",はじめに出場選手の入力!C34)","v":""},{"$f":"IF(はじめに出場選手の入力!D34=\"\",\"\",はじめに出場選手の入力!D34)","v":""},{"$f":"IF(はじめに出場選手の入力!E34=\"\",\"\",はじめに出場選手の入力!E34)","v":""},{"$f":"IF(はじめに出場選手の入力!F34=\"\",\"\",はじめに出場選手の入力!F34)","v":""},null,null,null,null,null,0]
[21,null,{"$f":"IF(はじめに出場選手の入力!C35=\"\",\"\",はじめに出場選手の入力!C35)","v":""},{"$f":"IF(はじめに出場選手の入力!D35=\"\",\"\",はじめに出場選手の入力!D35)","v":""},{"$f":"IF(はじめに出場選手の入力!E35=\"\",\"\",はじめに出場選手の入力!E35)","v":""},{"$f":"IF(はじめに出場選手の入力!F35=\"\",\"\",はじめに出場選手の入力!F35)","v":""},null,null,null,null,null,0]
[22,null,{"$f":"IF(はじめに出場選手の入力!C36=\"\",\"\",はじめに出場選手の入力!C36)","v":""},{"$f":"IF(はじめに出場選手の入力!D36=\"\",\"\",はじめに出場選手の入力!D36)","v":""},{"$f":"IF(はじめに出場選手の入力!E36=\"\",\"\",はじめに出場選手の入力!E36)","v":""},{"$f":"IF(はじめに出場選手の入力!F36=\"\",\"\",はじめに出場選手の入力!F36)","v":""},null,null,null,null,null,0]
[23,null,{"$f":"IF(はじめに出場選手の入力!C37=\"\",\"\",はじめに出場選手の入力!C37)","v":""},{"$f":"IF(はじめに出場選手の入力!D37=\"\",\"\",はじめに出場選手の入力!D37)","v":""},{"$f":"IF(はじめに出場選手の入力!E37=\"\",\"\",はじめに出場選手の入力!E37)","v":""},{"$f":"IF(はじめに出場選手の入力!F37=\"\",\"\",はじめに出場選手の入力!F37)","v":""},null,null,null,null,null,0]
[24,null,{"$f":"IF(はじめに出場選手の入力!C38=\"\",\"\",はじめに出場選手の入力!C38)","v":""},{"$f":"IF(はじめに出場選手の入力!D38=\"\",\"\",はじめに出場選手の入力!D38)","v":""},{"$f":"IF(はじめに出場選手の入力!E38=\"\",\"\",はじめに出場選手の入力!E38)","v":""},{"$f":"IF(はじめに出場選手の入力!F38=\"\",\"\",はじめに出場選手の入力!F38)","v":""},null,null,null,null,null,0]
[25,null,{"$f":"IF(はじめに出場選手の入力!C39=\"\",\"\",はじめに出場選手の入力!C39)","v":""},{"$f":"IF(はじめに出場選手の入力!D39=\"\",\"\",はじめに出場選手の入力!D39)","v":""},{"$f":"IF(はじめに出場選手の入力!E39=\"\",\"\",はじめに出場選手の入力!E39)","v":""},{"$f":"IF(はじめに出場選手の入力!F39=\"\",\"\",はじめに出場選手の入力!F39)","v":""},null,null,null,null,null,0]
[null,null,{"$f":"IF(はじめに出場選手の入力!C40=\"\",\"\",はじめに出場選手の入力!C40)","v":""},{"$f":"IF(はじめに出場選手の入力!D40=\"\",\"\",はじめに出場選手の入力!D40)","v":""},{"$f":"IF(はじめに出場選手の入力!E40=\"\",\"\",はじめに出場選手の入力!E40)","v":""},{"$f":"IF(はじめに出場選手の入力!F40=\"\",\"\",はじめに出場選手の入力!F40)","v":""},null,null,null,null,null,0]
[null,null,{"$f":"IF(はじめに出場選手の入力!C41=\"\",\"\",はじめに出場選手の入力!C41)","v":""},{"$f":"IF(はじめに出場選手の入力!D41=\"\",\"\",はじめに出場選手の入力!D41)","v":""},{"$f":"IF(はじめに出場選手の入力!E41=\"\",\"\",はじめに出場選手の入力!E41)","v":""},{"$f":"IF(はじめに出場選手の入力!F41=\"\",\"\",はじめに出場選手の入力!F41)","v":""},null,null,null,null,null,0]
[null,null,{"$f":"IF(はじめに出場選手の入力!C42=\"\",\"\",はじめに出場選手の入力!C42)","v":""},{"$f":"IF(はじめに出場選手の入力!D42=\"\",\"\",はじめに出場選手の入力!D42)","v":""},{"$f":"IF(はじめに出場選手の入力!E42=\"\",\"\",はじめに出場選手の入力!E42)","v":""},{"$f":"IF(はじめに出場選手の入力!F42=\"\",\"\",はじめに出場選手の入力!F42)","v":""},null,null,null,null,null,0]
[null,null,{"$f":"IF(はじめに出場選手の入力!C43=\"\",\"\",はじめに出場選手の入力!C43)","v":""},{"$f":"IF(はじめに出場選手の入力!D43=\"\",\"\",はじめに出場選手の入力!D43)","v":""},{"$f":"IF(はじめに出場選手の入力!E43=\"\",\"\",はじめに出場選手の入力!E43)","v":""},{"$f":"IF(はじめに出場選手の入力!F43=\"\",\"\",はじめに出場選手の入力!F43)","v":""},null,null,null,null,null,0]
[null,null,{"$f":"IF(はじめに出場選手の入力!C44=\"\",\"\",はじめに出場選手の入力!C44)","v":""},{"$f":"IF(はじめに出場選手の入力!D44=\"\",\"\",はじめに出場選手の入力!D44)","v":""},{"$f":"IF(はじめに出場選手の入力!E44=\"\",\"\",はじめに出場選手の入力!E44)","v":""},{"$f":"IF(はじめに出場選手の入力!F44=\"\",\"\",はじめに出場選手の入力!F44)","v":""},null,null,null,null,null,0]
[null,null,null,null,null,null,null,null,null,null,null,null,null,"男子混成種目エントリー合計",null,null,"女子混成種目エントリー合計"]
[null,null,"女子","※自己記録(得点)または　「なし」　を入力しないとエントリーできません。",null,null,null,null,null,null,null,null,null,{"$f":"SUM(L5:L34)","v":0},null,null,{"$f":"SUM(L40:L68)","v":0}]
[]
[null,null,null,null,null,null,null,null,null,null,null,null,null,"試技順作成の資料としますので、できるだけベスト記録等を記入してください。"]
["no.","県名","ﾅﾝﾊﾞｰ","選　手　名","所属","学年","四種","五種","七種","十種",null,"混成のエントリー数",null,"100mH","走高跳","砲丸投","200m","走幅跳","やり投","800m"]
[1,null,{"$f":"IF(はじめに出場選手の入力!J15=\"\",\"\",はじめに出場選手の入力!J15)","v":""},{"$f":"IF(はじめに出場選手の入力!K15=\"\",\"\",はじめに出場選手の入力!K15)","v":""},{"$f":"IF(はじめに出場選手の入力!L15=\"\",\"\",はじめに出場選手の入力!L15)","v":""},{"$f":"IF(はじめに出場選手の入力!M15=\"\",\"\",はじめに出場選手の入力!M15)","v":""},null,null,null,null,null,{"$f":"COUNTA(G40:J40)","v":0}]
[2,null,{"$f":"IF(はじめに出場選手の入力!J16=\"\",\"\",はじめに出場選手の入力!J16)","v":""},{"$f":"IF(はじめに出場選手の入力!K16=\"\",\"\",はじめに出場選手の入力!K16)","v":""},{"$f":"IF(はじめに出場選手の入力!L16=\"\",\"\",はじめに出場選手の入力!L16)","v":""},{"$f":"IF(はじめに出場選手の入力!M16=\"\",\"\",はじめに出場選手の入力!M16)","v":""},null,null,null,null,null,{"$f":"COUNTA(G41:J41)","v":0}]
[3,null,{"$f":"IF(はじめに出場選手の入力!J17=\"\",\"\",はじめに出場選手の入力!J17)","v":""},{"$f":"IF(はじめに出場選手の入力!K17=\"\",\"\",はじめに出場選手の入力!K17)","v":""},{"$f":"IF(はじめに出場選手の入力!L17=\"\",\"\",はじめに出場選手の入力!L17)","v":""},{"$f":"IF(はじめに出場選手の入力!M17=\"\",\"\",はじめに出場選手の入力!M17)","v":""},null,null,null,null,null,0]
[4,null,{"$f":"IF(はじめに出場選手の入力!J18=\"\",\"\",はじめに出場選手の入力!J18)","v":""},{"$f":"IF(はじめに出場選手の入力!K18=\"\",\"\",はじめに出場選手の入力!K18)","v":""},{"$f":"IF(はじめに出場選手の入力!L18=\"\",\"\",はじめに出場選手の入力!L18)","v":""},{"$f":"IF(はじめに出場選手の入力!M18=\"\",\"\",はじめに出場選手の入力!M18)","v":""},null,null,null,null,null,0]
[5,null,{"$f":"IF(はじめに出場選手の入力!J19=\"\",\"\",はじめに出場選手の入力!J19)","v":""},{"$f":"IF(はじめに出場選手の入力!K19=\"\",\"\",はじめに出場選手の入力!K19)","v":""},{"$f":"IF(はじめに出場選手の入力!L19=\"\",\"\",はじめに出場選手の入力!L19)","v":""},{"$f":"IF(はじめに出場選手の入力!M19=\"\",\"\",はじめに出場選手の入力!M19)","v":""},null,null,null,null,null,0]
[6,null,{"$f":"IF(はじめに出場選手の入力!J20=\"\",\"\",はじめに出場選手の入力!J20)","v":""},{"$f":"IF(はじめに出場選手の入力!K20=\"\",\"\",はじめに出場選手の入力!K20)","v":""},{"$f":"IF(はじめに出場選手の入力!L20=\"\",\"\",はじめに出場選手の入力!L20)","v":""},{"$f":"IF(はじめに出場選手の入力!M20=\"\",\"\",はじめに出場選手の入力!M20)","v":""},null,null,null,null,null,0]
[7,null,{"$f":"IF(はじめに出場選手の入力!J21=\"\",\"\",はじめに出場選手の入力!J21)","v":""},{"$f":"IF(はじめに出場選手の入力!K21=\"\",\"\",はじめに出場選手の入力!K21)","v":""},{"$f":"IF(はじめに出場選手の入力!L21=\"\",\"\",はじめに出場選手の入力!L21)","v":""},{"$f":"IF(はじめに出場選手の入力!M21=\"\",\"\",はじめに出場選手の入力!M21)","v":""},null,null,null,null,null,0]
[8,null,{"$f":"IF(はじめに出場選手の入力!J22=\"\",\"\",はじめに出場選手の入力!J22)","v":""},{"$f":"IF(はじめに出場選手の入力!K22=\"\",\"\",はじめに出場選手の入力!K22)","v":""},{"$f":"IF(はじめに出場選手の入力!L22=\"\",\"\",はじめに出場選手の入力!L22)","v":""},{"$f":"IF(はじめに出場選手の入力!M22=\"\",\"\",はじめに出場選手の入力!M22)","v":""},null,null,null,null,null,0]
[9,null,{"$f":"IF(はじめに出場選手の入力!J23=\"\",\"\",はじめに出場選手の入力!J23)","v":""},{"$f":"IF(はじめに出場選手の入力!K23=\"\",\"\",はじめに出場選手の入力!K23)","v":""},{"$f":"IF(はじめに出場選手の入力!L23=\"\",\"\",はじめに出場選手の入力!L23)","v":""},{"$f":"IF(はじめに出場選手の入力!M23=\"\",\"\",はじめに出場選手の入力!M23)","v":""},null,null,null,null,null,0]
[10,null,{"$f":"IF(はじめに出場選手の入力!J24=\"\",\"\",はじめに出場選手の入力!J24)","v":""},{"$f":"IF(はじめに出場選手の入力!K24=\"\",\"\",はじめに出場選手の入力!K24)","v":""},{"$f":"IF(はじめに出場選手の入力!L24=\"\",\"\",はじめに出場選手の入力!L24)","v":""},{"$f":"IF(はじめに出場選手の入力!M24=\"\",\"\",はじめに出場選手の入力!M24)","v":""},null,null,null,null,null,0]
[11,null,{"$f":"IF(はじめに出場選手の入力!J25=\"\",\"\",はじめに出場選手の入力!J25)","v":""},{"$f":"IF(はじめに出場選手の入力!K25=\"\",\"\",はじめに出場選手の入力!K25)","v":""},{"$f":"IF(はじめに出場選手の入力!L25=\"\",\"\",はじめに出場選手の入力!L25)","v":""},{"$f":"IF(はじめに出場選手の入力!M25=\"\",\"\",はじめに出場選手の入力!M25)","v":""},null,null,null,null,null,0]
[12,null,{"$f":"IF(はじめに出場選手の入力!J26=\"\",\"\",はじめに出場選手の入力!J26)","v":""},{"$f":"IF(はじめに出場選手の入力!K26=\"\",\"\",はじめに出場選手の入力!K26)","v":""},{"$f":"IF(はじめに出場選手の入力!L26=\"\",\"\",はじめに出場選手の入力!L26)","v":""},{"$f":"IF(はじめに出場選手の入力!M26=\"\",\"\",はじめに出場選手の入力!M26)","v":""},null,null,null,null,null,0]
[13,null,{"$f":"IF(はじめに出場選手の入力!J27=\"\",\"\",はじめに出場選手の入力!J27)","v":""},{"$f":"IF(はじめに出場選手の入力!K27=\"\",\"\",はじめに出場選手の入力!K27)","v":""},{"$f":"IF(はじめに出場選手の入力!L27=\"\",\"\",はじめに出場選手の入力!L27)","v":""},{"$f":"IF(はじめに出場選手の入力!M27=\"\",\"\",はじめに出場選手の入力!M27)","v":""},null,null,null,null,null,0]
[14,null,{"$f":"IF(はじめに出場選手の入力!J28=\"\",\"\",はじめに出場選手の入力!J28)","v":""},{"$f":"IF(はじめに出場選手の入力!K28=\"\",\"\",はじめに出場選手の入力!K28)","v":""},{"$f":"IF(はじめに出場選手の入力!L28=\"\",\"\",はじめに出場選手の入力!L28)","v":""},{"$f":"IF(はじめに出場選手の入力!M28=\"\",\"\",はじめに出場選手の入力!M28)","v":""},null,null,null,null,null,0]
[15,null,{"$f":"IF(はじめに出場選手の入力!J29=\"\",\"\",はじめに出場選手の入力!J29)","v":""},{"$f":"IF(はじめに出場選手の入力!K29=\"\",\"\",はじめに出場選手の入力!K29)","v":""},{"$f":"IF(はじめに出場選手の入力!L29=\"\",\"\",はじめに出場選手の入力!L29)","v":""},{"$f":"IF(はじめに出場選手の入力!M29=\"\",\"\",はじめに出場選手の入力!M29)","v":""},null,null,null,null,null,0]
[16,null,{"$f":"IF(はじめに出場選手の入力!J30=\"\",\"\",はじめに出場選手の入力!J30)","v":""},{"$f":"IF(はじめに出場選手の入力!K30=\"\",\"\",はじめに出場選手の入力!K30)","v":""},{"$f":"IF(はじめに出場選手の入力!L30=\"\",\"\",はじめに出場選手の入力!L30)","v":""},{"$f":"IF(はじめに出場選手の入力!M30=\"\",\"\",はじめに出場選手の入力!M30)","v":""},null,null,null,null,null,0]
[17,null,{"$f":"IF(はじめに出場選手の入力!J31=\"\",\"\",はじめに出場選手の入力!J31)","v":""},{"$f":"IF(はじめに出場選手の入力!K31=\"\",\"\",はじめに出場選手の入力!K31)","v":""},{"$f":"IF(はじめに出場選手の入力!L31=\"\",\"\",はじめに出場選手の入力!L31)","v":""},{"$f":"IF(はじめに出場選手の入力!M31=\"\",\"\",はじめに出場選手の入力!M31)","v":""},null,null,null,null,null,0]
[18,null,{"$f":"IF(はじめに出場選手の入力!J32=\"\",\"\",はじめに出場選手の入力!J32)","v":""},{"$f":"IF(はじめに出場選手の入力!K32=\"\",\"\",はじめに出場選手の入力!K32)","v":""},{"$f":"IF(はじめに出場選手の入力!L32=\"\",\"\",はじめに出場選手の入力!L32)","v":""},{"$f":"IF(はじめに出場選手の入力!M32=\"\",\"\",はじめに出場選手の入力!M32)","v":""},null,null,null,null,null,0]
[19,null,{"$f":"IF(はじめに出場選手の入力!J33=\"\",\"\",はじめに出場選手の入力!J33)","v":""},{"$f":"IF(はじめに出場選手の入力!K33=\"\",\"\",はじめに出場選手の入力!K33)","v":""},{"$f":"IF(はじめに出場選手の入力!L33=\"\",\"\",はじめに出場選手の入力!L33)","v":""},{"$f":"IF(はじめに出場選手の入力!M33=\"\",\"\",はじめに出場選手の入力!M33)","v":""},null,null,null,null,null,0]
[20,null,{"$f":"IF(はじめに出場選手の入力!J34=\"\",\"\",はじめに出場選手の入力!J34)","v":""},{"$f":"IF(はじめに出場選手の入力!K34=\"\",\"\",はじめに出場選手の入力!K34)","v":""},{"$f":"IF(はじめに出場選手の入力!L34=\"\",\"\",はじめに出場選手の入力!L34)","v":""},{"$f":"IF(はじめに出場選手の入力!M34=\"\",\"\",はじめに出場選手の入力!M34)","v":""},null,null,null,null,null,0]
[21,null,{"$f":"IF(はじめに出場選手の入力!J35=\"\",\"\",はじめに出場選手の入力!J35)","v":""},{"$f":"IF(はじめに出場選手の入力!K35=\"\",\"\",はじめに出場選手の入力!K35)","v":""},{"$f":"IF(はじめに出場選手の入力!L35=\"\",\"\",はじめに出場選手の入力!L35)","v":""},{"$f":"IF(はじめに出場選手の入力!M35=\"\",\"\",はじめに出場選手の入力!M35)","v":""},null,null,null,null,null,0]
[22,null,{"$f":"IF(はじめに出場選手の入力!J36=\"\",\"\",はじめに出場選手の入力!J36)","v":""},{"$f":"IF(はじめに出場選手の入力!K36=\"\",\"\",はじめに出場選手の入力!K36)","v":""},{"$f":"IF(はじめに出場選手の入力!L36=\"\",\"\",はじめに出場選手の入力!L36)","v":""},{"$f":"IF(はじめに出場選手の入力!M36=\"\",\"\",はじめに出場選手の入力!M36)","v":""},null,null,null,null,null,0]
[23,null,{"$f":"IF(はじめに出場選手の入力!J37=\"\",\"\",はじめに出場選手の入力!J37)","v":""},{"$f":"IF(はじめに出場選手の入力!K37=\"\",\"\",はじめに出場選手の入力!K37)","v":""},{"$f":"IF(はじめに出場選手の入力!L37=\"\",\"\",はじめに出場選手の入力!L37)","v":""},{"$f":"IF(はじめに出場選手の入力!M37=\"\",\"\",はじめに出場選手の入力!M37)","v":""},null,null,null,null,null,0]
[24,null,{"$f":"IF(はじめに出場選手の入力!J38=\"\",\"\",はじめに出場選手の入力!J38)","v":""},{"$f":"IF(はじめに出場選手の入力!K38=\"\",\"\",はじめに出場選手の入力!K38)","v":""},{"$f":"IF(はじめに出場選手の入力!L38=\"\",\"\",はじめに出場選手の入力!L38)","v":""},{"$f":"IF(はじめに出場選手の入力!M38=\"\",\"\",はじめに出場選手の入力!M38)","v":""},null,null,null,null,null,0]
[25,null,{"$f":"IF(はじめに出場選手の入力!J39=\"\",\"\",はじめに出場選手の入力!J39)","v":""},{"$f":"IF(はじめに出場選手の入力!K39=\"\",\"\",はじめに出場選手の入力!K39)","v":""},{"$f":"IF(はじめに出場選手の入力!L39=\"\",\"\",はじめに出場選手の入力!L39)","v":""},{"$f":"IF(はじめに出場選手の入力!M39=\"\",\"\",はじめに出場選手の入力!M39)","v":""},null,null,null,null,null,0]
[null,null,{"$f":"IF(はじめに出場選手の入力!J40=\"\",\"\",はじめに出場選手の入力!J40)","v":""},{"$f":"IF(はじめに出場選手の入力!K40=\"\",\"\",はじめに出場選手の入力!K40)","v":""},{"$f":"IF(はじめに出場選手の入力!L40=\"\",\"\",はじめに出場選手の入力!L40)","v":""},{"$f":"IF(はじめに出場選手の入力!M40=\"\",\"\",はじめに出場選手の入力!M40)","v":""},null,null,null,null,null,0]
[null,null,{"$f":"IF(はじめに出場選手の入力!J41=\"\",\"\",はじめに出場選手の入力!J41)","v":""},{"$f":"IF(はじめに出場選手の入力!K41=\"\",\"\",はじめに出場選手の入力!K41)","v":""},{"$f":"IF(はじめに出場選手の入力!L41=\"\",\"\",はじめに出場選手の入力!L41)","v":""},{"$f":"IF(はじめに出場選手の入力!M41=\"\",\"\",はじめに出場選手の入力!M41)","v":""},null,null,null,null,null,{"$f":"COUNTA(G66:J66)","v":0}]
[null,null,{"$f":"IF(はじめに出場選手の入力!J42=\"\",\"\",はじめに出場選手の入力!J42)","v":""},{"$f":"IF(はじめに出場選手の入力!K42=\"\",\"\",はじめに出場選手の入力!K42)","v":""},{"$f":"IF(はじめに出場選手の入力!L42=\"\",\"\",はじめに出場選手の入力!L42)","v":""},{"$f":"IF(はじめに出場選手の入力!M42=\"\",\"\",はじめに出場選手の入力!M42)","v":""},null,null,null,null,null,0]
[null,null,{"$f":"IF(はじめに出場選手の入力!J43=\"\",\"\",はじめに出場選手の入力!J43)","v":""},{"$f":"IF(はじめに出場選手の入力!K43=\"\",\"\",はじめに出場選手の入力!K43)","v":""},{"$f":"IF(はじめに出場選手の入力!L43=\"\",\"\",はじめに出場選手の入力!L43)","v":""},{"$f":"IF(はじめに出場選手の入力!M43=\"\",\"\",はじめに出場選手の入力!M43)","v":""},null,null,null,null,null,0]
[null,null,{"$f":"IF(はじめに出場選手の入力!J44=\"\",\"\",はじめに出場選手の入力!J44)","v":""},{"$f":"IF(はじめに出場選手の入力!K44=\"\",\"\",はじめに出場選手の入力!K44)","v":""},{"$f":"IF(はじめに出場選手の入力!L44=\"\",\"\",はじめに出場選手の入力!L44)","v":""},{"$f":"IF(はじめに出場選手の入力!M44=\"\",\"\",はじめに出場選手の入力!M44)","v":""},null,null,null,null,null,0]